BEGIN:VCALENDAR
VERSION:2.0
PRODID:-//Evangelische Kirche Dölau-Lieskau / Lettin - ECPv6.15.17.1//NONSGML v1.0//EN
CALSCALE:GREGORIAN
METHOD:PUBLISH
X-WR-CALNAME:Evangelische Kirche Dölau-Lieskau / Lettin
X-ORIGINAL-URL:https://kirche-dll.de
X-WR-CALDESC:Veranstaltungen für Evangelische Kirche Dölau-Lieskau / Lettin
REFRESH-INTERVAL;VALUE=DURATION:PT1H
X-Robots-Tag:noindex
X-PUBLISHED-TTL:PT1H
BEGIN:VTIMEZONE
TZID:Europe/Berlin
BEGIN:DAYLIGHT
TZOFFSETFROM:+0100
TZOFFSETTO:+0200
TZNAME:CEST
DTSTART:20220327T010000
END:DAYLIGHT
BEGIN:STANDARD
TZOFFSETFROM:+0200
TZOFFSETTO:+0100
TZNAME:CET
DTSTART:20221030T010000
END:STANDARD
BEGIN:DAYLIGHT
TZOFFSETFROM:+0100
TZOFFSETTO:+0200
TZNAME:CEST
DTSTART:20230326T010000
END:DAYLIGHT
BEGIN:STANDARD
TZOFFSETFROM:+0200
TZOFFSETTO:+0100
TZNAME:CET
DTSTART:20231029T010000
END:STANDARD
BEGIN:DAYLIGHT
TZOFFSETFROM:+0100
TZOFFSETTO:+0200
TZNAME:CEST
DTSTART:20240331T010000
END:DAYLIGHT
BEGIN:STANDARD
TZOFFSETFROM:+0200
TZOFFSETTO:+0100
TZNAME:CET
DTSTART:20241027T010000
END:STANDARD
END:VTIMEZONE
BEGIN:VEVENT
DTSTART;TZID=Europe/Berlin:20230917T100000
DTEND;TZID=Europe/Berlin:20230917T140000
DTSTAMP:20260420T011547
CREATED:20230816T132111Z
LAST-MODIFIED:20230816T132111Z
UID:10008328-1694944800-1694959200@kirche-dll.de
SUMMARY:Einladung zum Katholischen Familiensonntag auf dem Petersberg
DESCRIPTION:FAMILIENSONNTAG AUF DEM PETERSBERG\n\nDas Zusammensein beginnt 10.00 Uhr mit dem (katholischen) Gottesdienst und endet mit einer Andacht.\nZwischendurch ist Zeit zum Reden und einander Kennenlernen. Auf den Wiesen rund um die Stiftskirche können sie ihr Picknick essen oder einen Kaffee vom bunten Kuchenbuffet der Sankt Franziskus Grundschule Halle trinken. Und sie können an einigen Stände stöbern; u.a.: bei der Buchhandlung Molsberger aus Halle und der Caritas. Die Pfadfinder der DPSG treffen Sie am Zelt\, dort können Ihre Kinder Stockbrot am Feuer backen.\nBitte kommen Sie und feiern mit uns; ob allein\, zu zweit oder mit der ganzen Familie.
URL:https://kirche-dll.de/termin/einladung-zum-katholischen-familiensonntag-auf-dem-petersberg/
LOCATION:Stiftskirche Petersberg\, Bergweg 11\, Petersberg\, 06193\, Deutschland
CATEGORIES:Erwachsene,Familien,Gottesdienste,Jugendliche,Kinder,Ökumene,Senioren
END:VEVENT
END:VCALENDAR