BEGIN:VCALENDAR
VERSION:2.0
PRODID:-//Evangelische Kirche DÃ¶lau-Lieskau / Lettin - ECPv6.15.17.1//NONSGML v1.0//EN
CALSCALE:GREGORIAN
METHOD:PUBLISH
X-ORIGINAL-URL:https://kirche-dll.de
X-WR-CALDESC:Veranstaltungen fÃ¼r Evangelische Kirche DÃ¶lau-Lieskau / Lettin
REFRESH-INTERVAL;VALUE=DURATION:PT1H
X-Robots-Tag:noindex
X-PUBLISHED-TTL:PT1H
BEGIN:VTIMEZONE
TZID:Europe/Berlin
BEGIN:DAYLIGHT
TZOFFSETFROM:+0100
TZOFFSETTO:+0200
TZNAME:CEST
DTSTART:20190331T010000
END:DAYLIGHT
BEGIN:STANDARD
TZOFFSETFROM:+0200
TZOFFSETTO:+0100
TZNAME:CET
DTSTART:20191027T010000
END:STANDARD
BEGIN:DAYLIGHT
TZOFFSETFROM:+0100
TZOFFSETTO:+0200
TZNAME:CEST
DTSTART:20200329T010000
END:DAYLIGHT
BEGIN:STANDARD
TZOFFSETFROM:+0200
TZOFFSETTO:+0100
TZNAME:CET
DTSTART:20201025T010000
END:STANDARD
BEGIN:DAYLIGHT
TZOFFSETFROM:+0100
TZOFFSETTO:+0200
TZNAME:CEST
DTSTART:20210328T010000
END:DAYLIGHT
BEGIN:STANDARD
TZOFFSETFROM:+0200
TZOFFSETTO:+0100
TZNAME:CET
DTSTART:20211031T010000
END:STANDARD
BEGIN:DAYLIGHT
TZOFFSETFROM:+0100
TZOFFSETTO:+0200
TZNAME:CEST
DTSTART:20220327T010000
END:DAYLIGHT
BEGIN:STANDARD
TZOFFSETFROM:+0200
TZOFFSETTO:+0100
TZNAME:CET
DTSTART:20221030T010000
END:STANDARD
END:VTIMEZONE
BEGIN:VEVENT
DTSTART;TZID=Europe/Berlin:20210129T170000
DTEND;TZID=Europe/Berlin:20210129T180000
DTSTAMP:20260423T195958
CREATED:20191127T201307Z
LAST-MODIFIED:20191127T201307Z
UID:10006901-1611939600-1611943200@kirche-dll.de
SUMMARY:Musik- / Gitarrengruppe
DESCRIPTION:Gemeinsam mit Horst Sturm Gitarre spielen lernen\, Songs begleiten und neue KlÃ¤nge in unseren Veranstaltungen erklingen lassen.
URL:https://kirche-dll.de/termin/musik-gitarrengruppe/2021-01-29/
LOCATION:Gemeindehaus DÃ¶lau\, Franz-Mehring-Str. 9b\, Halle\, 06120\, Deutschland
CATEGORIES:Musik
END:VEVENT
BEGIN:VEVENT
DTSTART;TZID=Europe/Berlin:20210122T170000
DTEND;TZID=Europe/Berlin:20210122T180000
DTSTAMP:20260423T195958
CREATED:20191127T201307Z
LAST-MODIFIED:20191127T201307Z
UID:10006900-1611334800-1611338400@kirche-dll.de
SUMMARY:Musik- / Gitarrengruppe
DESCRIPTION:Gemeinsam mit Horst Sturm Gitarre spielen lernen\, Songs begleiten und neue KlÃ¤nge in unseren Veranstaltungen erklingen lassen.
URL:https://kirche-dll.de/termin/musik-gitarrengruppe/2021-01-22/
LOCATION:Gemeindehaus DÃ¶lau\, Franz-Mehring-Str. 9b\, Halle\, 06120\, Deutschland
CATEGORIES:Musik
END:VEVENT
BEGIN:VEVENT
DTSTART;TZID=Europe/Berlin:20210119T180000
DTEND;TZID=Europe/Berlin:20210119T193000
DTSTAMP:20260423T195958
CREATED:20191121T215327Z
LAST-MODIFIED:20200925T115456Z
UID:10006811-1611079200-1611084600@kirche-dll.de
SUMMARY:Konfi-Zeit
DESCRIPTION:Zur Vorbereitung auf die Konfirmation treffen sich Jugendliche der 7. und 8. Klassen dienstags\, 18.00 bis 19.30 Uhr im DÃ¶lauer Gemeindehaus.
URL:https://kirche-dll.de/termin/konfi-zeit-id3451/2021-01-19/
LOCATION:Gemeindehaus DÃ¶lau\, Franz-Mehring-Str. 9b\, Halle\, 06120\, Deutschland
CATEGORIES:Jugendliche
END:VEVENT
BEGIN:VEVENT
DTSTART;TZID=Europe/Berlin:20210115T170000
DTEND;TZID=Europe/Berlin:20210115T180000
DTSTAMP:20260423T195958
CREATED:20191127T201307Z
LAST-MODIFIED:20191127T201307Z
UID:10006899-1610730000-1610733600@kirche-dll.de
SUMMARY:Musik- / Gitarrengruppe
DESCRIPTION:Gemeinsam mit Horst Sturm Gitarre spielen lernen\, Songs begleiten und neue KlÃ¤nge in unseren Veranstaltungen erklingen lassen.
URL:https://kirche-dll.de/termin/musik-gitarrengruppe/2021-01-15/
LOCATION:Gemeindehaus DÃ¶lau\, Franz-Mehring-Str. 9b\, Halle\, 06120\, Deutschland
CATEGORIES:Musik
END:VEVENT
BEGIN:VEVENT
DTSTART;TZID=Europe/Berlin:20210108T170000
DTEND;TZID=Europe/Berlin:20210108T180000
DTSTAMP:20260423T195958
CREATED:20191127T201307Z
LAST-MODIFIED:20191127T201307Z
UID:10006898-1610125200-1610128800@kirche-dll.de
SUMMARY:Musik- / Gitarrengruppe
DESCRIPTION:Gemeinsam mit Horst Sturm Gitarre spielen lernen\, Songs begleiten und neue KlÃ¤nge in unseren Veranstaltungen erklingen lassen.
URL:https://kirche-dll.de/termin/musik-gitarrengruppe/2021-01-08/
LOCATION:Gemeindehaus DÃ¶lau\, Franz-Mehring-Str. 9b\, Halle\, 06120\, Deutschland
CATEGORIES:Musik
END:VEVENT
BEGIN:VEVENT
DTSTART;TZID=Europe/Berlin:20210101T170000
DTEND;TZID=Europe/Berlin:20210101T180000
DTSTAMP:20260423T195958
CREATED:20191127T201307Z
LAST-MODIFIED:20191127T201307Z
UID:10006897-1609520400-1609524000@kirche-dll.de
SUMMARY:Musik- / Gitarrengruppe
DESCRIPTION:Gemeinsam mit Horst Sturm Gitarre spielen lernen\, Songs begleiten und neue KlÃ¤nge in unseren Veranstaltungen erklingen lassen.
URL:https://kirche-dll.de/termin/musik-gitarrengruppe/2021-01-01/
LOCATION:Gemeindehaus DÃ¶lau\, Franz-Mehring-Str. 9b\, Halle\, 06120\, Deutschland
CATEGORIES:Musik
END:VEVENT
BEGIN:VEVENT
DTSTART;TZID=Europe/Berlin:20201225T170000
DTEND;TZID=Europe/Berlin:20201225T180000
DTSTAMP:20260423T195958
CREATED:20191127T201307Z
LAST-MODIFIED:20191127T201307Z
UID:10006896-1608915600-1608919200@kirche-dll.de
SUMMARY:Musik- / Gitarrengruppe
DESCRIPTION:Gemeinsam mit Horst Sturm Gitarre spielen lernen\, Songs begleiten und neue KlÃ¤nge in unseren Veranstaltungen erklingen lassen.
URL:https://kirche-dll.de/termin/musik-gitarrengruppe/2020-12-25/
LOCATION:Gemeindehaus DÃ¶lau\, Franz-Mehring-Str. 9b\, Halle\, 06120\, Deutschland
CATEGORIES:Musik
END:VEVENT
BEGIN:VEVENT
DTSTART;TZID=Europe/Berlin:20201218T170000
DTEND;TZID=Europe/Berlin:20201218T180000
DTSTAMP:20260423T195958
CREATED:20191127T201307Z
LAST-MODIFIED:20191127T201307Z
UID:10006895-1608310800-1608314400@kirche-dll.de
SUMMARY:Musik- / Gitarrengruppe
DESCRIPTION:Gemeinsam mit Horst Sturm Gitarre spielen lernen\, Songs begleiten und neue KlÃ¤nge in unseren Veranstaltungen erklingen lassen.
URL:https://kirche-dll.de/termin/musik-gitarrengruppe/2020-12-18/
LOCATION:Gemeindehaus DÃ¶lau\, Franz-Mehring-Str. 9b\, Halle\, 06120\, Deutschland
CATEGORIES:Musik
END:VEVENT
BEGIN:VEVENT
DTSTART;TZID=Europe/Berlin:20201212T100000
DTEND;TZID=Europe/Berlin:20201212T120000
DTSTAMP:20260423T195958
CREATED:20201103T103028Z
LAST-MODIFIED:20201202T123144Z
UID:10007128-1607767200-1607774400@kirche-dll.de
SUMMARY:Adventsbasteln im Gemeindehaus - muss leider entfallen
DESCRIPTION:
URL:https://kirche-dll.de/termin/adventsbasteln-im-gemeindehaus-muss-leider-entfallen-id6666/
LOCATION:Gemeindehaus DÃ¶lau\, Franz-Mehring-Str. 9b\, Halle\, 06120\, Deutschland
END:VEVENT
BEGIN:VEVENT
DTSTART;TZID=Europe/Berlin:20201211T170000
DTEND;TZID=Europe/Berlin:20201211T180000
DTSTAMP:20260423T195958
CREATED:20191127T201307Z
LAST-MODIFIED:20191127T201307Z
UID:10006894-1607706000-1607709600@kirche-dll.de
SUMMARY:Musik- / Gitarrengruppe
DESCRIPTION:Gemeinsam mit Horst Sturm Gitarre spielen lernen\, Songs begleiten und neue KlÃ¤nge in unseren Veranstaltungen erklingen lassen.
URL:https://kirche-dll.de/termin/musik-gitarrengruppe/2020-12-11/
LOCATION:Gemeindehaus DÃ¶lau\, Franz-Mehring-Str. 9b\, Halle\, 06120\, Deutschland
CATEGORIES:Musik
END:VEVENT
BEGIN:VEVENT
DTSTART;TZID=Europe/Berlin:20201208T180000
DTEND;TZID=Europe/Berlin:20201208T193000
DTSTAMP:20260423T195958
CREATED:20191121T215327Z
LAST-MODIFIED:20200925T115456Z
UID:10006810-1607450400-1607455800@kirche-dll.de
SUMMARY:Konfi-Zeit
DESCRIPTION:Zur Vorbereitung auf die Konfirmation treffen sich Jugendliche der 7. und 8. Klassen dienstags\, 18.00 bis 19.30 Uhr im DÃ¶lauer Gemeindehaus.
URL:https://kirche-dll.de/termin/konfi-zeit-id3451/2020-12-08/
LOCATION:Gemeindehaus DÃ¶lau\, Franz-Mehring-Str. 9b\, Halle\, 06120\, Deutschland
CATEGORIES:Jugendliche
END:VEVENT
BEGIN:VEVENT
DTSTART;TZID=Europe/Berlin:20201204T170000
DTEND;TZID=Europe/Berlin:20201204T180000
DTSTAMP:20260423T195958
CREATED:20191127T201307Z
LAST-MODIFIED:20191127T201307Z
UID:10006893-1607101200-1607104800@kirche-dll.de
SUMMARY:Musik- / Gitarrengruppe
DESCRIPTION:Gemeinsam mit Horst Sturm Gitarre spielen lernen\, Songs begleiten und neue KlÃ¤nge in unseren Veranstaltungen erklingen lassen.
URL:https://kirche-dll.de/termin/musik-gitarrengruppe/2020-12-04/
LOCATION:Gemeindehaus DÃ¶lau\, Franz-Mehring-Str. 9b\, Halle\, 06120\, Deutschland
CATEGORIES:Musik
END:VEVENT
BEGIN:VEVENT
DTSTART;TZID=Europe/Berlin:20201129T170000
DTEND;TZID=Europe/Berlin:20201129T173000
DTSTAMP:20260423T195958
CREATED:20201103T092523Z
LAST-MODIFIED:20201103T092523Z
UID:10007109-1606669200-1606671000@kirche-dll.de
SUMMARY:Lichtergottesdienst am 1. Advent openAir
DESCRIPTION:Auf der Wiese am Gemeindehaus DÃ¶lau beginnen wir das neue Kirchenjahr.\nBitte denken Sie daran\, Ihren Mund-Nasenschutz mitzubringen und halten Sie die Hygiene- und Abstandsregeln ein.\nVielen Dank!
URL:https://kirche-dll.de/termin/lichtergottesdienst-am-1-advent-openair-id6598/
LOCATION:Gemeindehaus DÃ¶lau\, Franz-Mehring-Str. 9b\, Halle\, 06120\, Deutschland
CATEGORIES:Erwachsene,Familien,Gottesdienste,Jugendliche,Kinder
END:VEVENT
BEGIN:VEVENT
DTSTART;TZID=Europe/Berlin:20201127T170000
DTEND;TZID=Europe/Berlin:20201127T180000
DTSTAMP:20260423T195958
CREATED:20191127T201307Z
LAST-MODIFIED:20191127T201307Z
UID:10006892-1606496400-1606500000@kirche-dll.de
SUMMARY:Musik- / Gitarrengruppe
DESCRIPTION:Gemeinsam mit Horst Sturm Gitarre spielen lernen\, Songs begleiten und neue KlÃ¤nge in unseren Veranstaltungen erklingen lassen.
URL:https://kirche-dll.de/termin/musik-gitarrengruppe/2020-11-27/
LOCATION:Gemeindehaus DÃ¶lau\, Franz-Mehring-Str. 9b\, Halle\, 06120\, Deutschland
CATEGORIES:Musik
END:VEVENT
BEGIN:VEVENT
DTSTART;TZID=Europe/Berlin:20201125T193000
DTEND;TZID=Europe/Berlin:20201125T203000
DTSTAMP:20260423T195958
CREATED:20201103T102853Z
LAST-MODIFIED:20201107T070344Z
UID:10007127-1606332600-1606336200@kirche-dll.de
SUMMARY:FÃ¤llt aus - Gemeindeabend zur DÃ¶lauer Orgel - muss leider verschoben werden!!
DESCRIPTION:Leider mÃ¼ssen wir den Gemeindeabend verschieben\, wir bitten um VerstÃ¤ndnis. \nWas fÃ¼r eine Orgel wollen wir fÃ¼r die DÃ¶lauer Kirche? Herzlich willkommen zum Gedankenaustausch. \n 
URL:https://kirche-dll.de/termin/faellt-aus-gemeindeabend-zur-doelauer-orgel-muss-leider-verschoben-werden-id6664/
LOCATION:Gemeindehaus DÃ¶lau\, Franz-Mehring-Str. 9b\, Halle\, 06120\, Deutschland
END:VEVENT
BEGIN:VEVENT
DTSTART;TZID=Europe/Berlin:20201124T180000
DTEND;TZID=Europe/Berlin:20201124T193000
DTSTAMP:20260423T195958
CREATED:20191121T215327Z
LAST-MODIFIED:20200925T115456Z
UID:10006809-1606240800-1606246200@kirche-dll.de
SUMMARY:Konfi-Zeit
DESCRIPTION:Zur Vorbereitung auf die Konfirmation treffen sich Jugendliche der 7. und 8. Klassen dienstags\, 18.00 bis 19.30 Uhr im DÃ¶lauer Gemeindehaus.
URL:https://kirche-dll.de/termin/konfi-zeit-id3451/2020-11-24/
LOCATION:Gemeindehaus DÃ¶lau\, Franz-Mehring-Str. 9b\, Halle\, 06120\, Deutschland
CATEGORIES:Jugendliche
END:VEVENT
BEGIN:VEVENT
DTSTART;TZID=Europe/Berlin:20201120T170000
DTEND;TZID=Europe/Berlin:20201120T180000
DTSTAMP:20260423T195958
CREATED:20191127T201307Z
LAST-MODIFIED:20191127T201307Z
UID:10006891-1605891600-1605895200@kirche-dll.de
SUMMARY:Musik- / Gitarrengruppe
DESCRIPTION:Gemeinsam mit Horst Sturm Gitarre spielen lernen\, Songs begleiten und neue KlÃ¤nge in unseren Veranstaltungen erklingen lassen.
URL:https://kirche-dll.de/termin/musik-gitarrengruppe/2020-11-20/
LOCATION:Gemeindehaus DÃ¶lau\, Franz-Mehring-Str. 9b\, Halle\, 06120\, Deutschland
CATEGORIES:Musik
END:VEVENT
BEGIN:VEVENT
DTSTART;TZID=Europe/Berlin:20201115T190000
DTEND;TZID=Europe/Berlin:20201115T200000
DTSTAMP:20260423T195958
CREATED:20201002T091603Z
LAST-MODIFIED:20201002T091603Z
UID:10007088-1605466800-1605470400@kirche-dll.de
SUMMARY:Tanzkreis - AnfÃ¤nger
DESCRIPTION:Wir treffen uns an Sonntagabenden\, um das Tanzbein zu schwingen.\nDabei tanzen wir Standard- und Lateinamerikanische PaartÃ¤nze.\n(Fortgeschrittene von 20:15 bis 21:30 Uhr) \nInformationen: Andreas und Ulrike Simm ulrike.simm@kirche-dll.de
URL:https://kirche-dll.de/termin/tanzkreis-anfaenger-id5994/2020-11-15/
LOCATION:Gemeindehaus DÃ¶lau\, Franz-Mehring-Str. 9b\, Halle\, 06120\, Deutschland
CATEGORIES:Erwachsene,Musik
END:VEVENT
BEGIN:VEVENT
DTSTART;TZID=Europe/Berlin:20201115T190000
DTEND;TZID=Europe/Berlin:20201115T200000
DTSTAMP:20260423T195958
CREATED:20201002T091603Z
LAST-MODIFIED:20201106T130740Z
UID:10007091-1605466800-1605470400@kirche-dll.de
SUMMARY:Tanzkreis - AnfÃ¤nger - Wir machen eine Tanzpause!
DESCRIPTION:Bitte haben Sie VerstÃ¤ndnis dafÃ¼r\, dass wir die Abende bis auf Weiteres einstellen. \nWir treffen uns an Sonntagabenden\, um das Tanzbein zu schwingen.\nDabei tanzen wir Standard- und Lateinamerikanische PaartÃ¤nze.\n(Fortgeschrittene von 20:15 bis 21:30 Uhr) \nInformationen: Andreas und Ulrike Simm ulrike.simm@kirche-dll.de
URL:https://kirche-dll.de/termin/tanzkreis-anfaenger-wir-machen-eine-tanzpause-id5998/2020-11-15/
LOCATION:Gemeindehaus DÃ¶lau\, Franz-Mehring-Str. 9b\, Halle\, 06120\, Deutschland
CATEGORIES:Erwachsene,Musik
END:VEVENT
BEGIN:VEVENT
DTSTART;TZID=Europe/Berlin:20201113T170000
DTEND;TZID=Europe/Berlin:20201113T180000
DTSTAMP:20260423T195958
CREATED:20191127T201307Z
LAST-MODIFIED:20191127T201307Z
UID:10006890-1605286800-1605290400@kirche-dll.de
SUMMARY:Musik- / Gitarrengruppe
DESCRIPTION:Gemeinsam mit Horst Sturm Gitarre spielen lernen\, Songs begleiten und neue KlÃ¤nge in unseren Veranstaltungen erklingen lassen.
URL:https://kirche-dll.de/termin/musik-gitarrengruppe/2020-11-13/
LOCATION:Gemeindehaus DÃ¶lau\, Franz-Mehring-Str. 9b\, Halle\, 06120\, Deutschland
CATEGORIES:Musik
END:VEVENT
BEGIN:VEVENT
DTSTART;TZID=Europe/Berlin:20201110T180000
DTEND;TZID=Europe/Berlin:20201110T193000
DTSTAMP:20260423T195958
CREATED:20191121T215327Z
LAST-MODIFIED:20200925T115456Z
UID:10006808-1605031200-1605036600@kirche-dll.de
SUMMARY:Konfi-Zeit
DESCRIPTION:Zur Vorbereitung auf die Konfirmation treffen sich Jugendliche der 7. und 8. Klassen dienstags\, 18.00 bis 19.30 Uhr im DÃ¶lauer Gemeindehaus.
URL:https://kirche-dll.de/termin/konfi-zeit-id3451/2020-11-10/
LOCATION:Gemeindehaus DÃ¶lau\, Franz-Mehring-Str. 9b\, Halle\, 06120\, Deutschland
CATEGORIES:Jugendliche
END:VEVENT
BEGIN:VEVENT
DTSTART;TZID=Europe/Berlin:20201106T170000
DTEND;TZID=Europe/Berlin:20201106T180000
DTSTAMP:20260423T195958
CREATED:20191127T201307Z
LAST-MODIFIED:20191127T201307Z
UID:10006889-1604682000-1604685600@kirche-dll.de
SUMMARY:Musik- / Gitarrengruppe
DESCRIPTION:Gemeinsam mit Horst Sturm Gitarre spielen lernen\, Songs begleiten und neue KlÃ¤nge in unseren Veranstaltungen erklingen lassen.
URL:https://kirche-dll.de/termin/musik-gitarrengruppe/2020-11-06/
LOCATION:Gemeindehaus DÃ¶lau\, Franz-Mehring-Str. 9b\, Halle\, 06120\, Deutschland
CATEGORIES:Musik
END:VEVENT
BEGIN:VEVENT
DTSTART;TZID=Europe/Berlin:20201103T163000
DTEND;TZID=Europe/Berlin:20201103T173000
DTSTAMP:20260423T195958
CREATED:20191121T213516Z
LAST-MODIFIED:20201103T080306Z
UID:10006802-1604421000-1604424600@kirche-dll.de
SUMMARY:Christenlehre 4.â€“6. Klasse - fÃ¤llt heute leider aus!
DESCRIPTION:Jeden Dienstag sind Kinder herzlich eingeladen in das Gemeindehaus DÃ¶lau.
URL:https://kirche-dll.de/termin/christenlehre-4-6-klasse-faellt-heute-leider-aus-id5771/
LOCATION:Gemeindehaus DÃ¶lau\, Franz-Mehring-Str. 9b\, Halle\, 06120\, Deutschland
CATEGORIES:Kinder
END:VEVENT
BEGIN:VEVENT
DTSTART;TZID=Europe/Berlin:20201103T150000
DTEND;TZID=Europe/Berlin:20201103T160000
DTSTAMP:20260423T195958
CREATED:20191121T213516Z
LAST-MODIFIED:20201103T080041Z
UID:10006801-1604415600-1604419200@kirche-dll.de
SUMMARY:Christenlehre 1.â€“3. Klasse - fÃ¤llt heute leider aus!
DESCRIPTION:Jeden Dienstag sind Kinder herzlich eingeladen in das Gemeindehaus DÃ¶lau.
URL:https://kirche-dll.de/termin/christenlehre-1-3-klasse-faellt-heute-leider-aus-id5498/
LOCATION:Gemeindehaus DÃ¶lau\, Franz-Mehring-Str. 9b\, Halle\, 06120\, Deutschland
CATEGORIES:Kinder
END:VEVENT
BEGIN:VEVENT
DTSTART;TZID=Europe/Berlin:20201101T190000
DTEND;TZID=Europe/Berlin:20201101T200000
DTSTAMP:20260423T195958
CREATED:20201002T091603Z
LAST-MODIFIED:20201002T091603Z
UID:10007087-1604257200-1604260800@kirche-dll.de
SUMMARY:Tanzkreis - AnfÃ¤nger
DESCRIPTION:Wir treffen uns an Sonntagabenden\, um das Tanzbein zu schwingen.\nDabei tanzen wir Standard- und Lateinamerikanische PaartÃ¤nze.\n(Fortgeschrittene von 20:15 bis 21:30 Uhr) \nInformationen: Andreas und Ulrike Simm ulrike.simm@kirche-dll.de
URL:https://kirche-dll.de/termin/tanzkreis-anfaenger-id5994/2020-11-01/
LOCATION:Gemeindehaus DÃ¶lau\, Franz-Mehring-Str. 9b\, Halle\, 06120\, Deutschland
CATEGORIES:Erwachsene,Musik
END:VEVENT
BEGIN:VEVENT
DTSTART;TZID=Europe/Berlin:20201101T190000
DTEND;TZID=Europe/Berlin:20201101T200000
DTSTAMP:20260423T195958
CREATED:20201002T091603Z
LAST-MODIFIED:20201106T130740Z
UID:10007090-1604257200-1604260800@kirche-dll.de
SUMMARY:Tanzkreis - AnfÃ¤nger - Wir machen eine Tanzpause!
DESCRIPTION:Bitte haben Sie VerstÃ¤ndnis dafÃ¼r\, dass wir die Abende bis auf Weiteres einstellen. \nWir treffen uns an Sonntagabenden\, um das Tanzbein zu schwingen.\nDabei tanzen wir Standard- und Lateinamerikanische PaartÃ¤nze.\n(Fortgeschrittene von 20:15 bis 21:30 Uhr) \nInformationen: Andreas und Ulrike Simm ulrike.simm@kirche-dll.de
URL:https://kirche-dll.de/termin/tanzkreis-anfaenger-wir-machen-eine-tanzpause-id5998/2020-11-01/
LOCATION:Gemeindehaus DÃ¶lau\, Franz-Mehring-Str. 9b\, Halle\, 06120\, Deutschland
CATEGORIES:Erwachsene,Musik
END:VEVENT
BEGIN:VEVENT
DTSTART;TZID=Europe/Berlin:20201030T170000
DTEND;TZID=Europe/Berlin:20201030T180000
DTSTAMP:20260423T195958
CREATED:20191127T201307Z
LAST-MODIFIED:20191127T201307Z
UID:10006888-1604077200-1604080800@kirche-dll.de
SUMMARY:Musik- / Gitarrengruppe
DESCRIPTION:Gemeinsam mit Horst Sturm Gitarre spielen lernen\, Songs begleiten und neue KlÃ¤nge in unseren Veranstaltungen erklingen lassen.
URL:https://kirche-dll.de/termin/musik-gitarrengruppe/2020-10-30/
LOCATION:Gemeindehaus DÃ¶lau\, Franz-Mehring-Str. 9b\, Halle\, 06120\, Deutschland
CATEGORIES:Musik
END:VEVENT
BEGIN:VEVENT
DTSTART;TZID=Europe/Berlin:20201027T180000
DTEND;TZID=Europe/Berlin:20201027T193000
DTSTAMP:20260423T195958
CREATED:20191121T215327Z
LAST-MODIFIED:20200925T115456Z
UID:10006807-1603821600-1603827000@kirche-dll.de
SUMMARY:Konfi-Zeit
DESCRIPTION:Zur Vorbereitung auf die Konfirmation treffen sich Jugendliche der 7. und 8. Klassen dienstags\, 18.00 bis 19.30 Uhr im DÃ¶lauer Gemeindehaus.
URL:https://kirche-dll.de/termin/konfi-zeit-id3451/2020-10-27/
LOCATION:Gemeindehaus DÃ¶lau\, Franz-Mehring-Str. 9b\, Halle\, 06120\, Deutschland
CATEGORIES:Jugendliche
END:VEVENT
BEGIN:VEVENT
DTSTART;TZID=Europe/Berlin:20201023T170000
DTEND;TZID=Europe/Berlin:20201023T180000
DTSTAMP:20260423T195958
CREATED:20191127T201307Z
LAST-MODIFIED:20191127T201307Z
UID:10006887-1603472400-1603476000@kirche-dll.de
SUMMARY:Musik- / Gitarrengruppe
DESCRIPTION:Gemeinsam mit Horst Sturm Gitarre spielen lernen\, Songs begleiten und neue KlÃ¤nge in unseren Veranstaltungen erklingen lassen.
URL:https://kirche-dll.de/termin/musik-gitarrengruppe/2020-10-23/
LOCATION:Gemeindehaus DÃ¶lau\, Franz-Mehring-Str. 9b\, Halle\, 06120\, Deutschland
CATEGORIES:Musik
END:VEVENT
BEGIN:VEVENT
DTSTART;TZID=Europe/Berlin:20201018T190000
DTEND;TZID=Europe/Berlin:20201018T200000
DTSTAMP:20260423T195958
CREATED:20201002T091603Z
LAST-MODIFIED:20201002T091603Z
UID:10007086-1603047600-1603051200@kirche-dll.de
SUMMARY:Tanzkreis - AnfÃ¤nger
DESCRIPTION:Wir treffen uns an Sonntagabenden\, um das Tanzbein zu schwingen.\nDabei tanzen wir Standard- und Lateinamerikanische PaartÃ¤nze.\n(Fortgeschrittene von 20:15 bis 21:30 Uhr) \nInformationen: Andreas und Ulrike Simm ulrike.simm@kirche-dll.de
URL:https://kirche-dll.de/termin/tanzkreis-anfaenger-id5994/2020-10-18/
LOCATION:Gemeindehaus DÃ¶lau\, Franz-Mehring-Str. 9b\, Halle\, 06120\, Deutschland
CATEGORIES:Erwachsene,Musik
END:VEVENT
END:VCALENDAR