BEGIN:VCALENDAR
VERSION:2.0
PRODID:-//Evangelische Kirche Dölau-Lieskau / Lettin - ECPv6.15.17.1//NONSGML v1.0//EN
CALSCALE:GREGORIAN
METHOD:PUBLISH
X-WR-CALNAME:Evangelische Kirche Dölau-Lieskau / Lettin
X-ORIGINAL-URL:https://kirche-dll.de
X-WR-CALDESC:Veranstaltungen für Evangelische Kirche Dölau-Lieskau / Lettin
REFRESH-INTERVAL;VALUE=DURATION:PT1H
X-Robots-Tag:noindex
X-PUBLISHED-TTL:PT1H
BEGIN:VTIMEZONE
TZID:Europe/Berlin
BEGIN:DAYLIGHT
TZOFFSETFROM:+0100
TZOFFSETTO:+0200
TZNAME:CEST
DTSTART:20200329T010000
END:DAYLIGHT
BEGIN:STANDARD
TZOFFSETFROM:+0200
TZOFFSETTO:+0100
TZNAME:CET
DTSTART:20201025T010000
END:STANDARD
BEGIN:DAYLIGHT
TZOFFSETFROM:+0100
TZOFFSETTO:+0200
TZNAME:CEST
DTSTART:20210328T010000
END:DAYLIGHT
BEGIN:STANDARD
TZOFFSETFROM:+0200
TZOFFSETTO:+0100
TZNAME:CET
DTSTART:20211031T010000
END:STANDARD
BEGIN:DAYLIGHT
TZOFFSETFROM:+0100
TZOFFSETTO:+0200
TZNAME:CEST
DTSTART:20220327T010000
END:DAYLIGHT
BEGIN:STANDARD
TZOFFSETFROM:+0200
TZOFFSETTO:+0100
TZNAME:CET
DTSTART:20221030T010000
END:STANDARD
END:VTIMEZONE
BEGIN:VEVENT
DTSTART;TZID=Europe/Berlin:20210719T190000
DTEND;TZID=Europe/Berlin:20210719T210000
DTSTAMP:20260423T150319
CREATED:20210708T042943Z
LAST-MODIFIED:20210708T111955Z
UID:10007281-1626721200-1626728400@kirche-dll.de
SUMMARY:Frauenkreis
DESCRIPTION:Sommerfest\n&#8211; mit Kennenlernen\n&#8211; beim Picknick im Garten\n&#8211; wir teilen unsere mitgebrachten Köstlichkeiten\n&#8211; für Getränke ist gesorgt\n&#8211; es darf ein Sommerlied zum gemeinsamen Singen mitgebracht werden
URL:https://kirche-dll.de/termin/frauenkreis-id10611/
LOCATION:Gemeindehaus Dölau\, Franz-Mehring-Str. 9b\, Halle\, 06120\, Deutschland
CATEGORIES:Erwachsene
END:VEVENT
BEGIN:VEVENT
DTSTART;TZID=Europe/Berlin:20210716T170000
DTEND;TZID=Europe/Berlin:20210716T180000
DTSTAMP:20260423T150319
CREATED:20191127T201307Z
LAST-MODIFIED:20191127T201307Z
UID:10006925-1626454800-1626458400@kirche-dll.de
SUMMARY:Musik- / Gitarrengruppe
DESCRIPTION:Gemeinsam mit Horst Sturm Gitarre spielen lernen\, Songs begleiten und neue Klänge in unseren Veranstaltungen erklingen lassen.
URL:https://kirche-dll.de/termin/musik-gitarrengruppe/2021-07-16/
LOCATION:Gemeindehaus Dölau\, Franz-Mehring-Str. 9b\, Halle\, 06120\, Deutschland
CATEGORIES:Musik
END:VEVENT
BEGIN:VEVENT
DTSTART;TZID=Europe/Berlin:20210709T170000
DTEND;TZID=Europe/Berlin:20210709T180000
DTSTAMP:20260423T150319
CREATED:20191127T201307Z
LAST-MODIFIED:20191127T201307Z
UID:10006924-1625850000-1625853600@kirche-dll.de
SUMMARY:Musik- / Gitarrengruppe
DESCRIPTION:Gemeinsam mit Horst Sturm Gitarre spielen lernen\, Songs begleiten und neue Klänge in unseren Veranstaltungen erklingen lassen.
URL:https://kirche-dll.de/termin/musik-gitarrengruppe/2021-07-09/
LOCATION:Gemeindehaus Dölau\, Franz-Mehring-Str. 9b\, Halle\, 06120\, Deutschland
CATEGORIES:Musik
END:VEVENT
BEGIN:VEVENT
DTSTART;TZID=Europe/Berlin:20210702T170000
DTEND;TZID=Europe/Berlin:20210702T180000
DTSTAMP:20260423T150319
CREATED:20191127T201307Z
LAST-MODIFIED:20191127T201307Z
UID:10006923-1625245200-1625248800@kirche-dll.de
SUMMARY:Musik- / Gitarrengruppe
DESCRIPTION:Gemeinsam mit Horst Sturm Gitarre spielen lernen\, Songs begleiten und neue Klänge in unseren Veranstaltungen erklingen lassen.
URL:https://kirche-dll.de/termin/musik-gitarrengruppe/2021-07-02/
LOCATION:Gemeindehaus Dölau\, Franz-Mehring-Str. 9b\, Halle\, 06120\, Deutschland
CATEGORIES:Musik
END:VEVENT
BEGIN:VEVENT
DTSTART;TZID=Europe/Berlin:20210628T190000
DTEND;TZID=Europe/Berlin:20210628T210000
DTSTAMP:20260423T150319
CREATED:20210121T141513Z
LAST-MODIFIED:20210622T110459Z
UID:10007134-1624906800-1624914000@kirche-dll.de
SUMMARY:Regionaler Frauenkreis
DESCRIPTION:Sie haben Lust\, Frauen aus unseren Gemeinden kennenzulernen und gemeinsam Zeit zu verbringen? Dann sind Sie hier genau richtig. Einmal im Monat werden wir uns an einem Abend treffen\, über Glaubensthemen austauschen und über spannende Themen philosophieren\, Buchvorstellungen lauschen\, kochen\, feiern\, Kreatives auszuprobieren\, singen\, tanzen\, Kulturelles unternehmen\, &#8230;\nIhre Ulrike Simm
URL:https://kirche-dll.de/termin/regionaler-frauenkreis-id9239/2021-06-28/
LOCATION:Gemeindehaus Dölau\, Franz-Mehring-Str. 9b\, Halle\, 06120\, Deutschland
CATEGORIES:Erwachsene
END:VEVENT
BEGIN:VEVENT
DTSTART;TZID=Europe/Berlin:20210625T170000
DTEND;TZID=Europe/Berlin:20210625T180000
DTSTAMP:20260423T150319
CREATED:20191127T201307Z
LAST-MODIFIED:20191127T201307Z
UID:10006922-1624640400-1624644000@kirche-dll.de
SUMMARY:Musik- / Gitarrengruppe
DESCRIPTION:Gemeinsam mit Horst Sturm Gitarre spielen lernen\, Songs begleiten und neue Klänge in unseren Veranstaltungen erklingen lassen.
URL:https://kirche-dll.de/termin/musik-gitarrengruppe/2021-06-25/
LOCATION:Gemeindehaus Dölau\, Franz-Mehring-Str. 9b\, Halle\, 06120\, Deutschland
CATEGORIES:Musik
END:VEVENT
BEGIN:VEVENT
DTSTART;TZID=Europe/Berlin:20210618T170000
DTEND;TZID=Europe/Berlin:20210618T180000
DTSTAMP:20260423T150319
CREATED:20191127T201307Z
LAST-MODIFIED:20191127T201307Z
UID:10006921-1624035600-1624039200@kirche-dll.de
SUMMARY:Musik- / Gitarrengruppe
DESCRIPTION:Gemeinsam mit Horst Sturm Gitarre spielen lernen\, Songs begleiten und neue Klänge in unseren Veranstaltungen erklingen lassen.
URL:https://kirche-dll.de/termin/musik-gitarrengruppe/2021-06-18/
LOCATION:Gemeindehaus Dölau\, Franz-Mehring-Str. 9b\, Halle\, 06120\, Deutschland
CATEGORIES:Musik
END:VEVENT
BEGIN:VEVENT
DTSTART;TZID=Europe/Berlin:20210611T170000
DTEND;TZID=Europe/Berlin:20210611T180000
DTSTAMP:20260423T150319
CREATED:20191127T201307Z
LAST-MODIFIED:20191127T201307Z
UID:10006920-1623430800-1623434400@kirche-dll.de
SUMMARY:Musik- / Gitarrengruppe
DESCRIPTION:Gemeinsam mit Horst Sturm Gitarre spielen lernen\, Songs begleiten und neue Klänge in unseren Veranstaltungen erklingen lassen.
URL:https://kirche-dll.de/termin/musik-gitarrengruppe/2021-06-11/
LOCATION:Gemeindehaus Dölau\, Franz-Mehring-Str. 9b\, Halle\, 06120\, Deutschland
CATEGORIES:Musik
END:VEVENT
BEGIN:VEVENT
DTSTART;TZID=Europe/Berlin:20210604T170000
DTEND;TZID=Europe/Berlin:20210604T180000
DTSTAMP:20260423T150319
CREATED:20191127T201307Z
LAST-MODIFIED:20191127T201307Z
UID:10006919-1622826000-1622829600@kirche-dll.de
SUMMARY:Musik- / Gitarrengruppe
DESCRIPTION:Gemeinsam mit Horst Sturm Gitarre spielen lernen\, Songs begleiten und neue Klänge in unseren Veranstaltungen erklingen lassen.
URL:https://kirche-dll.de/termin/musik-gitarrengruppe/2021-06-04/
LOCATION:Gemeindehaus Dölau\, Franz-Mehring-Str. 9b\, Halle\, 06120\, Deutschland
CATEGORIES:Musik
END:VEVENT
BEGIN:VEVENT
DTSTART;TZID=Europe/Berlin:20210530T110000
DTEND;TZID=Europe/Berlin:20210530T120000
DTSTAMP:20260423T150319
CREATED:20210429T123819Z
LAST-MODIFIED:20210526T121438Z
UID:10007149-1622372400-1622376000@kirche-dll.de
SUMMARY:Familienkirche
DESCRIPTION:Wir feiern die Familienkirche auf der Wiese vor dem Gemeindehaus Dölau.\nBitte beachten Sie die Hygiene- und Abstandsregeln.
URL:https://kirche-dll.de/termin/familienkirche-id9282/
LOCATION:Gemeindehaus Dölau\, Franz-Mehring-Str. 9b\, Halle\, 06120\, Deutschland
CATEGORIES:Erwachsene,Familien,Gottesdienste,Jugendliche,Kinder,Senioren
END:VEVENT
BEGIN:VEVENT
DTSTART;TZID=Europe/Berlin:20210528T170000
DTEND;TZID=Europe/Berlin:20210528T180000
DTSTAMP:20260423T150319
CREATED:20191127T201307Z
LAST-MODIFIED:20191127T201307Z
UID:10006918-1622221200-1622224800@kirche-dll.de
SUMMARY:Musik- / Gitarrengruppe
DESCRIPTION:Gemeinsam mit Horst Sturm Gitarre spielen lernen\, Songs begleiten und neue Klänge in unseren Veranstaltungen erklingen lassen.
URL:https://kirche-dll.de/termin/musik-gitarrengruppe/2021-05-28/
LOCATION:Gemeindehaus Dölau\, Franz-Mehring-Str. 9b\, Halle\, 06120\, Deutschland
CATEGORIES:Musik
END:VEVENT
BEGIN:VEVENT
DTSTART;TZID=Europe/Berlin:20210521T170000
DTEND;TZID=Europe/Berlin:20210521T180000
DTSTAMP:20260423T150319
CREATED:20191127T201307Z
LAST-MODIFIED:20191127T201307Z
UID:10006917-1621616400-1621620000@kirche-dll.de
SUMMARY:Musik- / Gitarrengruppe
DESCRIPTION:Gemeinsam mit Horst Sturm Gitarre spielen lernen\, Songs begleiten und neue Klänge in unseren Veranstaltungen erklingen lassen.
URL:https://kirche-dll.de/termin/musik-gitarrengruppe/2021-05-21/
LOCATION:Gemeindehaus Dölau\, Franz-Mehring-Str. 9b\, Halle\, 06120\, Deutschland
CATEGORIES:Musik
END:VEVENT
BEGIN:VEVENT
DTSTART;TZID=Europe/Berlin:20210514T170000
DTEND;TZID=Europe/Berlin:20210514T180000
DTSTAMP:20260423T150319
CREATED:20191127T201307Z
LAST-MODIFIED:20191127T201307Z
UID:10006916-1621011600-1621015200@kirche-dll.de
SUMMARY:Musik- / Gitarrengruppe
DESCRIPTION:Gemeinsam mit Horst Sturm Gitarre spielen lernen\, Songs begleiten und neue Klänge in unseren Veranstaltungen erklingen lassen.
URL:https://kirche-dll.de/termin/musik-gitarrengruppe/2021-05-14/
LOCATION:Gemeindehaus Dölau\, Franz-Mehring-Str. 9b\, Halle\, 06120\, Deutschland
CATEGORIES:Musik
END:VEVENT
BEGIN:VEVENT
DTSTART;TZID=Europe/Berlin:20210507T170000
DTEND;TZID=Europe/Berlin:20210507T180000
DTSTAMP:20260423T150319
CREATED:20191127T201307Z
LAST-MODIFIED:20191127T201307Z
UID:10006915-1620406800-1620410400@kirche-dll.de
SUMMARY:Musik- / Gitarrengruppe
DESCRIPTION:Gemeinsam mit Horst Sturm Gitarre spielen lernen\, Songs begleiten und neue Klänge in unseren Veranstaltungen erklingen lassen.
URL:https://kirche-dll.de/termin/musik-gitarrengruppe/2021-05-07/
LOCATION:Gemeindehaus Dölau\, Franz-Mehring-Str. 9b\, Halle\, 06120\, Deutschland
CATEGORIES:Musik
END:VEVENT
BEGIN:VEVENT
DTSTART;TZID=Europe/Berlin:20210430T170000
DTEND;TZID=Europe/Berlin:20210430T180000
DTSTAMP:20260423T150319
CREATED:20191127T201307Z
LAST-MODIFIED:20191127T201307Z
UID:10006914-1619802000-1619805600@kirche-dll.de
SUMMARY:Musik- / Gitarrengruppe
DESCRIPTION:Gemeinsam mit Horst Sturm Gitarre spielen lernen\, Songs begleiten und neue Klänge in unseren Veranstaltungen erklingen lassen.
URL:https://kirche-dll.de/termin/musik-gitarrengruppe/2021-04-30/
LOCATION:Gemeindehaus Dölau\, Franz-Mehring-Str. 9b\, Halle\, 06120\, Deutschland
CATEGORIES:Musik
END:VEVENT
BEGIN:VEVENT
DTSTART;TZID=Europe/Berlin:20210423T170000
DTEND;TZID=Europe/Berlin:20210423T180000
DTSTAMP:20260423T150319
CREATED:20191127T201307Z
LAST-MODIFIED:20191127T201307Z
UID:10006913-1619197200-1619200800@kirche-dll.de
SUMMARY:Musik- / Gitarrengruppe
DESCRIPTION:Gemeinsam mit Horst Sturm Gitarre spielen lernen\, Songs begleiten und neue Klänge in unseren Veranstaltungen erklingen lassen.
URL:https://kirche-dll.de/termin/musik-gitarrengruppe/2021-04-23/
LOCATION:Gemeindehaus Dölau\, Franz-Mehring-Str. 9b\, Halle\, 06120\, Deutschland
CATEGORIES:Musik
END:VEVENT
BEGIN:VEVENT
DTSTART;TZID=Europe/Berlin:20210419T190000
DTEND;TZID=Europe/Berlin:20210419T210000
DTSTAMP:20260423T150319
CREATED:20210121T141513Z
LAST-MODIFIED:20210414T171605Z
UID:10007133-1618858800-1618866000@kirche-dll.de
SUMMARY:Frauenkreis - auf Montag 28.6.2021 um 19.00 Uhr verschoben !!
DESCRIPTION:Den ersten Termin müssen wir leider auf den 28. Juni verschieben. Wir bitten Sie um Verständnis. \nSie haben Lust\, Frauen aus unseren Gemeinden kennenzulernen und gemeinsam Zeit zu verbringen? Dann sind Sie hier genau richtig. Einmal im Monat werden wir uns an einem Abend treffen\, über Glaubensthemen austauschen und über spannende Themen philosophieren\, Buchvorstellungen lauschen\, kochen\, feiern\, Kreatives auszuprobieren\, singen\, tanzen\, Kulturelles unternehmen\, &#8230;\nIhre Ulrike Simm
URL:https://kirche-dll.de/termin/frauenkreis-auf-montag-28-6-2021-um-19-00-uhr-verschoben-id8398/
LOCATION:Gemeindehaus Dölau\, Franz-Mehring-Str. 9b\, Halle\, 06120\, Deutschland
CATEGORIES:Erwachsene
END:VEVENT
BEGIN:VEVENT
DTSTART;TZID=Europe/Berlin:20210416T170000
DTEND;TZID=Europe/Berlin:20210416T180000
DTSTAMP:20260423T150319
CREATED:20191127T201307Z
LAST-MODIFIED:20191127T201307Z
UID:10006912-1618592400-1618596000@kirche-dll.de
SUMMARY:Musik- / Gitarrengruppe
DESCRIPTION:Gemeinsam mit Horst Sturm Gitarre spielen lernen\, Songs begleiten und neue Klänge in unseren Veranstaltungen erklingen lassen.
URL:https://kirche-dll.de/termin/musik-gitarrengruppe/2021-04-16/
LOCATION:Gemeindehaus Dölau\, Franz-Mehring-Str. 9b\, Halle\, 06120\, Deutschland
CATEGORIES:Musik
END:VEVENT
BEGIN:VEVENT
DTSTART;TZID=Europe/Berlin:20210409T170000
DTEND;TZID=Europe/Berlin:20210409T180000
DTSTAMP:20260423T150319
CREATED:20191127T201307Z
LAST-MODIFIED:20191127T201307Z
UID:10006911-1617987600-1617991200@kirche-dll.de
SUMMARY:Musik- / Gitarrengruppe
DESCRIPTION:Gemeinsam mit Horst Sturm Gitarre spielen lernen\, Songs begleiten und neue Klänge in unseren Veranstaltungen erklingen lassen.
URL:https://kirche-dll.de/termin/musik-gitarrengruppe/2021-04-09/
LOCATION:Gemeindehaus Dölau\, Franz-Mehring-Str. 9b\, Halle\, 06120\, Deutschland
CATEGORIES:Musik
END:VEVENT
BEGIN:VEVENT
DTSTART;TZID=Europe/Berlin:20210402T170000
DTEND;TZID=Europe/Berlin:20210402T180000
DTSTAMP:20260423T150319
CREATED:20191127T201307Z
LAST-MODIFIED:20191127T201307Z
UID:10006910-1617382800-1617386400@kirche-dll.de
SUMMARY:Musik- / Gitarrengruppe
DESCRIPTION:Gemeinsam mit Horst Sturm Gitarre spielen lernen\, Songs begleiten und neue Klänge in unseren Veranstaltungen erklingen lassen.
URL:https://kirche-dll.de/termin/musik-gitarrengruppe/2021-04-02/
LOCATION:Gemeindehaus Dölau\, Franz-Mehring-Str. 9b\, Halle\, 06120\, Deutschland
CATEGORIES:Musik
END:VEVENT
BEGIN:VEVENT
DTSTART;TZID=Europe/Berlin:20210326T170000
DTEND;TZID=Europe/Berlin:20210326T180000
DTSTAMP:20260423T150319
CREATED:20191127T201307Z
LAST-MODIFIED:20191127T201307Z
UID:10006909-1616778000-1616781600@kirche-dll.de
SUMMARY:Musik- / Gitarrengruppe
DESCRIPTION:Gemeinsam mit Horst Sturm Gitarre spielen lernen\, Songs begleiten und neue Klänge in unseren Veranstaltungen erklingen lassen.
URL:https://kirche-dll.de/termin/musik-gitarrengruppe/2021-03-26/
LOCATION:Gemeindehaus Dölau\, Franz-Mehring-Str. 9b\, Halle\, 06120\, Deutschland
CATEGORIES:Musik
END:VEVENT
BEGIN:VEVENT
DTSTART;TZID=Europe/Berlin:20210319T170000
DTEND;TZID=Europe/Berlin:20210319T180000
DTSTAMP:20260423T150319
CREATED:20191127T201307Z
LAST-MODIFIED:20191127T201307Z
UID:10006908-1616173200-1616176800@kirche-dll.de
SUMMARY:Musik- / Gitarrengruppe
DESCRIPTION:Gemeinsam mit Horst Sturm Gitarre spielen lernen\, Songs begleiten und neue Klänge in unseren Veranstaltungen erklingen lassen.
URL:https://kirche-dll.de/termin/musik-gitarrengruppe/2021-03-19/
LOCATION:Gemeindehaus Dölau\, Franz-Mehring-Str. 9b\, Halle\, 06120\, Deutschland
CATEGORIES:Musik
END:VEVENT
BEGIN:VEVENT
DTSTART;TZID=Europe/Berlin:20210312T170000
DTEND;TZID=Europe/Berlin:20210312T180000
DTSTAMP:20260423T150319
CREATED:20191127T201307Z
LAST-MODIFIED:20191127T201307Z
UID:10006907-1615568400-1615572000@kirche-dll.de
SUMMARY:Musik- / Gitarrengruppe
DESCRIPTION:Gemeinsam mit Horst Sturm Gitarre spielen lernen\, Songs begleiten und neue Klänge in unseren Veranstaltungen erklingen lassen.
URL:https://kirche-dll.de/termin/musik-gitarrengruppe/2021-03-12/
LOCATION:Gemeindehaus Dölau\, Franz-Mehring-Str. 9b\, Halle\, 06120\, Deutschland
CATEGORIES:Musik
END:VEVENT
BEGIN:VEVENT
DTSTART;TZID=Europe/Berlin:20210305T170000
DTEND;TZID=Europe/Berlin:20210305T180000
DTSTAMP:20260423T150319
CREATED:20191127T201307Z
LAST-MODIFIED:20191127T201307Z
UID:10006906-1614963600-1614967200@kirche-dll.de
SUMMARY:Musik- / Gitarrengruppe
DESCRIPTION:Gemeinsam mit Horst Sturm Gitarre spielen lernen\, Songs begleiten und neue Klänge in unseren Veranstaltungen erklingen lassen.
URL:https://kirche-dll.de/termin/musik-gitarrengruppe/2021-03-05/
LOCATION:Gemeindehaus Dölau\, Franz-Mehring-Str. 9b\, Halle\, 06120\, Deutschland
CATEGORIES:Musik
END:VEVENT
BEGIN:VEVENT
DTSTART;TZID=Europe/Berlin:20210226T170000
DTEND;TZID=Europe/Berlin:20210226T180000
DTSTAMP:20260423T150319
CREATED:20191127T201307Z
LAST-MODIFIED:20191127T201307Z
UID:10006905-1614358800-1614362400@kirche-dll.de
SUMMARY:Musik- / Gitarrengruppe
DESCRIPTION:Gemeinsam mit Horst Sturm Gitarre spielen lernen\, Songs begleiten und neue Klänge in unseren Veranstaltungen erklingen lassen.
URL:https://kirche-dll.de/termin/musik-gitarrengruppe/2021-02-26/
LOCATION:Gemeindehaus Dölau\, Franz-Mehring-Str. 9b\, Halle\, 06120\, Deutschland
CATEGORIES:Musik
END:VEVENT
BEGIN:VEVENT
DTSTART;TZID=Europe/Berlin:20210219T170000
DTEND;TZID=Europe/Berlin:20210219T180000
DTSTAMP:20260423T150319
CREATED:20191127T201307Z
LAST-MODIFIED:20191127T201307Z
UID:10006904-1613754000-1613757600@kirche-dll.de
SUMMARY:Musik- / Gitarrengruppe
DESCRIPTION:Gemeinsam mit Horst Sturm Gitarre spielen lernen\, Songs begleiten und neue Klänge in unseren Veranstaltungen erklingen lassen.
URL:https://kirche-dll.de/termin/musik-gitarrengruppe/2021-02-19/
LOCATION:Gemeindehaus Dölau\, Franz-Mehring-Str. 9b\, Halle\, 06120\, Deutschland
CATEGORIES:Musik
END:VEVENT
BEGIN:VEVENT
DTSTART;TZID=Europe/Berlin:20210216T180000
DTEND;TZID=Europe/Berlin:20210216T193000
DTSTAMP:20260423T150319
CREATED:20191121T215327Z
LAST-MODIFIED:20200925T115456Z
UID:10006813-1613498400-1613503800@kirche-dll.de
SUMMARY:Konfi-Zeit
DESCRIPTION:Zur Vorbereitung auf die Konfirmation treffen sich Jugendliche der 7. und 8. Klassen dienstags\, 18.00 bis 19.30 Uhr im Dölauer Gemeindehaus.
URL:https://kirche-dll.de/termin/konfi-zeit-id3451/2021-02-16/
LOCATION:Gemeindehaus Dölau\, Franz-Mehring-Str. 9b\, Halle\, 06120\, Deutschland
CATEGORIES:Jugendliche
END:VEVENT
BEGIN:VEVENT
DTSTART;TZID=Europe/Berlin:20210212T170000
DTEND;TZID=Europe/Berlin:20210212T180000
DTSTAMP:20260423T150319
CREATED:20191127T201307Z
LAST-MODIFIED:20191127T201307Z
UID:10006903-1613149200-1613152800@kirche-dll.de
SUMMARY:Musik- / Gitarrengruppe
DESCRIPTION:Gemeinsam mit Horst Sturm Gitarre spielen lernen\, Songs begleiten und neue Klänge in unseren Veranstaltungen erklingen lassen.
URL:https://kirche-dll.de/termin/musik-gitarrengruppe/2021-02-12/
LOCATION:Gemeindehaus Dölau\, Franz-Mehring-Str. 9b\, Halle\, 06120\, Deutschland
CATEGORIES:Musik
END:VEVENT
BEGIN:VEVENT
DTSTART;TZID=Europe/Berlin:20210205T170000
DTEND;TZID=Europe/Berlin:20210205T180000
DTSTAMP:20260423T150319
CREATED:20191127T201307Z
LAST-MODIFIED:20191127T201307Z
UID:10006902-1612544400-1612548000@kirche-dll.de
SUMMARY:Musik- / Gitarrengruppe
DESCRIPTION:Gemeinsam mit Horst Sturm Gitarre spielen lernen\, Songs begleiten und neue Klänge in unseren Veranstaltungen erklingen lassen.
URL:https://kirche-dll.de/termin/musik-gitarrengruppe/2021-02-05/
LOCATION:Gemeindehaus Dölau\, Franz-Mehring-Str. 9b\, Halle\, 06120\, Deutschland
CATEGORIES:Musik
END:VEVENT
BEGIN:VEVENT
DTSTART;TZID=Europe/Berlin:20210202T180000
DTEND;TZID=Europe/Berlin:20210202T193000
DTSTAMP:20260423T150319
CREATED:20191121T215327Z
LAST-MODIFIED:20200925T115456Z
UID:10006812-1612288800-1612294200@kirche-dll.de
SUMMARY:Konfi-Zeit
DESCRIPTION:Zur Vorbereitung auf die Konfirmation treffen sich Jugendliche der 7. und 8. Klassen dienstags\, 18.00 bis 19.30 Uhr im Dölauer Gemeindehaus.
URL:https://kirche-dll.de/termin/konfi-zeit-id3451/2021-02-02/
LOCATION:Gemeindehaus Dölau\, Franz-Mehring-Str. 9b\, Halle\, 06120\, Deutschland
CATEGORIES:Jugendliche
END:VEVENT
END:VCALENDAR