BEGIN:VCALENDAR
VERSION:2.0
PRODID:-//Evangelische Kirche DÃ¶lau-Lieskau / Lettin - ECPv6.15.17.1//NONSGML v1.0//EN
CALSCALE:GREGORIAN
METHOD:PUBLISH
X-WR-CALNAME:Evangelische Kirche DÃ¶lau-Lieskau / Lettin
X-ORIGINAL-URL:https://kirche-dll.de
X-WR-CALDESC:Veranstaltungen fÃ¼r Evangelische Kirche DÃ¶lau-Lieskau / Lettin
REFRESH-INTERVAL;VALUE=DURATION:PT1H
X-Robots-Tag:noindex
X-PUBLISHED-TTL:PT1H
BEGIN:VTIMEZONE
TZID:Europe/Berlin
BEGIN:DAYLIGHT
TZOFFSETFROM:+0100
TZOFFSETTO:+0200
TZNAME:CEST
DTSTART:20200329T010000
END:DAYLIGHT
BEGIN:STANDARD
TZOFFSETFROM:+0200
TZOFFSETTO:+0100
TZNAME:CET
DTSTART:20201025T010000
END:STANDARD
BEGIN:DAYLIGHT
TZOFFSETFROM:+0100
TZOFFSETTO:+0200
TZNAME:CEST
DTSTART:20210328T010000
END:DAYLIGHT
BEGIN:STANDARD
TZOFFSETFROM:+0200
TZOFFSETTO:+0100
TZNAME:CET
DTSTART:20211031T010000
END:STANDARD
BEGIN:DAYLIGHT
TZOFFSETFROM:+0100
TZOFFSETTO:+0200
TZNAME:CEST
DTSTART:20220327T010000
END:DAYLIGHT
BEGIN:STANDARD
TZOFFSETFROM:+0200
TZOFFSETTO:+0100
TZNAME:CET
DTSTART:20221030T010000
END:STANDARD
BEGIN:DAYLIGHT
TZOFFSETFROM:+0100
TZOFFSETTO:+0200
TZNAME:CEST
DTSTART:20230326T010000
END:DAYLIGHT
BEGIN:STANDARD
TZOFFSETFROM:+0200
TZOFFSETTO:+0100
TZNAME:CET
DTSTART:20231029T010000
END:STANDARD
END:VTIMEZONE
BEGIN:VEVENT
DTSTART;TZID=Europe/Berlin:20220208T161500
DTEND;TZID=Europe/Berlin:20220208T171500
DTSTAMP:20260423T064841
CREATED:20210622T140513Z
LAST-MODIFIED:20220110T164009Z
UID:10007202-1644336900-1644340500@kirche-dll.de
SUMMARY:Kinderkirche 4.-6. Klasse
DESCRIPTION:
URL:https://kirche-dll.de/termin/kinderkirche-4-6-klasse-id10390/2022-02-08/
LOCATION:Gemeindehaus DÃ¶lau\, Franz-Mehring-Str. 9b\, Halle\, 06120\, Deutschland
CATEGORIES:Kinder
END:VEVENT
BEGIN:VEVENT
DTSTART;TZID=Europe/Berlin:20220207T190000
DTEND;TZID=Europe/Berlin:20220207T210000
DTSTAMP:20260423T064841
CREATED:20220125T121131Z
LAST-MODIFIED:20220125T121131Z
UID:10007379-1644260400-1644267600@kirche-dll.de
SUMMARY:Regionaler Frauenkreis
DESCRIPTION:Lesung mit Beate MÃ¼ller
URL:https://kirche-dll.de/termin/regionaler-frauenkreis-id10963/
LOCATION:Gemeindehaus DÃ¶lau\, Franz-Mehring-Str. 9b\, Halle\, 06120\, Deutschland
CATEGORIES:Erwachsene
END:VEVENT
BEGIN:VEVENT
DTSTART;TZID=Europe/Berlin:20220204T170000
DTEND;TZID=Europe/Berlin:20220204T180000
DTSTAMP:20260423T064841
CREATED:20191127T201307Z
LAST-MODIFIED:20191127T201307Z
UID:10006954-1643994000-1643997600@kirche-dll.de
SUMMARY:Musik- / Gitarrengruppe
DESCRIPTION:Gemeinsam mit Horst Sturm Gitarre spielen lernen\, Songs begleiten und neue KlÃ¤nge in unseren Veranstaltungen erklingen lassen.
URL:https://kirche-dll.de/termin/musik-gitarrengruppe/2022-02-04/
LOCATION:Gemeindehaus DÃ¶lau\, Franz-Mehring-Str. 9b\, Halle\, 06120\, Deutschland
CATEGORIES:Musik
END:VEVENT
BEGIN:VEVENT
DTSTART;TZID=Europe/Berlin:20220201T161500
DTEND;TZID=Europe/Berlin:20220201T171500
DTSTAMP:20260423T064841
CREATED:20210622T140513Z
LAST-MODIFIED:20220110T164009Z
UID:10007201-1643732100-1643735700@kirche-dll.de
SUMMARY:Kinderkirche 4.-6. Klasse
DESCRIPTION:
URL:https://kirche-dll.de/termin/kinderkirche-4-6-klasse-id10390/2022-02-01/
LOCATION:Gemeindehaus DÃ¶lau\, Franz-Mehring-Str. 9b\, Halle\, 06120\, Deutschland
CATEGORIES:Kinder
END:VEVENT
BEGIN:VEVENT
DTSTART;TZID=Europe/Berlin:20220128T170000
DTEND;TZID=Europe/Berlin:20220128T180000
DTSTAMP:20260423T064841
CREATED:20191127T201307Z
LAST-MODIFIED:20191127T201307Z
UID:10006953-1643389200-1643392800@kirche-dll.de
SUMMARY:Musik- / Gitarrengruppe
DESCRIPTION:Gemeinsam mit Horst Sturm Gitarre spielen lernen\, Songs begleiten und neue KlÃ¤nge in unseren Veranstaltungen erklingen lassen.
URL:https://kirche-dll.de/termin/musik-gitarrengruppe/2022-01-28/
LOCATION:Gemeindehaus DÃ¶lau\, Franz-Mehring-Str. 9b\, Halle\, 06120\, Deutschland
CATEGORIES:Musik
END:VEVENT
BEGIN:VEVENT
DTSTART;TZID=Europe/Berlin:20220127T100000
DTEND;TZID=Europe/Berlin:20220127T120000
DTSTAMP:20260423T064841
CREATED:20211115T141358Z
LAST-MODIFIED:20211115T141358Z
UID:10007331-1643277600-1643284800@kirche-dll.de
SUMMARY:SeniorenfrÃ¼hstÃ¼ck DÃ¶lau
DESCRIPTION:
URL:https://kirche-dll.de/termin/seniorenfruehstueck-doelau-id10753/
LOCATION:Gemeindehaus DÃ¶lau\, Franz-Mehring-Str. 9b\, Halle\, 06120\, Deutschland
CATEGORIES:Senioren
END:VEVENT
BEGIN:VEVENT
DTSTART;TZID=Europe/Berlin:20220125T161500
DTEND;TZID=Europe/Berlin:20220125T171500
DTSTAMP:20260423T064841
CREATED:20210622T140513Z
LAST-MODIFIED:20220110T164009Z
UID:10007200-1643127300-1643130900@kirche-dll.de
SUMMARY:Kinderkirche 4.-6. Klasse
DESCRIPTION:
URL:https://kirche-dll.de/termin/kinderkirche-4-6-klasse-id10390/2022-01-25/
LOCATION:Gemeindehaus DÃ¶lau\, Franz-Mehring-Str. 9b\, Halle\, 06120\, Deutschland
CATEGORIES:Kinder
END:VEVENT
BEGIN:VEVENT
DTSTART;TZID=Europe/Berlin:20220123T110000
DTEND;TZID=Europe/Berlin:20220123T120000
DTSTAMP:20260423T064841
CREATED:20211115T150304Z
LAST-MODIFIED:20211115T150304Z
UID:10007359-1642935600-1642939200@kirche-dll.de
SUMMARY:Gottesdienst
DESCRIPTION:
URL:https://kirche-dll.de/termin/gottesdienst-id10812/
LOCATION:Gemeindehaus DÃ¶lau\, Franz-Mehring-Str. 9b\, Halle\, 06120\, Deutschland
CATEGORIES:Gottesdienste
END:VEVENT
BEGIN:VEVENT
DTSTART;TZID=Europe/Berlin:20220121T170000
DTEND;TZID=Europe/Berlin:20220121T180000
DTSTAMP:20260423T064841
CREATED:20191127T201307Z
LAST-MODIFIED:20191127T201307Z
UID:10006952-1642784400-1642788000@kirche-dll.de
SUMMARY:Musik- / Gitarrengruppe
DESCRIPTION:Gemeinsam mit Horst Sturm Gitarre spielen lernen\, Songs begleiten und neue KlÃ¤nge in unseren Veranstaltungen erklingen lassen.
URL:https://kirche-dll.de/termin/musik-gitarrengruppe/2022-01-21/
LOCATION:Gemeindehaus DÃ¶lau\, Franz-Mehring-Str. 9b\, Halle\, 06120\, Deutschland
CATEGORIES:Musik
END:VEVENT
BEGIN:VEVENT
DTSTART;TZID=Europe/Berlin:20220118T161500
DTEND;TZID=Europe/Berlin:20220118T171500
DTSTAMP:20260423T064841
CREATED:20210622T140513Z
LAST-MODIFIED:20220110T164009Z
UID:10007199-1642522500-1642526100@kirche-dll.de
SUMMARY:Kinderkirche 4.-6. Klasse
DESCRIPTION:
URL:https://kirche-dll.de/termin/kinderkirche-4-6-klasse-id10390/2022-01-18/
LOCATION:Gemeindehaus DÃ¶lau\, Franz-Mehring-Str. 9b\, Halle\, 06120\, Deutschland
CATEGORIES:Kinder
END:VEVENT
BEGIN:VEVENT
DTSTART;TZID=Europe/Berlin:20220117T150000
DTEND;TZID=Europe/Berlin:20220117T170000
DTSTAMP:20260423T064841
CREATED:20211115T140952Z
LAST-MODIFIED:20220112T175432Z
UID:10007329-1642431600-1642438800@kirche-dll.de
SUMMARY:entfÃ¤llt leider !!  BegegnungscafÃ© DÃ¶lau
DESCRIPTION:Die Geschichte von DÃ¶lau &#8211; mit Herrn Bernd Wolfermann\nDer Vortrag wird am 21. Februar nachgeholt!
URL:https://kirche-dll.de/termin/entfaellt-leider-begegnungscafe-doelau-id10749/
LOCATION:Gemeindehaus DÃ¶lau\, Franz-Mehring-Str. 9b\, Halle\, 06120\, Deutschland
CATEGORIES:Erwachsene,Senioren,Vortrag
END:VEVENT
BEGIN:VEVENT
DTSTART;TZID=Europe/Berlin:20220116T110000
DTEND;TZID=Europe/Berlin:20220116T130000
DTSTAMP:20260423T064841
CREATED:20211115T150136Z
LAST-MODIFIED:20211115T150136Z
UID:10007357-1642330800-1642338000@kirche-dll.de
SUMMARY:Familienkirche
DESCRIPTION:fÃ¼r alle Gemeinden im Pfarrbereich.\nein Gottesdienst zum Mitmachen fÃ¼r GroÃŸ und Klein\, Jung und Alt.\nNach dem Gottesdienst essen wir gemeinsam.
URL:https://kirche-dll.de/termin/familienkirche-id10808/
LOCATION:Gemeindehaus DÃ¶lau\, Franz-Mehring-Str. 9b\, Halle\, 06120\, Deutschland
CATEGORIES:Familien,Gottesdienste,Kinder
END:VEVENT
BEGIN:VEVENT
DTSTART;TZID=Europe/Berlin:20220114T170000
DTEND;TZID=Europe/Berlin:20220114T180000
DTSTAMP:20260423T064841
CREATED:20191127T201307Z
LAST-MODIFIED:20191127T201307Z
UID:10006951-1642179600-1642183200@kirche-dll.de
SUMMARY:Musik- / Gitarrengruppe
DESCRIPTION:Gemeinsam mit Horst Sturm Gitarre spielen lernen\, Songs begleiten und neue KlÃ¤nge in unseren Veranstaltungen erklingen lassen.
URL:https://kirche-dll.de/termin/musik-gitarrengruppe/2022-01-14/
LOCATION:Gemeindehaus DÃ¶lau\, Franz-Mehring-Str. 9b\, Halle\, 06120\, Deutschland
CATEGORIES:Musik
END:VEVENT
BEGIN:VEVENT
DTSTART;TZID=Europe/Berlin:20220111T161500
DTEND;TZID=Europe/Berlin:20220111T171500
DTSTAMP:20260423T064841
CREATED:20210622T140513Z
LAST-MODIFIED:20220110T164009Z
UID:10007198-1641917700-1641921300@kirche-dll.de
SUMMARY:Kinderkirche 4.-6. Klasse
DESCRIPTION:
URL:https://kirche-dll.de/termin/kinderkirche-4-6-klasse-id10390/2022-01-11/
LOCATION:Gemeindehaus DÃ¶lau\, Franz-Mehring-Str. 9b\, Halle\, 06120\, Deutschland
CATEGORIES:Kinder
END:VEVENT
BEGIN:VEVENT
DTSTART;TZID=Europe/Berlin:20220110T190000
DTEND;TZID=Europe/Berlin:20220110T210000
DTSTAMP:20260423T064841
CREATED:20211115T140545Z
LAST-MODIFIED:20211115T140546Z
UID:10007326-1641841200-1641848400@kirche-dll.de
SUMMARY:Regionaler Frauenkreis - Vorbereitung zum Weltgebetstag
DESCRIPTION:LÃ¤nderinformation zu England\, Wales und Nordirland.\nin Vorbereitung auf den Weltgebetstag mit Pfarrerin Bettina Lampadius-Gaube
URL:https://kirche-dll.de/termin/regionaler-frauenkreis-vorbereitung-zum-weltgebetstag-id10743/
LOCATION:Gemeindehaus DÃ¶lau\, Franz-Mehring-Str. 9b\, Halle\, 06120\, Deutschland
CATEGORIES:Erwachsene,Vortrag
END:VEVENT
BEGIN:VEVENT
DTSTART;TZID=Europe/Berlin:20220107T170000
DTEND;TZID=Europe/Berlin:20220107T180000
DTSTAMP:20260423T064841
CREATED:20191127T201307Z
LAST-MODIFIED:20191127T201307Z
UID:10006950-1641574800-1641578400@kirche-dll.de
SUMMARY:Musik- / Gitarrengruppe
DESCRIPTION:Gemeinsam mit Horst Sturm Gitarre spielen lernen\, Songs begleiten und neue KlÃ¤nge in unseren Veranstaltungen erklingen lassen.
URL:https://kirche-dll.de/termin/musik-gitarrengruppe/2022-01-07/
LOCATION:Gemeindehaus DÃ¶lau\, Franz-Mehring-Str. 9b\, Halle\, 06120\, Deutschland
CATEGORIES:Musik
END:VEVENT
BEGIN:VEVENT
DTSTART;TZID=Europe/Berlin:20211231T170000
DTEND;TZID=Europe/Berlin:20211231T180000
DTSTAMP:20260423T064841
CREATED:20191127T201307Z
LAST-MODIFIED:20191127T201307Z
UID:10006949-1640970000-1640973600@kirche-dll.de
SUMMARY:Musik- / Gitarrengruppe
DESCRIPTION:Gemeinsam mit Horst Sturm Gitarre spielen lernen\, Songs begleiten und neue KlÃ¤nge in unseren Veranstaltungen erklingen lassen.
URL:https://kirche-dll.de/termin/musik-gitarrengruppe/2021-12-31/
LOCATION:Gemeindehaus DÃ¶lau\, Franz-Mehring-Str. 9b\, Halle\, 06120\, Deutschland
CATEGORIES:Musik
END:VEVENT
BEGIN:VEVENT
DTSTART;TZID=Europe/Berlin:20211224T170000
DTEND;TZID=Europe/Berlin:20211224T180000
DTSTAMP:20260423T064841
CREATED:20191127T201307Z
LAST-MODIFIED:20191127T201307Z
UID:10006948-1640365200-1640368800@kirche-dll.de
SUMMARY:Musik- / Gitarrengruppe
DESCRIPTION:Gemeinsam mit Horst Sturm Gitarre spielen lernen\, Songs begleiten und neue KlÃ¤nge in unseren Veranstaltungen erklingen lassen.
URL:https://kirche-dll.de/termin/musik-gitarrengruppe/2021-12-24/
LOCATION:Gemeindehaus DÃ¶lau\, Franz-Mehring-Str. 9b\, Halle\, 06120\, Deutschland
CATEGORIES:Musik
END:VEVENT
BEGIN:VEVENT
DTSTART;TZID=Europe/Berlin:20211217T170000
DTEND;TZID=Europe/Berlin:20211217T180000
DTSTAMP:20260423T064841
CREATED:20191127T201307Z
LAST-MODIFIED:20191127T201307Z
UID:10006947-1639760400-1639764000@kirche-dll.de
SUMMARY:Musik- / Gitarrengruppe
DESCRIPTION:Gemeinsam mit Horst Sturm Gitarre spielen lernen\, Songs begleiten und neue KlÃ¤nge in unseren Veranstaltungen erklingen lassen.
URL:https://kirche-dll.de/termin/musik-gitarrengruppe/2021-12-17/
LOCATION:Gemeindehaus DÃ¶lau\, Franz-Mehring-Str. 9b\, Halle\, 06120\, Deutschland
CATEGORIES:Musik
END:VEVENT
BEGIN:VEVENT
DTSTART;TZID=Europe/Berlin:20211210T170000
DTEND;TZID=Europe/Berlin:20211210T180000
DTSTAMP:20260423T064841
CREATED:20191127T201307Z
LAST-MODIFIED:20191127T201307Z
UID:10006946-1639155600-1639159200@kirche-dll.de
SUMMARY:Musik- / Gitarrengruppe
DESCRIPTION:Gemeinsam mit Horst Sturm Gitarre spielen lernen\, Songs begleiten und neue KlÃ¤nge in unseren Veranstaltungen erklingen lassen.
URL:https://kirche-dll.de/termin/musik-gitarrengruppe/2021-12-10/
LOCATION:Gemeindehaus DÃ¶lau\, Franz-Mehring-Str. 9b\, Halle\, 06120\, Deutschland
CATEGORIES:Musik
END:VEVENT
BEGIN:VEVENT
DTSTART;TZID=Europe/Berlin:20211206T190000
DTEND;TZID=Europe/Berlin:20211206T210000
DTSTAMP:20260423T064841
CREATED:20211115T135318Z
LAST-MODIFIED:20211129T192240Z
UID:10007320-1638817200-1638824400@kirche-dll.de
SUMMARY:Regionaler Frauenkreis
DESCRIPTION:Adventsbasteln mit Ulrike Simm.\n!! Bitte beachten Sie\, dass diese Veranstaltung unter 2G Bedingungen und Mund-Nasen-Schutz im Gemeindehaus stattfindet.\nBringen Sie die Nachweise bitte mit. \n 
URL:https://kirche-dll.de/termin/regionaler-frauenkreis-id10729/
LOCATION:Gemeindehaus DÃ¶lau\, Franz-Mehring-Str. 9b\, Halle\, 06120\, Deutschland
CATEGORIES:Erwachsene
END:VEVENT
BEGIN:VEVENT
DTSTART;TZID=Europe/Berlin:20211206T150000
DTEND;TZID=Europe/Berlin:20211206T170000
DTSTAMP:20260423T064841
CREATED:20210708T112257Z
LAST-MODIFIED:20211124T145219Z
UID:10007282-1638802800-1638810000@kirche-dll.de
SUMMARY:ENTFÃ„LLT !  BegegnungscafÃ©
DESCRIPTION:Thema: Legenden um St. Nikolaus\nmit Ulrike Simm
URL:https://kirche-dll.de/termin/entfaellt-begegnungscafe-id10614/
LOCATION:Gemeindehaus DÃ¶lau\, Franz-Mehring-Str. 9b\, Halle\, 06120\, Deutschland
CATEGORIES:Erwachsene,Senioren
END:VEVENT
BEGIN:VEVENT
DTSTART;TZID=Europe/Berlin:20211205T170000
DTEND;TZID=Europe/Berlin:20211205T190000
DTSTAMP:20260423T064841
CREATED:20211115T143024Z
LAST-MODIFIED:20211124T144947Z
UID:10007335-1638723600-1638730800@kirche-dll.de
SUMMARY:ENTFÃ„LLT !  Auf einen GlÃ¼hwein mit unseren DÃ¶lauer StadtrÃ¤ten (DÃ¶lauer Advent)
DESCRIPTION:Auf einen GluÌˆhwein mit unseren DoÌˆlauer StadtraÌˆten.\nMelanie Ranft\, Kay Senius und Andreas Wels laden zum Austausch ein.
URL:https://kirche-dll.de/termin/entfaellt-auf-einen-gluehwein-mit-unseren-doelauer-stadtraeten-doelauer-advent-id10763/
LOCATION:Gemeindehaus DÃ¶lau\, Franz-Mehring-Str. 9b\, Halle\, 06120\, Deutschland
CATEGORIES:Erwachsene,Familien,Jugendliche,Kinder
END:VEVENT
BEGIN:VEVENT
DTSTART;TZID=Europe/Berlin:20211204T100000
DTEND;TZID=Europe/Berlin:20211204T120000
DTSTAMP:20260423T064841
CREATED:20211115T134825Z
LAST-MODIFIED:20211129T191945Z
UID:10007318-1638612000-1638619200@kirche-dll.de
SUMMARY:Sternenwerkstatt - Adventsbasteln fÃ¼r GroÃŸ und Klein
DESCRIPTION:!! Bitte beachten Sie\, dass diese Veranstaltung unter 2G+ Bedingungen und Mund-Nasen-Schutz im Gemeindehaus stattfindet.\nBringen Sie die Nachweise bitte mit. Tests sind hier vorhanden. !! \n 
URL:https://kirche-dll.de/termin/sternenwerkstatt-adventsbasteln-fuer-gross-und-klein-id10725/
LOCATION:Gemeindehaus DÃ¶lau\, Franz-Mehring-Str. 9b\, Halle\, 06120\, Deutschland
CATEGORIES:Erwachsene,Familien,Jugendliche,Kinder,Senioren
END:VEVENT
BEGIN:VEVENT
DTSTART;TZID=Europe/Berlin:20211203T170000
DTEND;TZID=Europe/Berlin:20211203T180000
DTSTAMP:20260423T064841
CREATED:20191127T201307Z
LAST-MODIFIED:20191127T201307Z
UID:10006945-1638550800-1638554400@kirche-dll.de
SUMMARY:Musik- / Gitarrengruppe
DESCRIPTION:Gemeinsam mit Horst Sturm Gitarre spielen lernen\, Songs begleiten und neue KlÃ¤nge in unseren Veranstaltungen erklingen lassen.
URL:https://kirche-dll.de/termin/musik-gitarrengruppe/2021-12-03/
LOCATION:Gemeindehaus DÃ¶lau\, Franz-Mehring-Str. 9b\, Halle\, 06120\, Deutschland
CATEGORIES:Musik
END:VEVENT
BEGIN:VEVENT
DTSTART;TZID=Europe/Berlin:20211126T170000
DTEND;TZID=Europe/Berlin:20211126T180000
DTSTAMP:20260423T064841
CREATED:20191127T201307Z
LAST-MODIFIED:20191127T201307Z
UID:10006944-1637946000-1637949600@kirche-dll.de
SUMMARY:Musik- / Gitarrengruppe
DESCRIPTION:Gemeinsam mit Horst Sturm Gitarre spielen lernen\, Songs begleiten und neue KlÃ¤nge in unseren Veranstaltungen erklingen lassen.
URL:https://kirche-dll.de/termin/musik-gitarrengruppe/2021-11-26/
LOCATION:Gemeindehaus DÃ¶lau\, Franz-Mehring-Str. 9b\, Halle\, 06120\, Deutschland
CATEGORIES:Musik
END:VEVENT
BEGIN:VEVENT
DTSTART;TZID=Europe/Berlin:20211119T170000
DTEND;TZID=Europe/Berlin:20211119T180000
DTSTAMP:20260423T064841
CREATED:20191127T201307Z
LAST-MODIFIED:20191127T201307Z
UID:10006943-1637341200-1637344800@kirche-dll.de
SUMMARY:Musik- / Gitarrengruppe
DESCRIPTION:Gemeinsam mit Horst Sturm Gitarre spielen lernen\, Songs begleiten und neue KlÃ¤nge in unseren Veranstaltungen erklingen lassen.
URL:https://kirche-dll.de/termin/musik-gitarrengruppe/2021-11-19/
LOCATION:Gemeindehaus DÃ¶lau\, Franz-Mehring-Str. 9b\, Halle\, 06120\, Deutschland
CATEGORIES:Musik
END:VEVENT
BEGIN:VEVENT
DTSTART;TZID=Europe/Berlin:20211112T170000
DTEND;TZID=Europe/Berlin:20211112T180000
DTSTAMP:20260423T064841
CREATED:20191127T201307Z
LAST-MODIFIED:20191127T201307Z
UID:10006942-1636736400-1636740000@kirche-dll.de
SUMMARY:Musik- / Gitarrengruppe
DESCRIPTION:Gemeinsam mit Horst Sturm Gitarre spielen lernen\, Songs begleiten und neue KlÃ¤nge in unseren Veranstaltungen erklingen lassen.
URL:https://kirche-dll.de/termin/musik-gitarrengruppe/2021-11-12/
LOCATION:Gemeindehaus DÃ¶lau\, Franz-Mehring-Str. 9b\, Halle\, 06120\, Deutschland
CATEGORIES:Musik
END:VEVENT
BEGIN:VEVENT
DTSTART;TZID=Europe/Berlin:20211108T190000
DTEND;TZID=Europe/Berlin:20211108T210000
DTSTAMP:20260423T064841
CREATED:20210930T090543Z
LAST-MODIFIED:20210930T090543Z
UID:10007311-1636398000-1636405200@kirche-dll.de
SUMMARY:Regionaler Frauenkreis
DESCRIPTION:Filmabend
URL:https://kirche-dll.de/termin/regionaler-frauenkreis-id10701/
LOCATION:Gemeindehaus DÃ¶lau\, Franz-Mehring-Str. 9b\, Halle\, 06120\, Deutschland
CATEGORIES:Erwachsene
END:VEVENT
BEGIN:VEVENT
DTSTART;TZID=Europe/Berlin:20211105T170000
DTEND;TZID=Europe/Berlin:20211105T180000
DTSTAMP:20260423T064841
CREATED:20191127T201307Z
LAST-MODIFIED:20191127T201307Z
UID:10006941-1636131600-1636135200@kirche-dll.de
SUMMARY:Musik- / Gitarrengruppe
DESCRIPTION:Gemeinsam mit Horst Sturm Gitarre spielen lernen\, Songs begleiten und neue KlÃ¤nge in unseren Veranstaltungen erklingen lassen.
URL:https://kirche-dll.de/termin/musik-gitarrengruppe/2021-11-05/
LOCATION:Gemeindehaus DÃ¶lau\, Franz-Mehring-Str. 9b\, Halle\, 06120\, Deutschland
CATEGORIES:Musik
END:VEVENT
END:VCALENDAR