BEGIN:VCALENDAR
VERSION:2.0
PRODID:-//Evangelische Kirche DÃ¶lau-Lieskau / Lettin - ECPv6.15.17.1//NONSGML v1.0//EN
CALSCALE:GREGORIAN
METHOD:PUBLISH
X-ORIGINAL-URL:https://kirche-dll.de
X-WR-CALDESC:Veranstaltungen fÃ¼r Evangelische Kirche DÃ¶lau-Lieskau / Lettin
REFRESH-INTERVAL;VALUE=DURATION:PT1H
X-Robots-Tag:noindex
X-PUBLISHED-TTL:PT1H
BEGIN:VTIMEZONE
TZID:Europe/Berlin
BEGIN:DAYLIGHT
TZOFFSETFROM:+0100
TZOFFSETTO:+0200
TZNAME:CEST
DTSTART:20210328T010000
END:DAYLIGHT
BEGIN:STANDARD
TZOFFSETFROM:+0200
TZOFFSETTO:+0100
TZNAME:CET
DTSTART:20211031T010000
END:STANDARD
BEGIN:DAYLIGHT
TZOFFSETFROM:+0100
TZOFFSETTO:+0200
TZNAME:CEST
DTSTART:20220327T010000
END:DAYLIGHT
BEGIN:STANDARD
TZOFFSETFROM:+0200
TZOFFSETTO:+0100
TZNAME:CET
DTSTART:20221030T010000
END:STANDARD
BEGIN:DAYLIGHT
TZOFFSETFROM:+0100
TZOFFSETTO:+0200
TZNAME:CEST
DTSTART:20230326T010000
END:DAYLIGHT
BEGIN:STANDARD
TZOFFSETFROM:+0200
TZOFFSETTO:+0100
TZNAME:CET
DTSTART:20231029T010000
END:STANDARD
END:VTIMEZONE
BEGIN:VEVENT
DTSTART;TZID=Europe/Berlin:20220327T110000
DTEND;TZID=Europe/Berlin:20220327T120000
DTSTAMP:20260423T031751
CREATED:20220126T085733Z
LAST-MODIFIED:20220126T085733Z
UID:10007420-1648378800-1648382400@kirche-dll.de
SUMMARY:Gottesdienst
DESCRIPTION:
URL:https://kirche-dll.de/termin/gottesdienst-id11053/
LOCATION:Gemeindehaus DÃ¶lau\, Franz-Mehring-Str. 9b\, Halle\, 06120\, Deutschland
CATEGORIES:Gottesdienste
END:VEVENT
BEGIN:VEVENT
DTSTART;TZID=Europe/Berlin:20220326T093000
DTEND;TZID=Europe/Berlin:20220326T120000
DTSTAMP:20260423T031751
CREATED:20220126T091616Z
LAST-MODIFIED:20220126T091616Z
UID:10007430-1648287000-1648296000@kirche-dll.de
SUMMARY:NÃ¤hwerkstatt zu Ostern
DESCRIPTION:fÃ¼r Klein und GroÃŸ!\nWir bitten zu Unkostendeckung um eine Spende.\nSie kÃ¶nnen gern Stoffreste\, dickere FilzstÃ¼cke\, FilzbÃ¤nder\, FÃ¼llwatte und anderes mehr mitbringen. Wenn Sie mÃ¶chten\, auch Ihre NÃ¤hmaschine.
URL:https://kirche-dll.de/termin/naehwerkstatt-zu-ostern-id11073/
LOCATION:Gemeindehaus DÃ¶lau\, Franz-Mehring-Str. 9b\, Halle\, 06120\, Deutschland
CATEGORIES:Erwachsene,Familien,Jugendliche,Kinder,Senioren
END:VEVENT
BEGIN:VEVENT
DTSTART;TZID=Europe/Berlin:20220325T170000
DTEND;TZID=Europe/Berlin:20220325T180000
DTSTAMP:20260423T031751
CREATED:20191127T201307Z
LAST-MODIFIED:20191127T201307Z
UID:10006961-1648227600-1648231200@kirche-dll.de
SUMMARY:Musik- / Gitarrengruppe
DESCRIPTION:Gemeinsam mit Horst Sturm Gitarre spielen lernen\, Songs begleiten und neue KlÃ¤nge in unseren Veranstaltungen erklingen lassen.
URL:https://kirche-dll.de/termin/musik-gitarrengruppe/2022-03-25/
LOCATION:Gemeindehaus DÃ¶lau\, Franz-Mehring-Str. 9b\, Halle\, 06120\, Deutschland
CATEGORIES:Musik
END:VEVENT
BEGIN:VEVENT
DTSTART;TZID=Europe/Berlin:20220324T100000
DTEND;TZID=Europe/Berlin:20220324T113000
DTSTAMP:20260423T031751
CREATED:20220125T121922Z
LAST-MODIFIED:20220125T121933Z
UID:10007387-1648116000-1648121400@kirche-dll.de
SUMMARY:SeniorenfrÃ¼hstÃ¼ck
DESCRIPTION:
URL:https://kirche-dll.de/termin/seniorenfruehstueck-id10977/2022-03-24/
LOCATION:Gemeindehaus DÃ¶lau\, Franz-Mehring-Str. 9b\, Halle\, 06120\, Deutschland
CATEGORIES:Senioren
END:VEVENT
BEGIN:VEVENT
DTSTART;TZID=Europe/Berlin:20220322T161500
DTEND;TZID=Europe/Berlin:20220322T171500
DTSTAMP:20260423T031751
CREATED:20210622T140513Z
LAST-MODIFIED:20220110T164009Z
UID:10007208-1647965700-1647969300@kirche-dll.de
SUMMARY:Kinderkirche 4.-6. Klasse
DESCRIPTION:
URL:https://kirche-dll.de/termin/kinderkirche-4-6-klasse-id10390/2022-03-22/
LOCATION:Gemeindehaus DÃ¶lau\, Franz-Mehring-Str. 9b\, Halle\, 06120\, Deutschland
CATEGORIES:Kinder
END:VEVENT
BEGIN:VEVENT
DTSTART;TZID=Europe/Berlin:20220320T110000
DTEND;TZID=Europe/Berlin:20220320T123000
DTSTAMP:20260423T031751
CREATED:20220125T130917Z
LAST-MODIFIED:20220317T140749Z
UID:10007398-1647774000-1647779400@kirche-dll.de
SUMMARY:Familienkirche - muss diesen Sonntag leider ausfallen
DESCRIPTION:Ein Gottesdienst zum Mitmachen fÃ¼r GroÃŸ und Klein\, Jung und Alt\, ein.\nNach dem Gottesdienst essen wir gemeinsam.
URL:https://kirche-dll.de/termin/familienkirche-muss-diesen-sonntag-leider-ausfallen-id11003/
LOCATION:Gemeindehaus DÃ¶lau\, Franz-Mehring-Str. 9b\, Halle\, 06120\, Deutschland
CATEGORIES:Erwachsene,Familien,Gottesdienste,Jugendliche,Kinder
END:VEVENT
BEGIN:VEVENT
DTSTART;TZID=Europe/Berlin:20220318T170000
DTEND;TZID=Europe/Berlin:20220318T180000
DTSTAMP:20260423T031751
CREATED:20191127T201307Z
LAST-MODIFIED:20191127T201307Z
UID:10006960-1647622800-1647626400@kirche-dll.de
SUMMARY:Musik- / Gitarrengruppe
DESCRIPTION:Gemeinsam mit Horst Sturm Gitarre spielen lernen\, Songs begleiten und neue KlÃ¤nge in unseren Veranstaltungen erklingen lassen.
URL:https://kirche-dll.de/termin/musik-gitarrengruppe/2022-03-18/
LOCATION:Gemeindehaus DÃ¶lau\, Franz-Mehring-Str. 9b\, Halle\, 06120\, Deutschland
CATEGORIES:Musik
END:VEVENT
BEGIN:VEVENT
DTSTART;TZID=Europe/Berlin:20220315T161500
DTEND;TZID=Europe/Berlin:20220315T171500
DTSTAMP:20260423T031751
CREATED:20210622T140513Z
LAST-MODIFIED:20220110T164009Z
UID:10007207-1647360900-1647364500@kirche-dll.de
SUMMARY:Kinderkirche 4.-6. Klasse
DESCRIPTION:
URL:https://kirche-dll.de/termin/kinderkirche-4-6-klasse-id10390/2022-03-15/
LOCATION:Gemeindehaus DÃ¶lau\, Franz-Mehring-Str. 9b\, Halle\, 06120\, Deutschland
CATEGORIES:Kinder
END:VEVENT
BEGIN:VEVENT
DTSTART;TZID=Europe/Berlin:20220311T170000
DTEND;TZID=Europe/Berlin:20220311T180000
DTSTAMP:20260423T031751
CREATED:20191127T201307Z
LAST-MODIFIED:20191127T201307Z
UID:10006959-1647018000-1647021600@kirche-dll.de
SUMMARY:Musik- / Gitarrengruppe
DESCRIPTION:Gemeinsam mit Horst Sturm Gitarre spielen lernen\, Songs begleiten und neue KlÃ¤nge in unseren Veranstaltungen erklingen lassen.
URL:https://kirche-dll.de/termin/musik-gitarrengruppe/2022-03-11/
LOCATION:Gemeindehaus DÃ¶lau\, Franz-Mehring-Str. 9b\, Halle\, 06120\, Deutschland
CATEGORIES:Musik
END:VEVENT
BEGIN:VEVENT
DTSTART;TZID=Europe/Berlin:20220308T161500
DTEND;TZID=Europe/Berlin:20220308T171500
DTSTAMP:20260423T031751
CREATED:20210622T140513Z
LAST-MODIFIED:20220110T164009Z
UID:10007206-1646756100-1646759700@kirche-dll.de
SUMMARY:Kinderkirche 4.-6. Klasse
DESCRIPTION:
URL:https://kirche-dll.de/termin/kinderkirche-4-6-klasse-id10390/2022-03-08/
LOCATION:Gemeindehaus DÃ¶lau\, Franz-Mehring-Str. 9b\, Halle\, 06120\, Deutschland
CATEGORIES:Kinder
END:VEVENT
BEGIN:VEVENT
DTSTART;TZID=Europe/Berlin:20220307T190000
DTEND;TZID=Europe/Berlin:20220307T210000
DTSTAMP:20260423T031751
CREATED:20220125T122336Z
LAST-MODIFIED:20220125T122336Z
UID:10007390-1646679600-1646686800@kirche-dll.de
SUMMARY:Regionaler Frauenkreis
DESCRIPTION:Kreatives zu Ostern
URL:https://kirche-dll.de/termin/regionaler-frauenkreis-id10985/
LOCATION:Gemeindehaus DÃ¶lau\, Franz-Mehring-Str. 9b\, Halle\, 06120\, Deutschland
CATEGORIES:Erwachsene
END:VEVENT
BEGIN:VEVENT
DTSTART;TZID=Europe/Berlin:20220304T170000
DTEND;TZID=Europe/Berlin:20220304T180000
DTSTAMP:20260423T031751
CREATED:20191127T201307Z
LAST-MODIFIED:20191127T201307Z
UID:10006958-1646413200-1646416800@kirche-dll.de
SUMMARY:Musik- / Gitarrengruppe
DESCRIPTION:Gemeinsam mit Horst Sturm Gitarre spielen lernen\, Songs begleiten und neue KlÃ¤nge in unseren Veranstaltungen erklingen lassen.
URL:https://kirche-dll.de/termin/musik-gitarrengruppe/2022-03-04/
LOCATION:Gemeindehaus DÃ¶lau\, Franz-Mehring-Str. 9b\, Halle\, 06120\, Deutschland
CATEGORIES:Musik
END:VEVENT
BEGIN:VEVENT
DTSTART;TZID=Europe/Berlin:20220301T161500
DTEND;TZID=Europe/Berlin:20220301T171500
DTSTAMP:20260423T031751
CREATED:20210622T140513Z
LAST-MODIFIED:20220110T164009Z
UID:10007205-1646151300-1646154900@kirche-dll.de
SUMMARY:Kinderkirche 4.-6. Klasse
DESCRIPTION:
URL:https://kirche-dll.de/termin/kinderkirche-4-6-klasse-id10390/2022-03-01/
LOCATION:Gemeindehaus DÃ¶lau\, Franz-Mehring-Str. 9b\, Halle\, 06120\, Deutschland
CATEGORIES:Kinder
END:VEVENT
BEGIN:VEVENT
DTSTART;TZID=Europe/Berlin:20220227T110000
DTEND;TZID=Europe/Berlin:20220227T120000
DTSTAMP:20260423T031751
CREATED:20220125T131148Z
LAST-MODIFIED:20220221T135239Z
UID:10007399-1645959600-1645963200@kirche-dll.de
SUMMARY:FÃ¤llt leider aus !! Ã–kumenischer Faschingsgottesdienst !!
DESCRIPTION:Der Faschingsgottesdienst muss wegen Krankheit leider ausfallen!\nDanke fÃ¼r Ihr VerstÃ¤ndnis. \n 
URL:https://kirche-dll.de/termin/faellt-leider-aus-oekumenischer-faschingsgottesdienst-id11005/
LOCATION:Gemeindehaus DÃ¶lau\, Franz-Mehring-Str. 9b\, Halle\, 06120\, Deutschland
CATEGORIES:Erwachsene,Familien,Gottesdienste,Jugendliche,Kinder
END:VEVENT
BEGIN:VEVENT
DTSTART;TZID=Europe/Berlin:20220225T170000
DTEND;TZID=Europe/Berlin:20220225T180000
DTSTAMP:20260423T031751
CREATED:20191127T201307Z
LAST-MODIFIED:20191127T201307Z
UID:10006957-1645808400-1645812000@kirche-dll.de
SUMMARY:Musik- / Gitarrengruppe
DESCRIPTION:Gemeinsam mit Horst Sturm Gitarre spielen lernen\, Songs begleiten und neue KlÃ¤nge in unseren Veranstaltungen erklingen lassen.
URL:https://kirche-dll.de/termin/musik-gitarrengruppe/2022-02-25/
LOCATION:Gemeindehaus DÃ¶lau\, Franz-Mehring-Str. 9b\, Halle\, 06120\, Deutschland
CATEGORIES:Musik
END:VEVENT
BEGIN:VEVENT
DTSTART;TZID=Europe/Berlin:20220224T100000
DTEND;TZID=Europe/Berlin:20220224T113000
DTSTAMP:20260423T031751
CREATED:20220125T121922Z
LAST-MODIFIED:20220125T121933Z
UID:10007386-1645696800-1645702200@kirche-dll.de
SUMMARY:SeniorenfrÃ¼hstÃ¼ck
DESCRIPTION:
URL:https://kirche-dll.de/termin/seniorenfruehstueck-id10977/2022-02-24/
LOCATION:Gemeindehaus DÃ¶lau\, Franz-Mehring-Str. 9b\, Halle\, 06120\, Deutschland
CATEGORIES:Senioren
END:VEVENT
BEGIN:VEVENT
DTSTART;TZID=Europe/Berlin:20220222T161500
DTEND;TZID=Europe/Berlin:20220222T171500
DTSTAMP:20260423T031751
CREATED:20210622T140513Z
LAST-MODIFIED:20220110T164009Z
UID:10007204-1645546500-1645550100@kirche-dll.de
SUMMARY:Kinderkirche 4.-6. Klasse
DESCRIPTION:
URL:https://kirche-dll.de/termin/kinderkirche-4-6-klasse-id10390/2022-02-22/
LOCATION:Gemeindehaus DÃ¶lau\, Franz-Mehring-Str. 9b\, Halle\, 06120\, Deutschland
CATEGORIES:Kinder
END:VEVENT
BEGIN:VEVENT
DTSTART;TZID=Europe/Berlin:20220218T170000
DTEND;TZID=Europe/Berlin:20220218T180000
DTSTAMP:20260423T031751
CREATED:20191127T201307Z
LAST-MODIFIED:20191127T201307Z
UID:10006956-1645203600-1645207200@kirche-dll.de
SUMMARY:Musik- / Gitarrengruppe
DESCRIPTION:Gemeinsam mit Horst Sturm Gitarre spielen lernen\, Songs begleiten und neue KlÃ¤nge in unseren Veranstaltungen erklingen lassen.
URL:https://kirche-dll.de/termin/musik-gitarrengruppe/2022-02-18/
LOCATION:Gemeindehaus DÃ¶lau\, Franz-Mehring-Str. 9b\, Halle\, 06120\, Deutschland
CATEGORIES:Musik
END:VEVENT
BEGIN:VEVENT
DTSTART;TZID=Europe/Berlin:20220215T161500
DTEND;TZID=Europe/Berlin:20220215T171500
DTSTAMP:20260423T031751
CREATED:20210622T140513Z
LAST-MODIFIED:20220110T164009Z
UID:10007203-1644941700-1644945300@kirche-dll.de
SUMMARY:Kinderkirche 4.-6. Klasse
DESCRIPTION:
URL:https://kirche-dll.de/termin/kinderkirche-4-6-klasse-id10390/2022-02-15/
LOCATION:Gemeindehaus DÃ¶lau\, Franz-Mehring-Str. 9b\, Halle\, 06120\, Deutschland
CATEGORIES:Kinder
END:VEVENT
BEGIN:VEVENT
DTSTART;TZID=Europe/Berlin:20220211T170000
DTEND;TZID=Europe/Berlin:20220211T180000
DTSTAMP:20260423T031751
CREATED:20191127T201307Z
LAST-MODIFIED:20191127T201307Z
UID:10006955-1644598800-1644602400@kirche-dll.de
SUMMARY:Musik- / Gitarrengruppe
DESCRIPTION:Gemeinsam mit Horst Sturm Gitarre spielen lernen\, Songs begleiten und neue KlÃ¤nge in unseren Veranstaltungen erklingen lassen.
URL:https://kirche-dll.de/termin/musik-gitarrengruppe/2022-02-11/
LOCATION:Gemeindehaus DÃ¶lau\, Franz-Mehring-Str. 9b\, Halle\, 06120\, Deutschland
CATEGORIES:Musik
END:VEVENT
BEGIN:VEVENT
DTSTART;TZID=Europe/Berlin:20220208T161500
DTEND;TZID=Europe/Berlin:20220208T171500
DTSTAMP:20260423T031751
CREATED:20210622T140513Z
LAST-MODIFIED:20220110T164009Z
UID:10007202-1644336900-1644340500@kirche-dll.de
SUMMARY:Kinderkirche 4.-6. Klasse
DESCRIPTION:
URL:https://kirche-dll.de/termin/kinderkirche-4-6-klasse-id10390/2022-02-08/
LOCATION:Gemeindehaus DÃ¶lau\, Franz-Mehring-Str. 9b\, Halle\, 06120\, Deutschland
CATEGORIES:Kinder
END:VEVENT
BEGIN:VEVENT
DTSTART;TZID=Europe/Berlin:20220207T190000
DTEND;TZID=Europe/Berlin:20220207T210000
DTSTAMP:20260423T031751
CREATED:20220125T121131Z
LAST-MODIFIED:20220125T121131Z
UID:10007379-1644260400-1644267600@kirche-dll.de
SUMMARY:Regionaler Frauenkreis
DESCRIPTION:Lesung mit Beate MÃ¼ller
URL:https://kirche-dll.de/termin/regionaler-frauenkreis-id10963/
LOCATION:Gemeindehaus DÃ¶lau\, Franz-Mehring-Str. 9b\, Halle\, 06120\, Deutschland
CATEGORIES:Erwachsene
END:VEVENT
BEGIN:VEVENT
DTSTART;TZID=Europe/Berlin:20220204T170000
DTEND;TZID=Europe/Berlin:20220204T180000
DTSTAMP:20260423T031751
CREATED:20191127T201307Z
LAST-MODIFIED:20191127T201307Z
UID:10006954-1643994000-1643997600@kirche-dll.de
SUMMARY:Musik- / Gitarrengruppe
DESCRIPTION:Gemeinsam mit Horst Sturm Gitarre spielen lernen\, Songs begleiten und neue KlÃ¤nge in unseren Veranstaltungen erklingen lassen.
URL:https://kirche-dll.de/termin/musik-gitarrengruppe/2022-02-04/
LOCATION:Gemeindehaus DÃ¶lau\, Franz-Mehring-Str. 9b\, Halle\, 06120\, Deutschland
CATEGORIES:Musik
END:VEVENT
BEGIN:VEVENT
DTSTART;TZID=Europe/Berlin:20220201T161500
DTEND;TZID=Europe/Berlin:20220201T171500
DTSTAMP:20260423T031751
CREATED:20210622T140513Z
LAST-MODIFIED:20220110T164009Z
UID:10007201-1643732100-1643735700@kirche-dll.de
SUMMARY:Kinderkirche 4.-6. Klasse
DESCRIPTION:
URL:https://kirche-dll.de/termin/kinderkirche-4-6-klasse-id10390/2022-02-01/
LOCATION:Gemeindehaus DÃ¶lau\, Franz-Mehring-Str. 9b\, Halle\, 06120\, Deutschland
CATEGORIES:Kinder
END:VEVENT
BEGIN:VEVENT
DTSTART;TZID=Europe/Berlin:20220128T170000
DTEND;TZID=Europe/Berlin:20220128T180000
DTSTAMP:20260423T031751
CREATED:20191127T201307Z
LAST-MODIFIED:20191127T201307Z
UID:10006953-1643389200-1643392800@kirche-dll.de
SUMMARY:Musik- / Gitarrengruppe
DESCRIPTION:Gemeinsam mit Horst Sturm Gitarre spielen lernen\, Songs begleiten und neue KlÃ¤nge in unseren Veranstaltungen erklingen lassen.
URL:https://kirche-dll.de/termin/musik-gitarrengruppe/2022-01-28/
LOCATION:Gemeindehaus DÃ¶lau\, Franz-Mehring-Str. 9b\, Halle\, 06120\, Deutschland
CATEGORIES:Musik
END:VEVENT
BEGIN:VEVENT
DTSTART;TZID=Europe/Berlin:20220127T100000
DTEND;TZID=Europe/Berlin:20220127T120000
DTSTAMP:20260423T031751
CREATED:20211115T141358Z
LAST-MODIFIED:20211115T141358Z
UID:10007331-1643277600-1643284800@kirche-dll.de
SUMMARY:SeniorenfrÃ¼hstÃ¼ck DÃ¶lau
DESCRIPTION:
URL:https://kirche-dll.de/termin/seniorenfruehstueck-doelau-id10753/
LOCATION:Gemeindehaus DÃ¶lau\, Franz-Mehring-Str. 9b\, Halle\, 06120\, Deutschland
CATEGORIES:Senioren
END:VEVENT
BEGIN:VEVENT
DTSTART;TZID=Europe/Berlin:20220125T161500
DTEND;TZID=Europe/Berlin:20220125T171500
DTSTAMP:20260423T031751
CREATED:20210622T140513Z
LAST-MODIFIED:20220110T164009Z
UID:10007200-1643127300-1643130900@kirche-dll.de
SUMMARY:Kinderkirche 4.-6. Klasse
DESCRIPTION:
URL:https://kirche-dll.de/termin/kinderkirche-4-6-klasse-id10390/2022-01-25/
LOCATION:Gemeindehaus DÃ¶lau\, Franz-Mehring-Str. 9b\, Halle\, 06120\, Deutschland
CATEGORIES:Kinder
END:VEVENT
BEGIN:VEVENT
DTSTART;TZID=Europe/Berlin:20220123T110000
DTEND;TZID=Europe/Berlin:20220123T120000
DTSTAMP:20260423T031751
CREATED:20211115T150304Z
LAST-MODIFIED:20211115T150304Z
UID:10007359-1642935600-1642939200@kirche-dll.de
SUMMARY:Gottesdienst
DESCRIPTION:
URL:https://kirche-dll.de/termin/gottesdienst-id10812/
LOCATION:Gemeindehaus DÃ¶lau\, Franz-Mehring-Str. 9b\, Halle\, 06120\, Deutschland
CATEGORIES:Gottesdienste
END:VEVENT
BEGIN:VEVENT
DTSTART;TZID=Europe/Berlin:20220121T170000
DTEND;TZID=Europe/Berlin:20220121T180000
DTSTAMP:20260423T031751
CREATED:20191127T201307Z
LAST-MODIFIED:20191127T201307Z
UID:10006952-1642784400-1642788000@kirche-dll.de
SUMMARY:Musik- / Gitarrengruppe
DESCRIPTION:Gemeinsam mit Horst Sturm Gitarre spielen lernen\, Songs begleiten und neue KlÃ¤nge in unseren Veranstaltungen erklingen lassen.
URL:https://kirche-dll.de/termin/musik-gitarrengruppe/2022-01-21/
LOCATION:Gemeindehaus DÃ¶lau\, Franz-Mehring-Str. 9b\, Halle\, 06120\, Deutschland
CATEGORIES:Musik
END:VEVENT
BEGIN:VEVENT
DTSTART;TZID=Europe/Berlin:20220118T161500
DTEND;TZID=Europe/Berlin:20220118T171500
DTSTAMP:20260423T031751
CREATED:20210622T140513Z
LAST-MODIFIED:20220110T164009Z
UID:10007199-1642522500-1642526100@kirche-dll.de
SUMMARY:Kinderkirche 4.-6. Klasse
DESCRIPTION:
URL:https://kirche-dll.de/termin/kinderkirche-4-6-klasse-id10390/2022-01-18/
LOCATION:Gemeindehaus DÃ¶lau\, Franz-Mehring-Str. 9b\, Halle\, 06120\, Deutschland
CATEGORIES:Kinder
END:VEVENT
END:VCALENDAR