BEGIN:VCALENDAR
VERSION:2.0
PRODID:-//Evangelische Kirche Dölau-Lieskau / Lettin - ECPv6.15.17.1//NONSGML v1.0//EN
CALSCALE:GREGORIAN
METHOD:PUBLISH
X-ORIGINAL-URL:https://kirche-dll.de
X-WR-CALDESC:Veranstaltungen für Evangelische Kirche Dölau-Lieskau / Lettin
REFRESH-INTERVAL;VALUE=DURATION:PT1H
X-Robots-Tag:noindex
X-PUBLISHED-TTL:PT1H
BEGIN:VTIMEZONE
TZID:Europe/Berlin
BEGIN:DAYLIGHT
TZOFFSETFROM:+0100
TZOFFSETTO:+0200
TZNAME:CEST
DTSTART:20210328T010000
END:DAYLIGHT
BEGIN:STANDARD
TZOFFSETFROM:+0200
TZOFFSETTO:+0100
TZNAME:CET
DTSTART:20211031T010000
END:STANDARD
BEGIN:DAYLIGHT
TZOFFSETFROM:+0100
TZOFFSETTO:+0200
TZNAME:CEST
DTSTART:20220327T010000
END:DAYLIGHT
BEGIN:STANDARD
TZOFFSETFROM:+0200
TZOFFSETTO:+0100
TZNAME:CET
DTSTART:20221030T010000
END:STANDARD
BEGIN:DAYLIGHT
TZOFFSETFROM:+0100
TZOFFSETTO:+0200
TZNAME:CEST
DTSTART:20230326T010000
END:DAYLIGHT
BEGIN:STANDARD
TZOFFSETFROM:+0200
TZOFFSETTO:+0100
TZNAME:CET
DTSTART:20231029T010000
END:STANDARD
END:VTIMEZONE
BEGIN:VEVENT
DTSTART;TZID=Europe/Berlin:20220524T144500
DTEND;TZID=Europe/Berlin:20220524T160000
DTSTAMP:20260423T000814
CREATED:20210622T140127Z
LAST-MODIFIED:20220505T070112Z
UID:10007190-1653403500-1653408000@kirche-dll.de
SUMMARY:Kinderkirche 1.-4. Klasse
DESCRIPTION:
URL:https://kirche-dll.de/termin/kinderkirche-1-4-klasse-id10364/2022-05-24/
LOCATION:Gemeindehaus Dölau\, Franz-Mehring-Str. 9b\, Halle\, 06120\, Deutschland
CATEGORIES:Kinder
END:VEVENT
BEGIN:VEVENT
DTSTART;TZID=Europe/Berlin:20220520T170000
DTEND;TZID=Europe/Berlin:20220520T180000
DTSTAMP:20260423T000814
CREATED:20191127T201307Z
LAST-MODIFIED:20191127T201307Z
UID:10006969-1653066000-1653069600@kirche-dll.de
SUMMARY:Musik- / Gitarrengruppe
DESCRIPTION:Gemeinsam mit Horst Sturm Gitarre spielen lernen\, Songs begleiten und neue Klänge in unseren Veranstaltungen erklingen lassen.
URL:https://kirche-dll.de/termin/musik-gitarrengruppe/2022-05-20/
LOCATION:Gemeindehaus Dölau\, Franz-Mehring-Str. 9b\, Halle\, 06120\, Deutschland
CATEGORIES:Musik
END:VEVENT
BEGIN:VEVENT
DTSTART;TZID=Europe/Berlin:20220517T144500
DTEND;TZID=Europe/Berlin:20220517T160000
DTSTAMP:20260423T000814
CREATED:20210622T140127Z
LAST-MODIFIED:20220505T070112Z
UID:10007189-1652798700-1652803200@kirche-dll.de
SUMMARY:Kinderkirche 1.-4. Klasse
DESCRIPTION:
URL:https://kirche-dll.de/termin/kinderkirche-1-4-klasse-id10364/2022-05-17/
LOCATION:Gemeindehaus Dölau\, Franz-Mehring-Str. 9b\, Halle\, 06120\, Deutschland
CATEGORIES:Kinder
END:VEVENT
BEGIN:VEVENT
DTSTART;TZID=Europe/Berlin:20220516T150000
DTEND;TZID=Europe/Berlin:20220516T170000
DTSTAMP:20260423T000814
CREATED:20220505T071823Z
LAST-MODIFIED:20220505T071823Z
UID:10007446-1652713200-1652720400@kirche-dll.de
SUMMARY:Begegnungscafe Dölau
DESCRIPTION:Welche Wildkräuter wachsen in unserem Gemeindegarten? Informationen rund um die Kräuter mit anschließender Verkostung\, mit Ines Sandner
URL:https://kirche-dll.de/termin/begegnungscafe-doelau-id11335/
LOCATION:Gemeindehaus Dölau\, Franz-Mehring-Str. 9b\, Halle\, 06120\, Deutschland
CATEGORIES:Erwachsene,Senioren
END:VEVENT
BEGIN:VEVENT
DTSTART;TZID=Europe/Berlin:20220513T170000
DTEND;TZID=Europe/Berlin:20220513T180000
DTSTAMP:20260423T000814
CREATED:20191127T201307Z
LAST-MODIFIED:20191127T201307Z
UID:10006968-1652461200-1652464800@kirche-dll.de
SUMMARY:Musik- / Gitarrengruppe
DESCRIPTION:Gemeinsam mit Horst Sturm Gitarre spielen lernen\, Songs begleiten und neue Klänge in unseren Veranstaltungen erklingen lassen.
URL:https://kirche-dll.de/termin/musik-gitarrengruppe/2022-05-13/
LOCATION:Gemeindehaus Dölau\, Franz-Mehring-Str. 9b\, Halle\, 06120\, Deutschland
CATEGORIES:Musik
END:VEVENT
BEGIN:VEVENT
DTSTART;TZID=Europe/Berlin:20220512T100000
DTEND;TZID=Europe/Berlin:20220512T120000
DTSTAMP:20260423T000814
CREATED:20220505T071610Z
LAST-MODIFIED:20220505T071610Z
UID:10007444-1652349600-1652356800@kirche-dll.de
SUMMARY:Seniorenfrühstück Dölau
DESCRIPTION:
URL:https://kirche-dll.de/termin/seniorenfruehstueck-doelau-id11331/2022-05-12/
LOCATION:Gemeindehaus Dölau\, Franz-Mehring-Str. 9b\, Halle\, 06120\, Deutschland
CATEGORIES:Senioren
END:VEVENT
BEGIN:VEVENT
DTSTART;TZID=Europe/Berlin:20220510T144500
DTEND;TZID=Europe/Berlin:20220510T160000
DTSTAMP:20260423T000814
CREATED:20210622T140127Z
LAST-MODIFIED:20220505T070112Z
UID:10007188-1652193900-1652198400@kirche-dll.de
SUMMARY:Kinderkirche 1.-4. Klasse
DESCRIPTION:
URL:https://kirche-dll.de/termin/kinderkirche-1-4-klasse-id10364/2022-05-10/
LOCATION:Gemeindehaus Dölau\, Franz-Mehring-Str. 9b\, Halle\, 06120\, Deutschland
CATEGORIES:Kinder
END:VEVENT
BEGIN:VEVENT
DTSTART;TZID=Europe/Berlin:20220509T190000
DTEND;TZID=Europe/Berlin:20220509T210000
DTSTAMP:20260423T000814
CREATED:20220505T071128Z
LAST-MODIFIED:20220505T071128Z
UID:10007440-1652122800-1652130000@kirche-dll.de
SUMMARY:Regionaler Frauenkreis
DESCRIPTION:„Hungertücher – ihre Funktion damals und heute“ mit Annika und Ulrike Simm
URL:https://kirche-dll.de/termin/regionaler-frauenkreis-id11323/
LOCATION:Gemeindehaus Dölau\, Franz-Mehring-Str. 9b\, Halle\, 06120\, Deutschland
CATEGORIES:Erwachsene
END:VEVENT
BEGIN:VEVENT
DTSTART;TZID=Europe/Berlin:20220506T170000
DTEND;TZID=Europe/Berlin:20220506T180000
DTSTAMP:20260423T000814
CREATED:20191127T201307Z
LAST-MODIFIED:20191127T201307Z
UID:10006967-1651856400-1651860000@kirche-dll.de
SUMMARY:Musik- / Gitarrengruppe
DESCRIPTION:Gemeinsam mit Horst Sturm Gitarre spielen lernen\, Songs begleiten und neue Klänge in unseren Veranstaltungen erklingen lassen.
URL:https://kirche-dll.de/termin/musik-gitarrengruppe/2022-05-06/
LOCATION:Gemeindehaus Dölau\, Franz-Mehring-Str. 9b\, Halle\, 06120\, Deutschland
CATEGORIES:Musik
END:VEVENT
BEGIN:VEVENT
DTSTART;TZID=Europe/Berlin:20220503T144500
DTEND;TZID=Europe/Berlin:20220503T160000
DTSTAMP:20260423T000814
CREATED:20210622T140127Z
LAST-MODIFIED:20220505T070112Z
UID:10007187-1651589100-1651593600@kirche-dll.de
SUMMARY:Kinderkirche 1.-4. Klasse
DESCRIPTION:
URL:https://kirche-dll.de/termin/kinderkirche-1-4-klasse-id10364/2022-05-03/
LOCATION:Gemeindehaus Dölau\, Franz-Mehring-Str. 9b\, Halle\, 06120\, Deutschland
CATEGORIES:Kinder
END:VEVENT
BEGIN:VEVENT
DTSTART;TZID=Europe/Berlin:20220429T170000
DTEND;TZID=Europe/Berlin:20220429T180000
DTSTAMP:20260423T000814
CREATED:20191127T201307Z
LAST-MODIFIED:20191127T201307Z
UID:10006966-1651251600-1651255200@kirche-dll.de
SUMMARY:Musik- / Gitarrengruppe
DESCRIPTION:Gemeinsam mit Horst Sturm Gitarre spielen lernen\, Songs begleiten und neue Klänge in unseren Veranstaltungen erklingen lassen.
URL:https://kirche-dll.de/termin/musik-gitarrengruppe/2022-04-29/
LOCATION:Gemeindehaus Dölau\, Franz-Mehring-Str. 9b\, Halle\, 06120\, Deutschland
CATEGORIES:Musik
END:VEVENT
BEGIN:VEVENT
DTSTART;TZID=Europe/Berlin:20220425T150000
DTEND;TZID=Europe/Berlin:20220425T170000
DTSTAMP:20260423T000814
CREATED:20220126T083603Z
LAST-MODIFIED:20220331T104731Z
UID:10007411-1650898800-1650906000@kirche-dll.de
SUMMARY:Begegnungscafé Dölau
DESCRIPTION:Die Geschichte von Dölau.\nmit Bernd Wolfermann
URL:https://kirche-dll.de/termin/begegnungscafe-doelau-id11035/
LOCATION:Gemeindehaus Dölau\, Franz-Mehring-Str. 9b\, Halle\, 06120\, Deutschland
CATEGORIES:Senioren
END:VEVENT
BEGIN:VEVENT
DTSTART;TZID=Europe/Berlin:20220422T170000
DTEND;TZID=Europe/Berlin:20220422T180000
DTSTAMP:20260423T000814
CREATED:20191127T201307Z
LAST-MODIFIED:20191127T201307Z
UID:10006965-1650646800-1650650400@kirche-dll.de
SUMMARY:Musik- / Gitarrengruppe
DESCRIPTION:Gemeinsam mit Horst Sturm Gitarre spielen lernen\, Songs begleiten und neue Klänge in unseren Veranstaltungen erklingen lassen.
URL:https://kirche-dll.de/termin/musik-gitarrengruppe/2022-04-22/
LOCATION:Gemeindehaus Dölau\, Franz-Mehring-Str. 9b\, Halle\, 06120\, Deutschland
CATEGORIES:Musik
END:VEVENT
BEGIN:VEVENT
DTSTART;TZID=Europe/Berlin:20220421T100000
DTEND;TZID=Europe/Berlin:20220421T113000
DTSTAMP:20260423T000814
CREATED:20220125T121922Z
LAST-MODIFIED:20220125T121933Z
UID:10007388-1650535200-1650540600@kirche-dll.de
SUMMARY:Seniorenfrühstück
DESCRIPTION:
URL:https://kirche-dll.de/termin/seniorenfruehstueck-id10977/2022-04-21/
LOCATION:Gemeindehaus Dölau\, Franz-Mehring-Str. 9b\, Halle\, 06120\, Deutschland
CATEGORIES:Senioren
END:VEVENT
BEGIN:VEVENT
DTSTART;TZID=Europe/Berlin:20220415T170000
DTEND;TZID=Europe/Berlin:20220415T180000
DTSTAMP:20260423T000814
CREATED:20191127T201307Z
LAST-MODIFIED:20191127T201307Z
UID:10006964-1650042000-1650045600@kirche-dll.de
SUMMARY:Musik- / Gitarrengruppe
DESCRIPTION:Gemeinsam mit Horst Sturm Gitarre spielen lernen\, Songs begleiten und neue Klänge in unseren Veranstaltungen erklingen lassen.
URL:https://kirche-dll.de/termin/musik-gitarrengruppe/2022-04-15/
LOCATION:Gemeindehaus Dölau\, Franz-Mehring-Str. 9b\, Halle\, 06120\, Deutschland
CATEGORIES:Musik
END:VEVENT
BEGIN:VEVENT
DTSTART;TZID=Europe/Berlin:20220411T190000
DTEND;TZID=Europe/Berlin:20220411T210000
DTSTAMP:20260423T000814
CREATED:20220126T083119Z
LAST-MODIFIED:20220126T083119Z
UID:10007409-1649703600-1649710800@kirche-dll.de
SUMMARY:Regionaler Frauenkreis
DESCRIPTION:Hungertücher &#8211; ihre Funktion damals und heute.\nmit Annika Simm
URL:https://kirche-dll.de/termin/regionaler-frauenkreis-id11031/
LOCATION:Gemeindehaus Dölau\, Franz-Mehring-Str. 9b\, Halle\, 06120\, Deutschland
CATEGORIES:Erwachsene,Vortrag
END:VEVENT
BEGIN:VEVENT
DTSTART;TZID=Europe/Berlin:20220408T170000
DTEND;TZID=Europe/Berlin:20220408T180000
DTSTAMP:20260423T000814
CREATED:20191127T201307Z
LAST-MODIFIED:20191127T201307Z
UID:10006963-1649437200-1649440800@kirche-dll.de
SUMMARY:Musik- / Gitarrengruppe
DESCRIPTION:Gemeinsam mit Horst Sturm Gitarre spielen lernen\, Songs begleiten und neue Klänge in unseren Veranstaltungen erklingen lassen.
URL:https://kirche-dll.de/termin/musik-gitarrengruppe/2022-04-08/
LOCATION:Gemeindehaus Dölau\, Franz-Mehring-Str. 9b\, Halle\, 06120\, Deutschland
CATEGORIES:Musik
END:VEVENT
BEGIN:VEVENT
DTSTART;TZID=Europe/Berlin:20220405T161500
DTEND;TZID=Europe/Berlin:20220405T171500
DTSTAMP:20260423T000814
CREATED:20210622T140513Z
LAST-MODIFIED:20220110T164009Z
UID:10007210-1649175300-1649178900@kirche-dll.de
SUMMARY:Kinderkirche 4.-6. Klasse
DESCRIPTION:
URL:https://kirche-dll.de/termin/kinderkirche-4-6-klasse-id10390/2022-04-05/
LOCATION:Gemeindehaus Dölau\, Franz-Mehring-Str. 9b\, Halle\, 06120\, Deutschland
CATEGORIES:Kinder
END:VEVENT
BEGIN:VEVENT
DTSTART;TZID=Europe/Berlin:20220401T170000
DTEND;TZID=Europe/Berlin:20220401T180000
DTSTAMP:20260423T000814
CREATED:20191127T201307Z
LAST-MODIFIED:20191127T201307Z
UID:10006962-1648832400-1648836000@kirche-dll.de
SUMMARY:Musik- / Gitarrengruppe
DESCRIPTION:Gemeinsam mit Horst Sturm Gitarre spielen lernen\, Songs begleiten und neue Klänge in unseren Veranstaltungen erklingen lassen.
URL:https://kirche-dll.de/termin/musik-gitarrengruppe/2022-04-01/
LOCATION:Gemeindehaus Dölau\, Franz-Mehring-Str. 9b\, Halle\, 06120\, Deutschland
CATEGORIES:Musik
END:VEVENT
BEGIN:VEVENT
DTSTART;TZID=Europe/Berlin:20220329T161500
DTEND;TZID=Europe/Berlin:20220329T171500
DTSTAMP:20260423T000814
CREATED:20210622T140513Z
LAST-MODIFIED:20220110T164009Z
UID:10007209-1648570500-1648574100@kirche-dll.de
SUMMARY:Kinderkirche 4.-6. Klasse
DESCRIPTION:
URL:https://kirche-dll.de/termin/kinderkirche-4-6-klasse-id10390/2022-03-29/
LOCATION:Gemeindehaus Dölau\, Franz-Mehring-Str. 9b\, Halle\, 06120\, Deutschland
CATEGORIES:Kinder
END:VEVENT
BEGIN:VEVENT
DTSTART;TZID=Europe/Berlin:20220327T110000
DTEND;TZID=Europe/Berlin:20220327T120000
DTSTAMP:20260423T000814
CREATED:20220126T085733Z
LAST-MODIFIED:20220126T085733Z
UID:10007420-1648378800-1648382400@kirche-dll.de
SUMMARY:Gottesdienst
DESCRIPTION:
URL:https://kirche-dll.de/termin/gottesdienst-id11053/
LOCATION:Gemeindehaus Dölau\, Franz-Mehring-Str. 9b\, Halle\, 06120\, Deutschland
CATEGORIES:Gottesdienste
END:VEVENT
BEGIN:VEVENT
DTSTART;TZID=Europe/Berlin:20220326T093000
DTEND;TZID=Europe/Berlin:20220326T120000
DTSTAMP:20260423T000814
CREATED:20220126T091616Z
LAST-MODIFIED:20220126T091616Z
UID:10007430-1648287000-1648296000@kirche-dll.de
SUMMARY:Nähwerkstatt zu Ostern
DESCRIPTION:für Klein und Groß!\nWir bitten zu Unkostendeckung um eine Spende.\nSie können gern Stoffreste\, dickere Filzstücke\, Filzbänder\, Füllwatte und anderes mehr mitbringen. Wenn Sie möchten\, auch Ihre Nähmaschine.
URL:https://kirche-dll.de/termin/naehwerkstatt-zu-ostern-id11073/
LOCATION:Gemeindehaus Dölau\, Franz-Mehring-Str. 9b\, Halle\, 06120\, Deutschland
CATEGORIES:Erwachsene,Familien,Jugendliche,Kinder,Senioren
END:VEVENT
BEGIN:VEVENT
DTSTART;TZID=Europe/Berlin:20220325T170000
DTEND;TZID=Europe/Berlin:20220325T180000
DTSTAMP:20260423T000814
CREATED:20191127T201307Z
LAST-MODIFIED:20191127T201307Z
UID:10006961-1648227600-1648231200@kirche-dll.de
SUMMARY:Musik- / Gitarrengruppe
DESCRIPTION:Gemeinsam mit Horst Sturm Gitarre spielen lernen\, Songs begleiten und neue Klänge in unseren Veranstaltungen erklingen lassen.
URL:https://kirche-dll.de/termin/musik-gitarrengruppe/2022-03-25/
LOCATION:Gemeindehaus Dölau\, Franz-Mehring-Str. 9b\, Halle\, 06120\, Deutschland
CATEGORIES:Musik
END:VEVENT
BEGIN:VEVENT
DTSTART;TZID=Europe/Berlin:20220324T100000
DTEND;TZID=Europe/Berlin:20220324T113000
DTSTAMP:20260423T000814
CREATED:20220125T121922Z
LAST-MODIFIED:20220125T121933Z
UID:10007387-1648116000-1648121400@kirche-dll.de
SUMMARY:Seniorenfrühstück
DESCRIPTION:
URL:https://kirche-dll.de/termin/seniorenfruehstueck-id10977/2022-03-24/
LOCATION:Gemeindehaus Dölau\, Franz-Mehring-Str. 9b\, Halle\, 06120\, Deutschland
CATEGORIES:Senioren
END:VEVENT
BEGIN:VEVENT
DTSTART;TZID=Europe/Berlin:20220322T161500
DTEND;TZID=Europe/Berlin:20220322T171500
DTSTAMP:20260423T000814
CREATED:20210622T140513Z
LAST-MODIFIED:20220110T164009Z
UID:10007208-1647965700-1647969300@kirche-dll.de
SUMMARY:Kinderkirche 4.-6. Klasse
DESCRIPTION:
URL:https://kirche-dll.de/termin/kinderkirche-4-6-klasse-id10390/2022-03-22/
LOCATION:Gemeindehaus Dölau\, Franz-Mehring-Str. 9b\, Halle\, 06120\, Deutschland
CATEGORIES:Kinder
END:VEVENT
BEGIN:VEVENT
DTSTART;TZID=Europe/Berlin:20220320T110000
DTEND;TZID=Europe/Berlin:20220320T123000
DTSTAMP:20260423T000814
CREATED:20220125T130917Z
LAST-MODIFIED:20220317T140749Z
UID:10007398-1647774000-1647779400@kirche-dll.de
SUMMARY:Familienkirche - muss diesen Sonntag leider ausfallen
DESCRIPTION:Ein Gottesdienst zum Mitmachen für Groß und Klein\, Jung und Alt\, ein.\nNach dem Gottesdienst essen wir gemeinsam.
URL:https://kirche-dll.de/termin/familienkirche-muss-diesen-sonntag-leider-ausfallen-id11003/
LOCATION:Gemeindehaus Dölau\, Franz-Mehring-Str. 9b\, Halle\, 06120\, Deutschland
CATEGORIES:Erwachsene,Familien,Gottesdienste,Jugendliche,Kinder
END:VEVENT
BEGIN:VEVENT
DTSTART;TZID=Europe/Berlin:20220318T170000
DTEND;TZID=Europe/Berlin:20220318T180000
DTSTAMP:20260423T000814
CREATED:20191127T201307Z
LAST-MODIFIED:20191127T201307Z
UID:10006960-1647622800-1647626400@kirche-dll.de
SUMMARY:Musik- / Gitarrengruppe
DESCRIPTION:Gemeinsam mit Horst Sturm Gitarre spielen lernen\, Songs begleiten und neue Klänge in unseren Veranstaltungen erklingen lassen.
URL:https://kirche-dll.de/termin/musik-gitarrengruppe/2022-03-18/
LOCATION:Gemeindehaus Dölau\, Franz-Mehring-Str. 9b\, Halle\, 06120\, Deutschland
CATEGORIES:Musik
END:VEVENT
BEGIN:VEVENT
DTSTART;TZID=Europe/Berlin:20220315T161500
DTEND;TZID=Europe/Berlin:20220315T171500
DTSTAMP:20260423T000814
CREATED:20210622T140513Z
LAST-MODIFIED:20220110T164009Z
UID:10007207-1647360900-1647364500@kirche-dll.de
SUMMARY:Kinderkirche 4.-6. Klasse
DESCRIPTION:
URL:https://kirche-dll.de/termin/kinderkirche-4-6-klasse-id10390/2022-03-15/
LOCATION:Gemeindehaus Dölau\, Franz-Mehring-Str. 9b\, Halle\, 06120\, Deutschland
CATEGORIES:Kinder
END:VEVENT
BEGIN:VEVENT
DTSTART;TZID=Europe/Berlin:20220311T170000
DTEND;TZID=Europe/Berlin:20220311T180000
DTSTAMP:20260423T000814
CREATED:20191127T201307Z
LAST-MODIFIED:20191127T201307Z
UID:10006959-1647018000-1647021600@kirche-dll.de
SUMMARY:Musik- / Gitarrengruppe
DESCRIPTION:Gemeinsam mit Horst Sturm Gitarre spielen lernen\, Songs begleiten und neue Klänge in unseren Veranstaltungen erklingen lassen.
URL:https://kirche-dll.de/termin/musik-gitarrengruppe/2022-03-11/
LOCATION:Gemeindehaus Dölau\, Franz-Mehring-Str. 9b\, Halle\, 06120\, Deutschland
CATEGORIES:Musik
END:VEVENT
BEGIN:VEVENT
DTSTART;TZID=Europe/Berlin:20220308T161500
DTEND;TZID=Europe/Berlin:20220308T171500
DTSTAMP:20260423T000814
CREATED:20210622T140513Z
LAST-MODIFIED:20220110T164009Z
UID:10007206-1646756100-1646759700@kirche-dll.de
SUMMARY:Kinderkirche 4.-6. Klasse
DESCRIPTION:
URL:https://kirche-dll.de/termin/kinderkirche-4-6-klasse-id10390/2022-03-08/
LOCATION:Gemeindehaus Dölau\, Franz-Mehring-Str. 9b\, Halle\, 06120\, Deutschland
CATEGORIES:Kinder
END:VEVENT
END:VCALENDAR