BEGIN:VCALENDAR
VERSION:2.0
PRODID:-//Evangelische Kirche Dölau-Lieskau / Lettin - ECPv6.15.17.1//NONSGML v1.0//EN
CALSCALE:GREGORIAN
METHOD:PUBLISH
X-ORIGINAL-URL:https://kirche-dll.de
X-WR-CALDESC:Veranstaltungen für Evangelische Kirche Dölau-Lieskau / Lettin
REFRESH-INTERVAL;VALUE=DURATION:PT1H
X-Robots-Tag:noindex
X-PUBLISHED-TTL:PT1H
BEGIN:VTIMEZONE
TZID:Europe/Berlin
BEGIN:DAYLIGHT
TZOFFSETFROM:+0100
TZOFFSETTO:+0200
TZNAME:CEST
DTSTART:20210328T010000
END:DAYLIGHT
BEGIN:STANDARD
TZOFFSETFROM:+0200
TZOFFSETTO:+0100
TZNAME:CET
DTSTART:20211031T010000
END:STANDARD
BEGIN:DAYLIGHT
TZOFFSETFROM:+0100
TZOFFSETTO:+0200
TZNAME:CEST
DTSTART:20220327T010000
END:DAYLIGHT
BEGIN:STANDARD
TZOFFSETFROM:+0200
TZOFFSETTO:+0100
TZNAME:CET
DTSTART:20221030T010000
END:STANDARD
BEGIN:DAYLIGHT
TZOFFSETFROM:+0100
TZOFFSETTO:+0200
TZNAME:CEST
DTSTART:20230326T010000
END:DAYLIGHT
BEGIN:STANDARD
TZOFFSETFROM:+0200
TZOFFSETTO:+0100
TZNAME:CET
DTSTART:20231029T010000
END:STANDARD
END:VTIMEZONE
BEGIN:VEVENT
DTSTART;TZID=Europe/Berlin:20220922T100000
DTEND;TZID=Europe/Berlin:20220922T120000
DTSTAMP:20260422T191818
CREATED:20220725T101923Z
LAST-MODIFIED:20220725T101923Z
UID:10007510-1663840800-1663848000@kirche-dll.de
SUMMARY:Seniorenfrühstück Dölau
DESCRIPTION:
URL:https://kirche-dll.de/termin/seniorenfruehstueck-doelau-id11478/
LOCATION:Gemeindehaus Dölau\, Franz-Mehring-Str. 9b\, Halle\, 06120\, Deutschland
CATEGORIES:Senioren
END:VEVENT
BEGIN:VEVENT
DTSTART;TZID=Europe/Berlin:20220918T110000
DTEND;TZID=Europe/Berlin:20220918T123000
DTSTAMP:20260422T191818
CREATED:20220725T131004Z
LAST-MODIFIED:20220830T150509Z
UID:10007524-1663498800-1663504200@kirche-dll.de
SUMMARY:Familienkirche
DESCRIPTION:Wir begrüßen in diesem Gottesdienst Vikarin Franziska Neudert in unseren Gemeinden. \nGottesdienst zum Mitmachen für Groß und Klein.\nAnschließend essen wir gemeinsam\, was wir mitbringen.
URL:https://kirche-dll.de/termin/familienkirche-id11511/
LOCATION:Gemeindehaus Dölau\, Franz-Mehring-Str. 9b\, Halle\, 06120\, Deutschland
CATEGORIES:Erwachsene,Familien,Gottesdienste,Jugendliche,Kinder,Senioren
END:VEVENT
BEGIN:VEVENT
DTSTART;TZID=Europe/Berlin:20220917T100000
DTEND;TZID=Europe/Berlin:20220917T140000
DTSTAMP:20260422T191818
CREATED:20220725T135636Z
LAST-MODIFIED:20220725T135636Z
UID:10007539-1663408800-1663423200@kirche-dll.de
SUMMARY:Konfi-Tag
DESCRIPTION:
URL:https://kirche-dll.de/termin/konfi-tag-id11549/
LOCATION:Gemeindehaus Dölau\, Franz-Mehring-Str. 9b\, Halle\, 06120\, Deutschland
CATEGORIES:Jugendliche
END:VEVENT
BEGIN:VEVENT
DTSTART;TZID=Europe/Berlin:20220909T170000
DTEND;TZID=Europe/Berlin:20220909T180000
DTSTAMP:20260422T191818
CREATED:20191127T201307Z
LAST-MODIFIED:20191127T201307Z
UID:10006985-1662742800-1662746400@kirche-dll.de
SUMMARY:Musik- / Gitarrengruppe
DESCRIPTION:Gemeinsam mit Horst Sturm Gitarre spielen lernen\, Songs begleiten und neue Klänge in unseren Veranstaltungen erklingen lassen.
URL:https://kirche-dll.de/termin/musik-gitarrengruppe/2022-09-09/
LOCATION:Gemeindehaus Dölau\, Franz-Mehring-Str. 9b\, Halle\, 06120\, Deutschland
CATEGORIES:Musik
END:VEVENT
BEGIN:VEVENT
DTSTART;TZID=Europe/Berlin:20220905T173000
DTEND;TZID=Europe/Berlin:20220905T210000
DTSTAMP:20260422T191818
CREATED:20220711T143643Z
LAST-MODIFIED:20220711T143643Z
UID:10007505-1662399000-1662411600@kirche-dll.de
SUMMARY:Regionaler Frauenkreis - Wanderung & Wein
DESCRIPTION:Fahrt nach Höhnstedt und Rundwanderung über Rolldorf\,\nanschließend Einkehr im Weingut Hoffmann
URL:https://kirche-dll.de/termin/regionaler-frauenkreis-wanderung-wein-id11467/
LOCATION:Gemeindehaus Dölau\, Franz-Mehring-Str. 9b\, Halle\, 06120\, Deutschland
CATEGORIES:Erwachsene
END:VEVENT
BEGIN:VEVENT
DTSTART;TZID=Europe/Berlin:20220902T170000
DTEND;TZID=Europe/Berlin:20220902T180000
DTSTAMP:20260422T191818
CREATED:20191127T201307Z
LAST-MODIFIED:20191127T201307Z
UID:10006984-1662138000-1662141600@kirche-dll.de
SUMMARY:Musik- / Gitarrengruppe
DESCRIPTION:Gemeinsam mit Horst Sturm Gitarre spielen lernen\, Songs begleiten und neue Klänge in unseren Veranstaltungen erklingen lassen.
URL:https://kirche-dll.de/termin/musik-gitarrengruppe/2022-09-02/
LOCATION:Gemeindehaus Dölau\, Franz-Mehring-Str. 9b\, Halle\, 06120\, Deutschland
CATEGORIES:Musik
END:VEVENT
BEGIN:VEVENT
DTSTART;TZID=Europe/Berlin:20220826T170000
DTEND;TZID=Europe/Berlin:20220826T180000
DTSTAMP:20260422T191818
CREATED:20191127T201307Z
LAST-MODIFIED:20191127T201307Z
UID:10006983-1661533200-1661536800@kirche-dll.de
SUMMARY:Musik- / Gitarrengruppe
DESCRIPTION:Gemeinsam mit Horst Sturm Gitarre spielen lernen\, Songs begleiten und neue Klänge in unseren Veranstaltungen erklingen lassen.
URL:https://kirche-dll.de/termin/musik-gitarrengruppe/2022-08-26/
LOCATION:Gemeindehaus Dölau\, Franz-Mehring-Str. 9b\, Halle\, 06120\, Deutschland
CATEGORIES:Musik
END:VEVENT
BEGIN:VEVENT
DTSTART;TZID=Europe/Berlin:20220819T170000
DTEND;TZID=Europe/Berlin:20220819T180000
DTSTAMP:20260422T191818
CREATED:20191127T201307Z
LAST-MODIFIED:20191127T201307Z
UID:10006982-1660928400-1660932000@kirche-dll.de
SUMMARY:Musik- / Gitarrengruppe
DESCRIPTION:Gemeinsam mit Horst Sturm Gitarre spielen lernen\, Songs begleiten und neue Klänge in unseren Veranstaltungen erklingen lassen.
URL:https://kirche-dll.de/termin/musik-gitarrengruppe/2022-08-19/
LOCATION:Gemeindehaus Dölau\, Franz-Mehring-Str. 9b\, Halle\, 06120\, Deutschland
CATEGORIES:Musik
END:VEVENT
BEGIN:VEVENT
DTSTART;TZID=Europe/Berlin:20220812T170000
DTEND;TZID=Europe/Berlin:20220812T180000
DTSTAMP:20260422T191818
CREATED:20191127T201307Z
LAST-MODIFIED:20191127T201307Z
UID:10006981-1660323600-1660327200@kirche-dll.de
SUMMARY:Musik- / Gitarrengruppe
DESCRIPTION:Gemeinsam mit Horst Sturm Gitarre spielen lernen\, Songs begleiten und neue Klänge in unseren Veranstaltungen erklingen lassen.
URL:https://kirche-dll.de/termin/musik-gitarrengruppe/2022-08-12/
LOCATION:Gemeindehaus Dölau\, Franz-Mehring-Str. 9b\, Halle\, 06120\, Deutschland
CATEGORIES:Musik
END:VEVENT
BEGIN:VEVENT
DTSTART;TZID=Europe/Berlin:20220805T170000
DTEND;TZID=Europe/Berlin:20220805T180000
DTSTAMP:20260422T191818
CREATED:20191127T201307Z
LAST-MODIFIED:20191127T201307Z
UID:10006980-1659718800-1659722400@kirche-dll.de
SUMMARY:Musik- / Gitarrengruppe
DESCRIPTION:Gemeinsam mit Horst Sturm Gitarre spielen lernen\, Songs begleiten und neue Klänge in unseren Veranstaltungen erklingen lassen.
URL:https://kirche-dll.de/termin/musik-gitarrengruppe/2022-08-05/
LOCATION:Gemeindehaus Dölau\, Franz-Mehring-Str. 9b\, Halle\, 06120\, Deutschland
CATEGORIES:Musik
END:VEVENT
BEGIN:VEVENT
DTSTART;TZID=Europe/Berlin:20220729T170000
DTEND;TZID=Europe/Berlin:20220729T180000
DTSTAMP:20260422T191818
CREATED:20191127T201307Z
LAST-MODIFIED:20191127T201307Z
UID:10006979-1659114000-1659117600@kirche-dll.de
SUMMARY:Musik- / Gitarrengruppe
DESCRIPTION:Gemeinsam mit Horst Sturm Gitarre spielen lernen\, Songs begleiten und neue Klänge in unseren Veranstaltungen erklingen lassen.
URL:https://kirche-dll.de/termin/musik-gitarrengruppe/2022-07-29/
LOCATION:Gemeindehaus Dölau\, Franz-Mehring-Str. 9b\, Halle\, 06120\, Deutschland
CATEGORIES:Musik
END:VEVENT
BEGIN:VEVENT
DTSTART;TZID=Europe/Berlin:20220722T170000
DTEND;TZID=Europe/Berlin:20220722T180000
DTSTAMP:20260422T191818
CREATED:20191127T201307Z
LAST-MODIFIED:20191127T201307Z
UID:10006978-1658509200-1658512800@kirche-dll.de
SUMMARY:Musik- / Gitarrengruppe
DESCRIPTION:Gemeinsam mit Horst Sturm Gitarre spielen lernen\, Songs begleiten und neue Klänge in unseren Veranstaltungen erklingen lassen.
URL:https://kirche-dll.de/termin/musik-gitarrengruppe/2022-07-22/
LOCATION:Gemeindehaus Dölau\, Franz-Mehring-Str. 9b\, Halle\, 06120\, Deutschland
CATEGORIES:Musik
END:VEVENT
BEGIN:VEVENT
DTSTART;TZID=Europe/Berlin:20220715T170000
DTEND;TZID=Europe/Berlin:20220715T180000
DTSTAMP:20260422T191818
CREATED:20191127T201307Z
LAST-MODIFIED:20191127T201307Z
UID:10006977-1657904400-1657908000@kirche-dll.de
SUMMARY:Musik- / Gitarrengruppe
DESCRIPTION:Gemeinsam mit Horst Sturm Gitarre spielen lernen\, Songs begleiten und neue Klänge in unseren Veranstaltungen erklingen lassen.
URL:https://kirche-dll.de/termin/musik-gitarrengruppe/2022-07-15/
LOCATION:Gemeindehaus Dölau\, Franz-Mehring-Str. 9b\, Halle\, 06120\, Deutschland
CATEGORIES:Musik
END:VEVENT
BEGIN:VEVENT
DTSTART;TZID=Europe/Berlin:20220712T144500
DTEND;TZID=Europe/Berlin:20220712T160000
DTSTAMP:20260422T191818
CREATED:20210622T140127Z
LAST-MODIFIED:20220505T070112Z
UID:10007197-1657637100-1657641600@kirche-dll.de
SUMMARY:Kinderkirche 1.-4. Klasse
DESCRIPTION:
URL:https://kirche-dll.de/termin/kinderkirche-1-4-klasse-id10364/2022-07-12/
LOCATION:Gemeindehaus Dölau\, Franz-Mehring-Str. 9b\, Halle\, 06120\, Deutschland
CATEGORIES:Kinder
END:VEVENT
BEGIN:VEVENT
DTSTART;TZID=Europe/Berlin:20220708T170000
DTEND;TZID=Europe/Berlin:20220708T180000
DTSTAMP:20260422T191818
CREATED:20191127T201307Z
LAST-MODIFIED:20191127T201307Z
UID:10006976-1657299600-1657303200@kirche-dll.de
SUMMARY:Musik- / Gitarrengruppe
DESCRIPTION:Gemeinsam mit Horst Sturm Gitarre spielen lernen\, Songs begleiten und neue Klänge in unseren Veranstaltungen erklingen lassen.
URL:https://kirche-dll.de/termin/musik-gitarrengruppe/2022-07-08/
LOCATION:Gemeindehaus Dölau\, Franz-Mehring-Str. 9b\, Halle\, 06120\, Deutschland
CATEGORIES:Musik
END:VEVENT
BEGIN:VEVENT
DTSTART;TZID=Europe/Berlin:20220705T144500
DTEND;TZID=Europe/Berlin:20220705T160000
DTSTAMP:20260422T191818
CREATED:20210622T140127Z
LAST-MODIFIED:20220505T070112Z
UID:10007196-1657032300-1657036800@kirche-dll.de
SUMMARY:Kinderkirche 1.-4. Klasse
DESCRIPTION:
URL:https://kirche-dll.de/termin/kinderkirche-1-4-klasse-id10364/2022-07-05/
LOCATION:Gemeindehaus Dölau\, Franz-Mehring-Str. 9b\, Halle\, 06120\, Deutschland
CATEGORIES:Kinder
END:VEVENT
BEGIN:VEVENT
DTSTART;TZID=Europe/Berlin:20220701T170000
DTEND;TZID=Europe/Berlin:20220701T180000
DTSTAMP:20260422T191818
CREATED:20191127T201307Z
LAST-MODIFIED:20191127T201307Z
UID:10006975-1656694800-1656698400@kirche-dll.de
SUMMARY:Musik- / Gitarrengruppe
DESCRIPTION:Gemeinsam mit Horst Sturm Gitarre spielen lernen\, Songs begleiten und neue Klänge in unseren Veranstaltungen erklingen lassen.
URL:https://kirche-dll.de/termin/musik-gitarrengruppe/2022-07-01/
LOCATION:Gemeindehaus Dölau\, Franz-Mehring-Str. 9b\, Halle\, 06120\, Deutschland
CATEGORIES:Musik
END:VEVENT
BEGIN:VEVENT
DTSTART;TZID=Europe/Berlin:20220628T144500
DTEND;TZID=Europe/Berlin:20220628T160000
DTSTAMP:20260422T191818
CREATED:20210622T140127Z
LAST-MODIFIED:20220505T070112Z
UID:10007195-1656427500-1656432000@kirche-dll.de
SUMMARY:Kinderkirche 1.-4. Klasse
DESCRIPTION:
URL:https://kirche-dll.de/termin/kinderkirche-1-4-klasse-id10364/2022-06-28/
LOCATION:Gemeindehaus Dölau\, Franz-Mehring-Str. 9b\, Halle\, 06120\, Deutschland
CATEGORIES:Kinder
END:VEVENT
BEGIN:VEVENT
DTSTART;TZID=Europe/Berlin:20220627T190000
DTEND;TZID=Europe/Berlin:20220627T210000
DTSTAMP:20260422T191818
CREATED:20220512T131904Z
LAST-MODIFIED:20220512T131938Z
UID:10007460-1656356400-1656363600@kirche-dll.de
SUMMARY:Regionaler Frauenkreis - Sommerfest
DESCRIPTION:
URL:https://kirche-dll.de/termin/regionaler-frauenkreis-sommerfest-id11369/
LOCATION:Gemeindehaus Dölau\, Franz-Mehring-Str. 9b\, Halle\, 06120\, Deutschland
CATEGORIES:Erwachsene
END:VEVENT
BEGIN:VEVENT
DTSTART;TZID=Europe/Berlin:20220624T170000
DTEND;TZID=Europe/Berlin:20220624T180000
DTSTAMP:20260422T191818
CREATED:20191127T201307Z
LAST-MODIFIED:20191127T201307Z
UID:10006974-1656090000-1656093600@kirche-dll.de
SUMMARY:Musik- / Gitarrengruppe
DESCRIPTION:Gemeinsam mit Horst Sturm Gitarre spielen lernen\, Songs begleiten und neue Klänge in unseren Veranstaltungen erklingen lassen.
URL:https://kirche-dll.de/termin/musik-gitarrengruppe/2022-06-24/
LOCATION:Gemeindehaus Dölau\, Franz-Mehring-Str. 9b\, Halle\, 06120\, Deutschland
CATEGORIES:Musik
END:VEVENT
BEGIN:VEVENT
DTSTART;TZID=Europe/Berlin:20220623T100000
DTEND;TZID=Europe/Berlin:20220623T120000
DTSTAMP:20260422T191818
CREATED:20220505T071610Z
LAST-MODIFIED:20220505T071610Z
UID:10007445-1655978400-1655985600@kirche-dll.de
SUMMARY:Seniorenfrühstück Dölau
DESCRIPTION:
URL:https://kirche-dll.de/termin/seniorenfruehstueck-doelau-id11331/2022-06-23/
LOCATION:Gemeindehaus Dölau\, Franz-Mehring-Str. 9b\, Halle\, 06120\, Deutschland
CATEGORIES:Senioren
END:VEVENT
BEGIN:VEVENT
DTSTART;TZID=Europe/Berlin:20220621T144500
DTEND;TZID=Europe/Berlin:20220621T160000
DTSTAMP:20260422T191818
CREATED:20210622T140127Z
LAST-MODIFIED:20220505T070112Z
UID:10007194-1655822700-1655827200@kirche-dll.de
SUMMARY:Kinderkirche 1.-4. Klasse
DESCRIPTION:
URL:https://kirche-dll.de/termin/kinderkirche-1-4-klasse-id10364/2022-06-21/
LOCATION:Gemeindehaus Dölau\, Franz-Mehring-Str. 9b\, Halle\, 06120\, Deutschland
CATEGORIES:Kinder
END:VEVENT
BEGIN:VEVENT
DTSTART;TZID=Europe/Berlin:20220618T100000
DTEND;TZID=Europe/Berlin:20220618T140000
DTSTAMP:20260422T191818
CREATED:20220512T134317Z
LAST-MODIFIED:20220513T065054Z
UID:10007473-1655546400-1655560800@kirche-dll.de
SUMMARY:Konfi-Tag
DESCRIPTION:
URL:https://kirche-dll.de/termin/konfi-tag-id11395/
LOCATION:Gemeindehaus Dölau\, Franz-Mehring-Str. 9b\, Halle\, 06120\, Deutschland
CATEGORIES:Jugendliche
END:VEVENT
BEGIN:VEVENT
DTSTART;TZID=Europe/Berlin:20220617T170000
DTEND;TZID=Europe/Berlin:20220617T180000
DTSTAMP:20260422T191818
CREATED:20191127T201307Z
LAST-MODIFIED:20191127T201307Z
UID:10006973-1655485200-1655488800@kirche-dll.de
SUMMARY:Musik- / Gitarrengruppe
DESCRIPTION:Gemeinsam mit Horst Sturm Gitarre spielen lernen\, Songs begleiten und neue Klänge in unseren Veranstaltungen erklingen lassen.
URL:https://kirche-dll.de/termin/musik-gitarrengruppe/2022-06-17/
LOCATION:Gemeindehaus Dölau\, Franz-Mehring-Str. 9b\, Halle\, 06120\, Deutschland
CATEGORIES:Musik
END:VEVENT
BEGIN:VEVENT
DTSTART;TZID=Europe/Berlin:20220614T144500
DTEND;TZID=Europe/Berlin:20220614T160000
DTSTAMP:20260422T191818
CREATED:20210622T140127Z
LAST-MODIFIED:20220505T070112Z
UID:10007193-1655217900-1655222400@kirche-dll.de
SUMMARY:Kinderkirche 1.-4. Klasse
DESCRIPTION:
URL:https://kirche-dll.de/termin/kinderkirche-1-4-klasse-id10364/2022-06-14/
LOCATION:Gemeindehaus Dölau\, Franz-Mehring-Str. 9b\, Halle\, 06120\, Deutschland
CATEGORIES:Kinder
END:VEVENT
BEGIN:VEVENT
DTSTART;TZID=Europe/Berlin:20220610T170000
DTEND;TZID=Europe/Berlin:20220610T180000
DTSTAMP:20260422T191818
CREATED:20191127T201307Z
LAST-MODIFIED:20191127T201307Z
UID:10006972-1654880400-1654884000@kirche-dll.de
SUMMARY:Musik- / Gitarrengruppe
DESCRIPTION:Gemeinsam mit Horst Sturm Gitarre spielen lernen\, Songs begleiten und neue Klänge in unseren Veranstaltungen erklingen lassen.
URL:https://kirche-dll.de/termin/musik-gitarrengruppe/2022-06-10/
LOCATION:Gemeindehaus Dölau\, Franz-Mehring-Str. 9b\, Halle\, 06120\, Deutschland
CATEGORIES:Musik
END:VEVENT
BEGIN:VEVENT
DTSTART;TZID=Europe/Berlin:20220607T144500
DTEND;TZID=Europe/Berlin:20220607T160000
DTSTAMP:20260422T191818
CREATED:20210622T140127Z
LAST-MODIFIED:20220505T070112Z
UID:10007192-1654613100-1654617600@kirche-dll.de
SUMMARY:Kinderkirche 1.-4. Klasse
DESCRIPTION:
URL:https://kirche-dll.de/termin/kinderkirche-1-4-klasse-id10364/2022-06-07/
LOCATION:Gemeindehaus Dölau\, Franz-Mehring-Str. 9b\, Halle\, 06120\, Deutschland
CATEGORIES:Kinder
END:VEVENT
BEGIN:VEVENT
DTSTART;TZID=Europe/Berlin:20220603T170000
DTEND;TZID=Europe/Berlin:20220603T180000
DTSTAMP:20260422T191818
CREATED:20191127T201307Z
LAST-MODIFIED:20191127T201307Z
UID:10006971-1654275600-1654279200@kirche-dll.de
SUMMARY:Musik- / Gitarrengruppe
DESCRIPTION:Gemeinsam mit Horst Sturm Gitarre spielen lernen\, Songs begleiten und neue Klänge in unseren Veranstaltungen erklingen lassen.
URL:https://kirche-dll.de/termin/musik-gitarrengruppe/2022-06-03/
LOCATION:Gemeindehaus Dölau\, Franz-Mehring-Str. 9b\, Halle\, 06120\, Deutschland
CATEGORIES:Musik
END:VEVENT
BEGIN:VEVENT
DTSTART;TZID=Europe/Berlin:20220531T144500
DTEND;TZID=Europe/Berlin:20220531T160000
DTSTAMP:20260422T191818
CREATED:20210622T140127Z
LAST-MODIFIED:20220505T070112Z
UID:10007191-1654008300-1654012800@kirche-dll.de
SUMMARY:Kinderkirche 1.-4. Klasse
DESCRIPTION:
URL:https://kirche-dll.de/termin/kinderkirche-1-4-klasse-id10364/2022-05-31/
LOCATION:Gemeindehaus Dölau\, Franz-Mehring-Str. 9b\, Halle\, 06120\, Deutschland
CATEGORIES:Kinder
END:VEVENT
BEGIN:VEVENT
DTSTART;TZID=Europe/Berlin:20220527T170000
DTEND;TZID=Europe/Berlin:20220527T180000
DTSTAMP:20260422T191818
CREATED:20191127T201307Z
LAST-MODIFIED:20191127T201307Z
UID:10006970-1653670800-1653674400@kirche-dll.de
SUMMARY:Musik- / Gitarrengruppe
DESCRIPTION:Gemeinsam mit Horst Sturm Gitarre spielen lernen\, Songs begleiten und neue Klänge in unseren Veranstaltungen erklingen lassen.
URL:https://kirche-dll.de/termin/musik-gitarrengruppe/2022-05-27/
LOCATION:Gemeindehaus Dölau\, Franz-Mehring-Str. 9b\, Halle\, 06120\, Deutschland
CATEGORIES:Musik
END:VEVENT
END:VCALENDAR