BEGIN:VCALENDAR
VERSION:2.0
PRODID:-//Evangelische Kirche Dölau-Lieskau / Lettin - ECPv6.15.17.1//NONSGML v1.0//EN
CALSCALE:GREGORIAN
METHOD:PUBLISH
X-WR-CALNAME:Evangelische Kirche Dölau-Lieskau / Lettin
X-ORIGINAL-URL:https://kirche-dll.de
X-WR-CALDESC:Veranstaltungen für Evangelische Kirche Dölau-Lieskau / Lettin
REFRESH-INTERVAL;VALUE=DURATION:PT1H
X-Robots-Tag:noindex
X-PUBLISHED-TTL:PT1H
BEGIN:VTIMEZONE
TZID:Europe/Berlin
BEGIN:DAYLIGHT
TZOFFSETFROM:+0100
TZOFFSETTO:+0200
TZNAME:CEST
DTSTART:20210328T010000
END:DAYLIGHT
BEGIN:STANDARD
TZOFFSETFROM:+0200
TZOFFSETTO:+0100
TZNAME:CET
DTSTART:20211031T010000
END:STANDARD
BEGIN:DAYLIGHT
TZOFFSETFROM:+0100
TZOFFSETTO:+0200
TZNAME:CEST
DTSTART:20220327T010000
END:DAYLIGHT
BEGIN:STANDARD
TZOFFSETFROM:+0200
TZOFFSETTO:+0100
TZNAME:CET
DTSTART:20221030T010000
END:STANDARD
BEGIN:DAYLIGHT
TZOFFSETFROM:+0100
TZOFFSETTO:+0200
TZNAME:CEST
DTSTART:20230326T010000
END:DAYLIGHT
BEGIN:STANDARD
TZOFFSETFROM:+0200
TZOFFSETTO:+0100
TZNAME:CET
DTSTART:20231029T010000
END:STANDARD
BEGIN:DAYLIGHT
TZOFFSETFROM:+0100
TZOFFSETTO:+0200
TZNAME:CEST
DTSTART:20240331T010000
END:DAYLIGHT
BEGIN:STANDARD
TZOFFSETFROM:+0200
TZOFFSETTO:+0100
TZNAME:CET
DTSTART:20241027T010000
END:STANDARD
END:VTIMEZONE
BEGIN:VEVENT
DTSTART;TZID=Europe/Berlin:20230215T173000
DTEND;TZID=Europe/Berlin:20230215T181500
DTSTAMP:20260420T100906
CREATED:20230127T084742Z
LAST-MODIFIED:20230127T084742Z
UID:10007978-1676482200-1676484900@kirche-dll.de
SUMMARY:Kinder-/Jugendchor
DESCRIPTION:ab ca. 10 Jahren
URL:https://kirche-dll.de/termin/kinderchor-id11726-2/2023-02-15/
LOCATION:Gemeindehaus Dölau\, Franz-Mehring-Str. 9b\, Halle\, 06120\, Deutschland
CATEGORIES:Kinder,Musik
END:VEVENT
BEGIN:VEVENT
DTSTART;TZID=Europe/Berlin:20230215T170000
DTEND;TZID=Europe/Berlin:20230215T173000
DTSTAMP:20260420T100906
CREATED:20230127T084553Z
LAST-MODIFIED:20230131T125520Z
UID:10007960-1676480400-1676482200@kirche-dll.de
SUMMARY:Piepmatzchor
DESCRIPTION:
URL:https://kirche-dll.de/termin/piepmatzchor-id11730-2/2023-02-15/
LOCATION:Gemeindehaus Dölau\, Franz-Mehring-Str. 9b\, Halle\, 06120\, Deutschland
CATEGORIES:Kinder,Musik
END:VEVENT
BEGIN:VEVENT
DTSTART;TZID=Europe/Berlin:20230214T163000
DTEND;TZID=Europe/Berlin:20230214T173000
DTSTAMP:20260420T100906
CREATED:20230127T114134Z
LAST-MODIFIED:20230127T114134Z
UID:10008202-1676392200-1676395800@kirche-dll.de
SUMMARY:Theatergruppe DöLL
DESCRIPTION:
URL:https://kirche-dll.de/termin/theatergruppe-doell/2023-02-14/
LOCATION:Gemeindehaus Dölau\, Franz-Mehring-Str. 9b\, Halle\, 06120\, Deutschland
CATEGORIES:Kinder
END:VEVENT
BEGIN:VEVENT
DTSTART;TZID=Europe/Berlin:20230214T144500
DTEND;TZID=Europe/Berlin:20230214T160000
DTSTAMP:20260420T100906
CREATED:20230127T113538Z
LAST-MODIFIED:20230127T113843Z
UID:10008027-1676385900-1676390400@kirche-dll.de
SUMMARY:Kinderkirche Klasse 1-4
DESCRIPTION:
URL:https://kirche-dll.de/termin/kinderkirche-klasse-1-4/2023-02-14/
LOCATION:Gemeindehaus Dölau\, Franz-Mehring-Str. 9b\, Halle\, 06120\, Deutschland
CATEGORIES:Kinder
END:VEVENT
BEGIN:VEVENT
DTSTART;TZID=Europe/Berlin:20230201T173000
DTEND;TZID=Europe/Berlin:20230201T181500
DTSTAMP:20260420T100906
CREATED:20230127T084742Z
LAST-MODIFIED:20230127T084742Z
UID:10007977-1675272600-1675275300@kirche-dll.de
SUMMARY:Kinder-/Jugendchor
DESCRIPTION:ab ca. 10 Jahren
URL:https://kirche-dll.de/termin/kinderchor-id11726-2/2023-02-01/
LOCATION:Gemeindehaus Dölau\, Franz-Mehring-Str. 9b\, Halle\, 06120\, Deutschland
CATEGORIES:Kinder,Musik
END:VEVENT
BEGIN:VEVENT
DTSTART;TZID=Europe/Berlin:20230201T170000
DTEND;TZID=Europe/Berlin:20230201T173000
DTSTAMP:20260420T100906
CREATED:20230127T084553Z
LAST-MODIFIED:20230131T125520Z
UID:10007959-1675270800-1675272600@kirche-dll.de
SUMMARY:Piepmatzchor
DESCRIPTION:
URL:https://kirche-dll.de/termin/piepmatzchor-id11730-2/2023-02-01/
LOCATION:Gemeindehaus Dölau\, Franz-Mehring-Str. 9b\, Halle\, 06120\, Deutschland
CATEGORIES:Kinder,Musik
END:VEVENT
BEGIN:VEVENT
DTSTART;TZID=Europe/Berlin:20230131T163000
DTEND;TZID=Europe/Berlin:20230131T173000
DTSTAMP:20260420T100906
CREATED:20230127T114134Z
LAST-MODIFIED:20230127T114134Z
UID:10008201-1675182600-1675186200@kirche-dll.de
SUMMARY:Theatergruppe DöLL
DESCRIPTION:
URL:https://kirche-dll.de/termin/theatergruppe-doell/2023-01-31/
LOCATION:Gemeindehaus Dölau\, Franz-Mehring-Str. 9b\, Halle\, 06120\, Deutschland
CATEGORIES:Kinder
END:VEVENT
BEGIN:VEVENT
DTSTART;TZID=Europe/Berlin:20230131T144500
DTEND;TZID=Europe/Berlin:20230131T160000
DTSTAMP:20260420T100906
CREATED:20230127T113538Z
LAST-MODIFIED:20230127T113843Z
UID:10008026-1675176300-1675180800@kirche-dll.de
SUMMARY:Kinderkirche Klasse 1-4
DESCRIPTION:
URL:https://kirche-dll.de/termin/kinderkirche-klasse-1-4/2023-01-31/
LOCATION:Gemeindehaus Dölau\, Franz-Mehring-Str. 9b\, Halle\, 06120\, Deutschland
CATEGORIES:Kinder
END:VEVENT
BEGIN:VEVENT
DTSTART;TZID=Europe/Berlin:20230128T100000
DTEND;TZID=Europe/Berlin:20230128T140000
DTSTAMP:20260420T100906
CREATED:20221106T112629Z
LAST-MODIFIED:20221106T112629Z
UID:10007953-1674900000-1674914400@kirche-dll.de
SUMMARY:Regionale Konfi-Tage : Dölau
DESCRIPTION:
URL:https://kirche-dll.de/termin/regionale-konfi-tage-doelau/
LOCATION:Gemeindehaus Dölau\, Franz-Mehring-Str. 9b\, Halle\, 06120\, Deutschland
CATEGORIES:Jugendliche,Musik
END:VEVENT
BEGIN:VEVENT
DTSTART;TZID=Europe/Berlin:20230126T100000
DTEND;TZID=Europe/Berlin:20230126T113000
DTSTAMP:20260420T100906
CREATED:20221106T070652Z
LAST-MODIFIED:20221213T205754Z
UID:10007804-1674727200-1674732600@kirche-dll.de
SUMMARY:Seniorenfrühstück
DESCRIPTION:
URL:https://kirche-dll.de/termin/seniorenfruehstueck/2023-01-26/
LOCATION:Gemeindehaus Dölau\, Franz-Mehring-Str. 9b\, Halle\, 06120\, Deutschland
CATEGORIES:Ökumene,Senioren
END:VEVENT
BEGIN:VEVENT
DTSTART;TZID=Europe/Berlin:20230125T163000
DTEND;TZID=Europe/Berlin:20230125T170000
DTSTAMP:20260420T100906
CREATED:20220914T192119Z
LAST-MODIFIED:20221021T095523Z
UID:10007594-1674664200-1674666000@kirche-dll.de
SUMMARY:Piepmatzchor
DESCRIPTION:
URL:https://kirche-dll.de/termin/piepmatzchor-id11730/2023-01-25/
LOCATION:Gemeindehaus Dölau\, Franz-Mehring-Str. 9b\, Halle\, 06120\, Deutschland
CATEGORIES:Kinder,Musik
END:VEVENT
BEGIN:VEVENT
DTSTART;TZID=Europe/Berlin:20230122T110000
DTEND;TZID=Europe/Berlin:20230122T123000
DTSTAMP:20260420T100906
CREATED:20221106T074655Z
LAST-MODIFIED:20221106T074655Z
UID:10007832-1674385200-1674390600@kirche-dll.de
SUMMARY:Familienkirche
DESCRIPTION:nach dem Gottesdienst essen wir gemeinsam.\nWir teilen\, was wir mitbringen.
URL:https://kirche-dll.de/termin/familienkirche/
LOCATION:Gemeindehaus Dölau\, Franz-Mehring-Str. 9b\, Halle\, 06120\, Deutschland
CATEGORIES:Erwachsene,Familien,Gottesdienste,Jugendliche,Kinder
END:VEVENT
BEGIN:VEVENT
DTSTART;TZID=Europe/Berlin:20230118T163000
DTEND;TZID=Europe/Berlin:20230118T170000
DTSTAMP:20260420T100906
CREATED:20220914T192119Z
LAST-MODIFIED:20221021T095523Z
UID:10007593-1674059400-1674061200@kirche-dll.de
SUMMARY:Piepmatzchor
DESCRIPTION:
URL:https://kirche-dll.de/termin/piepmatzchor-id11730/2023-01-18/
LOCATION:Gemeindehaus Dölau\, Franz-Mehring-Str. 9b\, Halle\, 06120\, Deutschland
CATEGORIES:Kinder,Musik
END:VEVENT
BEGIN:VEVENT
DTSTART;TZID=Europe/Berlin:20230116T150000
DTEND;TZID=Europe/Berlin:20230116T170000
DTSTAMP:20260420T100906
CREATED:20221106T110109Z
LAST-MODIFIED:20221106T110109Z
UID:10007853-1673881200-1673888400@kirche-dll.de
SUMMARY:Begegnungscafé
DESCRIPTION:
URL:https://kirche-dll.de/termin/begegnungscafe/
LOCATION:Gemeindehaus Dölau\, Franz-Mehring-Str. 9b\, Halle\, 06120\, Deutschland
CATEGORIES:Senioren
END:VEVENT
BEGIN:VEVENT
DTSTART;TZID=Europe/Berlin:20230111T163000
DTEND;TZID=Europe/Berlin:20230111T170000
DTSTAMP:20260420T100906
CREATED:20220914T192119Z
LAST-MODIFIED:20221021T095523Z
UID:10007592-1673454600-1673456400@kirche-dll.de
SUMMARY:Piepmatzchor
DESCRIPTION:
URL:https://kirche-dll.de/termin/piepmatzchor-id11730/2023-01-11/
LOCATION:Gemeindehaus Dölau\, Franz-Mehring-Str. 9b\, Halle\, 06120\, Deutschland
CATEGORIES:Kinder,Musik
END:VEVENT
BEGIN:VEVENT
DTSTART;TZID=Europe/Berlin:20230109T190000
DTEND;TZID=Europe/Berlin:20230109T210000
DTSTAMP:20260420T100906
CREATED:20221106T105634Z
LAST-MODIFIED:20221106T105634Z
UID:10007850-1673290800-1673298000@kirche-dll.de
SUMMARY:Regionaler Frauenkreis
DESCRIPTION:&#8222;Du bist ein Gott\, der mich sieht.&#8220; (1. Mose 16\, 13)\nDie Jahreslosung 2023
URL:https://kirche-dll.de/termin/regionaler-frauenkreis/
LOCATION:Gemeindehaus Dölau\, Franz-Mehring-Str. 9b\, Halle\, 06120\, Deutschland
CATEGORIES:Frauen
END:VEVENT
BEGIN:VEVENT
DTSTART;TZID=Europe/Berlin:20230104T163000
DTEND;TZID=Europe/Berlin:20230104T170000
DTSTAMP:20260420T100906
CREATED:20220914T192119Z
LAST-MODIFIED:20221021T095523Z
UID:10007591-1672849800-1672851600@kirche-dll.de
SUMMARY:Piepmatzchor
DESCRIPTION:
URL:https://kirche-dll.de/termin/piepmatzchor-id11730/2023-01-04/
LOCATION:Gemeindehaus Dölau\, Franz-Mehring-Str. 9b\, Halle\, 06120\, Deutschland
CATEGORIES:Kinder,Musik
END:VEVENT
BEGIN:VEVENT
DTSTART;TZID=Europe/Berlin:20221228T163000
DTEND;TZID=Europe/Berlin:20221228T170000
DTSTAMP:20260420T100906
CREATED:20220914T192119Z
LAST-MODIFIED:20221021T095523Z
UID:10007590-1672245000-1672246800@kirche-dll.de
SUMMARY:Piepmatzchor
DESCRIPTION:
URL:https://kirche-dll.de/termin/piepmatzchor-id11730/2022-12-28/
LOCATION:Gemeindehaus Dölau\, Franz-Mehring-Str. 9b\, Halle\, 06120\, Deutschland
CATEGORIES:Kinder,Musik
END:VEVENT
BEGIN:VEVENT
DTSTART;TZID=Europe/Berlin:20221221T163000
DTEND;TZID=Europe/Berlin:20221221T170000
DTSTAMP:20260420T100906
CREATED:20220914T192119Z
LAST-MODIFIED:20221021T095523Z
UID:10007589-1671640200-1671642000@kirche-dll.de
SUMMARY:Piepmatzchor
DESCRIPTION:
URL:https://kirche-dll.de/termin/piepmatzchor-id11730/2022-12-21/
LOCATION:Gemeindehaus Dölau\, Franz-Mehring-Str. 9b\, Halle\, 06120\, Deutschland
CATEGORIES:Kinder,Musik
END:VEVENT
BEGIN:VEVENT
DTSTART;TZID=Europe/Berlin:20221219T150000
DTEND;TZID=Europe/Berlin:20221219T170000
DTSTAMP:20260420T100906
CREATED:20220927T140937Z
LAST-MODIFIED:20220927T140937Z
UID:10007571-1671462000-1671469200@kirche-dll.de
SUMMARY:Begegnungscafé
DESCRIPTION:Weihnachtsfeier
URL:https://kirche-dll.de/termin/begegnungscafe-id12163/
LOCATION:Gemeindehaus Dölau\, Franz-Mehring-Str. 9b\, Halle\, 06120\, Deutschland
CATEGORIES:Erwachsene,Senioren
END:VEVENT
BEGIN:VEVENT
DTSTART;TZID=Europe/Berlin:20221215T100000
DTEND;TZID=Europe/Berlin:20221215T113000
DTSTAMP:20260420T100906
CREATED:20221106T070652Z
LAST-MODIFIED:20221213T205754Z
UID:10007803-1671098400-1671103800@kirche-dll.de
SUMMARY:Seniorenfrühstück
DESCRIPTION:
URL:https://kirche-dll.de/termin/seniorenfruehstueck/2022-12-15/
LOCATION:Gemeindehaus Dölau\, Franz-Mehring-Str. 9b\, Halle\, 06120\, Deutschland
CATEGORIES:Ökumene,Senioren
END:VEVENT
BEGIN:VEVENT
DTSTART;TZID=Europe/Berlin:20221214T163000
DTEND;TZID=Europe/Berlin:20221214T170000
DTSTAMP:20260420T100906
CREATED:20220914T192119Z
LAST-MODIFIED:20221021T095523Z
UID:10007588-1671035400-1671037200@kirche-dll.de
SUMMARY:Piepmatzchor
DESCRIPTION:
URL:https://kirche-dll.de/termin/piepmatzchor-id11730/2022-12-14/
LOCATION:Gemeindehaus Dölau\, Franz-Mehring-Str. 9b\, Halle\, 06120\, Deutschland
CATEGORIES:Kinder,Musik
END:VEVENT
BEGIN:VEVENT
DTSTART;TZID=Europe/Berlin:20221213T150000
DTEND;TZID=Europe/Berlin:20221213T170000
DTSTAMP:20260420T100906
CREATED:20221106T111940Z
LAST-MODIFIED:20221106T111940Z
UID:10007916-1670943600-1670950800@kirche-dll.de
SUMMARY:Kinderkirche mit Ringel vom Circus Knopf
DESCRIPTION:
URL:https://kirche-dll.de/termin/kinderkirche-mit-ringel-vom-circus-knopf/
LOCATION:Gemeindehaus Dölau\, Franz-Mehring-Str. 9b\, Halle\, 06120\, Deutschland
CATEGORIES:Erwachsene,Familien,Jugendliche,Kinder,Ökumene
END:VEVENT
BEGIN:VEVENT
DTSTART;TZID=Europe/Berlin:20221209T170000
DTEND;TZID=Europe/Berlin:20221209T183000
DTSTAMP:20260420T100906
CREATED:20221125T101255Z
LAST-MODIFIED:20221125T101255Z
UID:10007957-1670605200-1670610600@kirche-dll.de
SUMMARY:Lesung zur Geschichte von „Tristan und Isolde“ nach Joseph Bédier
DESCRIPTION:Gelesen von Alena Fürnberg und Rahel Donecker\nmit Zeichnungen von Hendrik Tauché und Schrift von Helmut Brade
URL:https://kirche-dll.de/termin/lesung-zur-geschichte-von-tristan-und-isolde-nach-joseph-bedier/
LOCATION:Gemeindehaus Dölau\, Franz-Mehring-Str. 9b\, Halle\, 06120\, Deutschland
CATEGORIES:Erwachsene,Ökumene,Senioren,Vortrag
END:VEVENT
BEGIN:VEVENT
DTSTART;TZID=Europe/Berlin:20221207T163000
DTEND;TZID=Europe/Berlin:20221207T170000
DTSTAMP:20260420T100906
CREATED:20220914T192119Z
LAST-MODIFIED:20221021T095523Z
UID:10007587-1670430600-1670432400@kirche-dll.de
SUMMARY:Piepmatzchor
DESCRIPTION:
URL:https://kirche-dll.de/termin/piepmatzchor-id11730/2022-12-07/
LOCATION:Gemeindehaus Dölau\, Franz-Mehring-Str. 9b\, Halle\, 06120\, Deutschland
CATEGORIES:Kinder,Musik
END:VEVENT
BEGIN:VEVENT
DTSTART;TZID=Europe/Berlin:20221206T144500
DTEND;TZID=Europe/Berlin:20221206T160000
DTSTAMP:20260420T100906
CREATED:20221106T111032Z
LAST-MODIFIED:20221106T111714Z
UID:10007862-1670337900-1670342400@kirche-dll.de
SUMMARY:Kinderkirche
DESCRIPTION:
URL:https://kirche-dll.de/termin/kinderkirche/2022-12-06/
LOCATION:Gemeindehaus Dölau\, Franz-Mehring-Str. 9b\, Halle\, 06120\, Deutschland
CATEGORIES:Kinder
END:VEVENT
BEGIN:VEVENT
DTSTART;TZID=Europe/Berlin:20221205T190000
DTEND;TZID=Europe/Berlin:20221205T210000
DTSTAMP:20260420T100906
CREATED:20220927T140731Z
LAST-MODIFIED:20220927T140731Z
UID:10007569-1670266800-1670274000@kirche-dll.de
SUMMARY:Regionaler Frauenkreis
DESCRIPTION:Adventsbasteln
URL:https://kirche-dll.de/termin/regionaler-frauenkreis-id12159/
LOCATION:Gemeindehaus Dölau\, Franz-Mehring-Str. 9b\, Halle\, 06120\, Deutschland
CATEGORIES:Erwachsene,Frauen
END:VEVENT
BEGIN:VEVENT
DTSTART;TZID=Europe/Berlin:20221130T163000
DTEND;TZID=Europe/Berlin:20221130T170000
DTSTAMP:20260420T100906
CREATED:20220914T192119Z
LAST-MODIFIED:20221021T095523Z
UID:10007586-1669825800-1669827600@kirche-dll.de
SUMMARY:Piepmatzchor
DESCRIPTION:
URL:https://kirche-dll.de/termin/piepmatzchor-id11730/2022-11-30/
LOCATION:Gemeindehaus Dölau\, Franz-Mehring-Str. 9b\, Halle\, 06120\, Deutschland
CATEGORIES:Kinder,Musik
END:VEVENT
BEGIN:VEVENT
DTSTART;TZID=Europe/Berlin:20221129T144500
DTEND;TZID=Europe/Berlin:20221129T160000
DTSTAMP:20260420T100906
CREATED:20221106T111032Z
LAST-MODIFIED:20221106T111714Z
UID:10007861-1669733100-1669737600@kirche-dll.de
SUMMARY:Kinderkirche
DESCRIPTION:
URL:https://kirche-dll.de/termin/kinderkirche/2022-11-29/
LOCATION:Gemeindehaus Dölau\, Franz-Mehring-Str. 9b\, Halle\, 06120\, Deutschland
CATEGORIES:Kinder
END:VEVENT
BEGIN:VEVENT
DTSTART;TZID=Europe/Berlin:20221123T163000
DTEND;TZID=Europe/Berlin:20221123T170000
DTSTAMP:20260420T100906
CREATED:20220914T192119Z
LAST-MODIFIED:20221021T095523Z
UID:10007585-1669221000-1669222800@kirche-dll.de
SUMMARY:Piepmatzchor
DESCRIPTION:
URL:https://kirche-dll.de/termin/piepmatzchor-id11730/2022-11-23/
LOCATION:Gemeindehaus Dölau\, Franz-Mehring-Str. 9b\, Halle\, 06120\, Deutschland
CATEGORIES:Kinder,Musik
END:VEVENT
END:VCALENDAR