BEGIN:VCALENDAR
VERSION:2.0
PRODID:-//Evangelische Kirche Dölau-Lieskau / Lettin - ECPv6.15.17.1//NONSGML v1.0//EN
CALSCALE:GREGORIAN
METHOD:PUBLISH
X-ORIGINAL-URL:https://kirche-dll.de
X-WR-CALDESC:Veranstaltungen für Evangelische Kirche Dölau-Lieskau / Lettin
REFRESH-INTERVAL;VALUE=DURATION:PT1H
X-Robots-Tag:noindex
X-PUBLISHED-TTL:PT1H
BEGIN:VTIMEZONE
TZID:Europe/Berlin
BEGIN:DAYLIGHT
TZOFFSETFROM:+0100
TZOFFSETTO:+0200
TZNAME:CEST
DTSTART:20220327T010000
END:DAYLIGHT
BEGIN:STANDARD
TZOFFSETFROM:+0200
TZOFFSETTO:+0100
TZNAME:CET
DTSTART:20221030T010000
END:STANDARD
BEGIN:DAYLIGHT
TZOFFSETFROM:+0100
TZOFFSETTO:+0200
TZNAME:CEST
DTSTART:20230326T010000
END:DAYLIGHT
BEGIN:STANDARD
TZOFFSETFROM:+0200
TZOFFSETTO:+0100
TZNAME:CET
DTSTART:20231029T010000
END:STANDARD
BEGIN:DAYLIGHT
TZOFFSETFROM:+0100
TZOFFSETTO:+0200
TZNAME:CEST
DTSTART:20240331T010000
END:DAYLIGHT
BEGIN:STANDARD
TZOFFSETFROM:+0200
TZOFFSETTO:+0100
TZNAME:CET
DTSTART:20241027T010000
END:STANDARD
END:VTIMEZONE
BEGIN:VEVENT
DTSTART;TZID=Europe/Berlin:20230412T173000
DTEND;TZID=Europe/Berlin:20230412T181500
DTSTAMP:20260420T040720
CREATED:20230127T084742Z
LAST-MODIFIED:20230127T084742Z
UID:10007985-1681320600-1681323300@kirche-dll.de
SUMMARY:Kinder-/Jugendchor
DESCRIPTION:ab ca. 10 Jahren
URL:https://kirche-dll.de/termin/kinderchor-id11726-2/2023-04-12/
LOCATION:Gemeindehaus Dölau\, Franz-Mehring-Str. 9b\, Halle\, 06120\, Deutschland
CATEGORIES:Kinder,Musik
END:VEVENT
BEGIN:VEVENT
DTSTART;TZID=Europe/Berlin:20230412T170000
DTEND;TZID=Europe/Berlin:20230412T173000
DTSTAMP:20260420T040720
CREATED:20230127T084553Z
LAST-MODIFIED:20230131T125520Z
UID:10007967-1681318800-1681320600@kirche-dll.de
SUMMARY:Piepmatzchor
DESCRIPTION:
URL:https://kirche-dll.de/termin/piepmatzchor-id11730-2/2023-04-12/
LOCATION:Gemeindehaus Dölau\, Franz-Mehring-Str. 9b\, Halle\, 06120\, Deutschland
CATEGORIES:Kinder,Musik
END:VEVENT
BEGIN:VEVENT
DTSTART;TZID=Europe/Berlin:20230411T163000
DTEND;TZID=Europe/Berlin:20230411T173000
DTSTAMP:20260420T040720
CREATED:20230127T114134Z
LAST-MODIFIED:20230127T114134Z
UID:10008210-1681230600-1681234200@kirche-dll.de
SUMMARY:Theatergruppe DöLL
DESCRIPTION:
URL:https://kirche-dll.de/termin/theatergruppe-doell/2023-04-11/
LOCATION:Gemeindehaus Dölau\, Franz-Mehring-Str. 9b\, Halle\, 06120\, Deutschland
CATEGORIES:Kinder
END:VEVENT
BEGIN:VEVENT
DTSTART;TZID=Europe/Berlin:20230411T144500
DTEND;TZID=Europe/Berlin:20230411T160000
DTSTAMP:20260420T040720
CREATED:20230127T113538Z
LAST-MODIFIED:20230127T113843Z
UID:10008034-1681224300-1681228800@kirche-dll.de
SUMMARY:Kinderkirche Klasse 1-4
DESCRIPTION:
URL:https://kirche-dll.de/termin/kinderkirche-klasse-1-4/2023-04-11/
LOCATION:Gemeindehaus Dölau\, Franz-Mehring-Str. 9b\, Halle\, 06120\, Deutschland
CATEGORIES:Kinder
END:VEVENT
BEGIN:VEVENT
DTSTART;TZID=Europe/Berlin:20230410T110000
DTEND;TZID=Europe/Berlin:20230410T123000
DTSTAMP:20260420T040720
CREATED:20230127T112211Z
LAST-MODIFIED:20230127T112211Z
UID:10008019-1681124400-1681129800@kirche-dll.de
SUMMARY:Familiengottesdienst zum Ostermontag
DESCRIPTION:mit anschließendem Ostereiersuchen und Kirchenkaffee
URL:https://kirche-dll.de/termin/familiengottesdienst-zum-ostermontag/
LOCATION:Gemeindehaus Dölau\, Franz-Mehring-Str. 9b\, Halle\, 06120\, Deutschland
CATEGORIES:Erwachsene,Familien,Gottesdienste,Jugendliche,Kinder,Ökumene
END:VEVENT
BEGIN:VEVENT
DTSTART;TZID=Europe/Berlin:20230404T163000
DTEND;TZID=Europe/Berlin:20230404T173000
DTSTAMP:20260420T040720
CREATED:20230127T114134Z
LAST-MODIFIED:20230127T114134Z
UID:10008209-1680625800-1680629400@kirche-dll.de
SUMMARY:Theatergruppe DöLL
DESCRIPTION:
URL:https://kirche-dll.de/termin/theatergruppe-doell/2023-04-04/
LOCATION:Gemeindehaus Dölau\, Franz-Mehring-Str. 9b\, Halle\, 06120\, Deutschland
CATEGORIES:Kinder
END:VEVENT
BEGIN:VEVENT
DTSTART;TZID=Europe/Berlin:20230402T103000
DTEND;TZID=Europe/Berlin:20230402T123000
DTSTAMP:20260420T040720
CREATED:20230127T111732Z
LAST-MODIFIED:20230127T111732Z
UID:10008014-1680431400-1680438600@kirche-dll.de
SUMMARY:Ökumenischer Prozessionsgottesdienst am Palmsonntag
DESCRIPTION:Prozession vom EVANGELISCHEN GEMEINDEHAUS zur KATHOLISCHEN KIRCHE DÖLAU mit anschließendem Kaffeetrinken.
URL:https://kirche-dll.de/termin/oekumenischer-prozessionsgottesdienst-am-palmsonntag/
LOCATION:Gemeindehaus Dölau\, Franz-Mehring-Str. 9b\, Halle\, 06120\, Deutschland
CATEGORIES:Gottesdienste,Ökumene
END:VEVENT
BEGIN:VEVENT
DTSTART;TZID=Europe/Berlin:20230329T173000
DTEND;TZID=Europe/Berlin:20230329T181500
DTSTAMP:20260420T040720
CREATED:20230127T084742Z
LAST-MODIFIED:20230127T084742Z
UID:10007984-1680111000-1680113700@kirche-dll.de
SUMMARY:Kinder-/Jugendchor
DESCRIPTION:ab ca. 10 Jahren
URL:https://kirche-dll.de/termin/kinderchor-id11726-2/2023-03-29/
LOCATION:Gemeindehaus Dölau\, Franz-Mehring-Str. 9b\, Halle\, 06120\, Deutschland
CATEGORIES:Kinder,Musik
END:VEVENT
BEGIN:VEVENT
DTSTART;TZID=Europe/Berlin:20230329T170000
DTEND;TZID=Europe/Berlin:20230329T173000
DTSTAMP:20260420T040720
CREATED:20230127T084553Z
LAST-MODIFIED:20230131T125520Z
UID:10007966-1680109200-1680111000@kirche-dll.de
SUMMARY:Piepmatzchor
DESCRIPTION:
URL:https://kirche-dll.de/termin/piepmatzchor-id11730-2/2023-03-29/
LOCATION:Gemeindehaus Dölau\, Franz-Mehring-Str. 9b\, Halle\, 06120\, Deutschland
CATEGORIES:Kinder,Musik
END:VEVENT
BEGIN:VEVENT
DTSTART;TZID=Europe/Berlin:20230329T103000
DTEND;TZID=Europe/Berlin:20230329T113000
DTSTAMP:20260420T040720
CREATED:20230202T092934Z
LAST-MODIFIED:20230202T092934Z
UID:10008252-1680085800-1680089400@kirche-dll.de
SUMMARY:Opera mobile
DESCRIPTION:Der Tenor Chulhyun Kim (bekannt als Herzog in Rigoletto und Faust im Faust) singt aus seinem Programm der italienischen Romantik Lieder von Vincenzo Bellini. Auf dem Klavier wird er von Bart Berzonsky (Dirigent\, Pianist und Leiter des Kinder- und Jugendchors der Oper) begleitet. Das Programm dauert ein gute halbe Stunde. Im Anschluss wird zum gemeinsamen Singen von bekannten Volksliedern eingeladen. Eintritt frei
URL:https://kirche-dll.de/termin/opera-mobile/
LOCATION:Gemeindehaus Dölau\, Franz-Mehring-Str. 9b\, Halle\, 06120\, Deutschland
CATEGORIES:Erwachsene,Musik,Ökumene,Senioren
END:VEVENT
BEGIN:VEVENT
DTSTART;TZID=Europe/Berlin:20230328T163000
DTEND;TZID=Europe/Berlin:20230328T173000
DTSTAMP:20260420T040720
CREATED:20230127T114134Z
LAST-MODIFIED:20230127T114134Z
UID:10008208-1680021000-1680024600@kirche-dll.de
SUMMARY:Theatergruppe DöLL
DESCRIPTION:
URL:https://kirche-dll.de/termin/theatergruppe-doell/2023-03-28/
LOCATION:Gemeindehaus Dölau\, Franz-Mehring-Str. 9b\, Halle\, 06120\, Deutschland
CATEGORIES:Kinder
END:VEVENT
BEGIN:VEVENT
DTSTART;TZID=Europe/Berlin:20230328T144500
DTEND;TZID=Europe/Berlin:20230328T160000
DTSTAMP:20260420T040720
CREATED:20230127T113538Z
LAST-MODIFIED:20230127T113843Z
UID:10008033-1680014700-1680019200@kirche-dll.de
SUMMARY:Kinderkirche Klasse 1-4
DESCRIPTION:
URL:https://kirche-dll.de/termin/kinderkirche-klasse-1-4/2023-03-28/
LOCATION:Gemeindehaus Dölau\, Franz-Mehring-Str. 9b\, Halle\, 06120\, Deutschland
CATEGORIES:Kinder
END:VEVENT
BEGIN:VEVENT
DTSTART;TZID=Europe/Berlin:20230326T110000
DTEND;TZID=Europe/Berlin:20230326T123000
DTSTAMP:20260420T040720
CREATED:20230127T111524Z
LAST-MODIFIED:20230127T111524Z
UID:10008012-1679828400-1679833800@kirche-dll.de
SUMMARY:Familienkirche
DESCRIPTION:Mitmachgottesdienst für Groß und Klein\, Jung und Alt.\nNach dem Gottesdienst essen wir gemeinsam. Wir teilen\, was wir mitbringen.
URL:https://kirche-dll.de/termin/familienkirche-2/
LOCATION:Gemeindehaus Dölau\, Franz-Mehring-Str. 9b\, Halle\, 06120\, Deutschland
CATEGORIES:Familien,Gottesdienste,Kinder
END:VEVENT
BEGIN:VEVENT
DTSTART;TZID=Europe/Berlin:20230322T173000
DTEND;TZID=Europe/Berlin:20230322T181500
DTSTAMP:20260420T040720
CREATED:20230127T084742Z
LAST-MODIFIED:20230127T084742Z
UID:10007983-1679506200-1679508900@kirche-dll.de
SUMMARY:Kinder-/Jugendchor
DESCRIPTION:ab ca. 10 Jahren
URL:https://kirche-dll.de/termin/kinderchor-id11726-2/2023-03-22/
LOCATION:Gemeindehaus Dölau\, Franz-Mehring-Str. 9b\, Halle\, 06120\, Deutschland
CATEGORIES:Kinder,Musik
END:VEVENT
BEGIN:VEVENT
DTSTART;TZID=Europe/Berlin:20230322T170000
DTEND;TZID=Europe/Berlin:20230322T173000
DTSTAMP:20260420T040720
CREATED:20230127T084553Z
LAST-MODIFIED:20230131T125520Z
UID:10007965-1679504400-1679506200@kirche-dll.de
SUMMARY:Piepmatzchor
DESCRIPTION:
URL:https://kirche-dll.de/termin/piepmatzchor-id11730-2/2023-03-22/
LOCATION:Gemeindehaus Dölau\, Franz-Mehring-Str. 9b\, Halle\, 06120\, Deutschland
CATEGORIES:Kinder,Musik
END:VEVENT
BEGIN:VEVENT
DTSTART;TZID=Europe/Berlin:20230321T163000
DTEND;TZID=Europe/Berlin:20230321T173000
DTSTAMP:20260420T040720
CREATED:20230127T114134Z
LAST-MODIFIED:20230127T114134Z
UID:10008207-1679416200-1679419800@kirche-dll.de
SUMMARY:Theatergruppe DöLL
DESCRIPTION:
URL:https://kirche-dll.de/termin/theatergruppe-doell/2023-03-21/
LOCATION:Gemeindehaus Dölau\, Franz-Mehring-Str. 9b\, Halle\, 06120\, Deutschland
CATEGORIES:Kinder
END:VEVENT
BEGIN:VEVENT
DTSTART;TZID=Europe/Berlin:20230321T144500
DTEND;TZID=Europe/Berlin:20230321T160000
DTSTAMP:20260420T040720
CREATED:20230127T113538Z
LAST-MODIFIED:20230127T113843Z
UID:10008032-1679409900-1679414400@kirche-dll.de
SUMMARY:Kinderkirche Klasse 1-4
DESCRIPTION:
URL:https://kirche-dll.de/termin/kinderkirche-klasse-1-4/2023-03-21/
LOCATION:Gemeindehaus Dölau\, Franz-Mehring-Str. 9b\, Halle\, 06120\, Deutschland
CATEGORIES:Kinder
END:VEVENT
BEGIN:VEVENT
DTSTART;TZID=Europe/Berlin:20230320T190000
DTEND;TZID=Europe/Berlin:20230320T210000
DTSTAMP:20260420T040720
CREATED:20230202T092357Z
LAST-MODIFIED:20230202T092357Z
UID:10008251-1679338800-1679346000@kirche-dll.de
SUMMARY:Regionaler Frauenkreis
DESCRIPTION:Wir nähen &#8222;wet bags&#8220; (wasserabweisende Nasstaschen)\nBitte mitbringen: Lineal\, Schere\, Stift\, Nähgarn und\, wer hat\, eine Nähmaschine
URL:https://kirche-dll.de/termin/regionaler-frauenkreis-3/
LOCATION:Gemeindehaus Dölau\, Franz-Mehring-Str. 9b\, Halle\, 06120\, Deutschland
CATEGORIES:Frauen
END:VEVENT
BEGIN:VEVENT
DTSTART;TZID=Europe/Berlin:20230320T150000
DTEND;TZID=Europe/Berlin:20230320T170000
DTSTAMP:20260420T040720
CREATED:20230202T091732Z
LAST-MODIFIED:20230202T091732Z
UID:10008247-1679324400-1679331600@kirche-dll.de
SUMMARY:Begegnungscafé
DESCRIPTION:20. Februar: Spielenachmittag mit Pfannkuchen\n20. März: Oster- und Frühjahrsbasteln\n17. April: Pflanzentauschbörse und Pflegetipps
URL:https://kirche-dll.de/termin/begegnungscafe-2/2023-03-20/
LOCATION:Gemeindehaus Dölau\, Franz-Mehring-Str. 9b\, Halle\, 06120\, Deutschland
CATEGORIES:Erwachsene,Ökumene,Senioren
END:VEVENT
BEGIN:VEVENT
DTSTART;TZID=Europe/Berlin:20230316T100000
DTEND;TZID=Europe/Berlin:20230316T113000
DTSTAMP:20260420T040720
CREATED:20230202T091004Z
LAST-MODIFIED:20230202T091004Z
UID:10008241-1678960800-1678966200@kirche-dll.de
SUMMARY:Seniorenfrühstück
DESCRIPTION:
URL:https://kirche-dll.de/termin/seniorenfruehstueck-2/2023-03-16/
LOCATION:Gemeindehaus Dölau\, Franz-Mehring-Str. 9b\, Halle\, 06120\, Deutschland
CATEGORIES:Ökumene,Senioren
END:VEVENT
BEGIN:VEVENT
DTSTART;TZID=Europe/Berlin:20230315T173000
DTEND;TZID=Europe/Berlin:20230315T181500
DTSTAMP:20260420T040720
CREATED:20230127T084742Z
LAST-MODIFIED:20230127T084742Z
UID:10007982-1678901400-1678904100@kirche-dll.de
SUMMARY:Kinder-/Jugendchor
DESCRIPTION:ab ca. 10 Jahren
URL:https://kirche-dll.de/termin/kinderchor-id11726-2/2023-03-15/
LOCATION:Gemeindehaus Dölau\, Franz-Mehring-Str. 9b\, Halle\, 06120\, Deutschland
CATEGORIES:Kinder,Musik
END:VEVENT
BEGIN:VEVENT
DTSTART;TZID=Europe/Berlin:20230315T170000
DTEND;TZID=Europe/Berlin:20230315T173000
DTSTAMP:20260420T040720
CREATED:20230127T084553Z
LAST-MODIFIED:20230131T125520Z
UID:10007964-1678899600-1678901400@kirche-dll.de
SUMMARY:Piepmatzchor
DESCRIPTION:
URL:https://kirche-dll.de/termin/piepmatzchor-id11730-2/2023-03-15/
LOCATION:Gemeindehaus Dölau\, Franz-Mehring-Str. 9b\, Halle\, 06120\, Deutschland
CATEGORIES:Kinder,Musik
END:VEVENT
BEGIN:VEVENT
DTSTART;TZID=Europe/Berlin:20230314T163000
DTEND;TZID=Europe/Berlin:20230314T173000
DTSTAMP:20260420T040720
CREATED:20230127T114134Z
LAST-MODIFIED:20230127T114134Z
UID:10008206-1678811400-1678815000@kirche-dll.de
SUMMARY:Theatergruppe DöLL
DESCRIPTION:
URL:https://kirche-dll.de/termin/theatergruppe-doell/2023-03-14/
LOCATION:Gemeindehaus Dölau\, Franz-Mehring-Str. 9b\, Halle\, 06120\, Deutschland
CATEGORIES:Kinder
END:VEVENT
BEGIN:VEVENT
DTSTART;TZID=Europe/Berlin:20230314T144500
DTEND;TZID=Europe/Berlin:20230314T160000
DTSTAMP:20260420T040720
CREATED:20230127T113538Z
LAST-MODIFIED:20230127T113843Z
UID:10008031-1678805100-1678809600@kirche-dll.de
SUMMARY:Kinderkirche Klasse 1-4
DESCRIPTION:
URL:https://kirche-dll.de/termin/kinderkirche-klasse-1-4/2023-03-14/
LOCATION:Gemeindehaus Dölau\, Franz-Mehring-Str. 9b\, Halle\, 06120\, Deutschland
CATEGORIES:Kinder
END:VEVENT
BEGIN:VEVENT
DTSTART;TZID=Europe/Berlin:20230308T173000
DTEND;TZID=Europe/Berlin:20230308T181500
DTSTAMP:20260420T040720
CREATED:20230127T084742Z
LAST-MODIFIED:20230127T084742Z
UID:10007981-1678296600-1678299300@kirche-dll.de
SUMMARY:Kinder-/Jugendchor
DESCRIPTION:ab ca. 10 Jahren
URL:https://kirche-dll.de/termin/kinderchor-id11726-2/2023-03-08/
LOCATION:Gemeindehaus Dölau\, Franz-Mehring-Str. 9b\, Halle\, 06120\, Deutschland
CATEGORIES:Kinder,Musik
END:VEVENT
BEGIN:VEVENT
DTSTART;TZID=Europe/Berlin:20230308T170000
DTEND;TZID=Europe/Berlin:20230308T173000
DTSTAMP:20260420T040720
CREATED:20230127T084553Z
LAST-MODIFIED:20230131T125520Z
UID:10007963-1678294800-1678296600@kirche-dll.de
SUMMARY:Piepmatzchor
DESCRIPTION:
URL:https://kirche-dll.de/termin/piepmatzchor-id11730-2/2023-03-08/
LOCATION:Gemeindehaus Dölau\, Franz-Mehring-Str. 9b\, Halle\, 06120\, Deutschland
CATEGORIES:Kinder,Musik
END:VEVENT
BEGIN:VEVENT
DTSTART;TZID=Europe/Berlin:20230307T163000
DTEND;TZID=Europe/Berlin:20230307T173000
DTSTAMP:20260420T040720
CREATED:20230127T114134Z
LAST-MODIFIED:20230127T114134Z
UID:10008205-1678206600-1678210200@kirche-dll.de
SUMMARY:Theatergruppe DöLL
DESCRIPTION:
URL:https://kirche-dll.de/termin/theatergruppe-doell/2023-03-07/
LOCATION:Gemeindehaus Dölau\, Franz-Mehring-Str. 9b\, Halle\, 06120\, Deutschland
CATEGORIES:Kinder
END:VEVENT
BEGIN:VEVENT
DTSTART;TZID=Europe/Berlin:20230307T144500
DTEND;TZID=Europe/Berlin:20230307T160000
DTSTAMP:20260420T040720
CREATED:20230127T113538Z
LAST-MODIFIED:20230127T113843Z
UID:10008030-1678200300-1678204800@kirche-dll.de
SUMMARY:Kinderkirche Klasse 1-4
DESCRIPTION:
URL:https://kirche-dll.de/termin/kinderkirche-klasse-1-4/2023-03-07/
LOCATION:Gemeindehaus Dölau\, Franz-Mehring-Str. 9b\, Halle\, 06120\, Deutschland
CATEGORIES:Kinder
END:VEVENT
BEGIN:VEVENT
DTSTART;TZID=Europe/Berlin:20230301T173000
DTEND;TZID=Europe/Berlin:20230301T181500
DTSTAMP:20260420T040720
CREATED:20230127T084742Z
LAST-MODIFIED:20230127T084742Z
UID:10007980-1677691800-1677694500@kirche-dll.de
SUMMARY:Kinder-/Jugendchor
DESCRIPTION:ab ca. 10 Jahren
URL:https://kirche-dll.de/termin/kinderchor-id11726-2/2023-03-01/
LOCATION:Gemeindehaus Dölau\, Franz-Mehring-Str. 9b\, Halle\, 06120\, Deutschland
CATEGORIES:Kinder,Musik
END:VEVENT
BEGIN:VEVENT
DTSTART;TZID=Europe/Berlin:20230301T170000
DTEND;TZID=Europe/Berlin:20230301T173000
DTSTAMP:20260420T040720
CREATED:20230127T084553Z
LAST-MODIFIED:20230131T125520Z
UID:10007962-1677690000-1677691800@kirche-dll.de
SUMMARY:Piepmatzchor
DESCRIPTION:
URL:https://kirche-dll.de/termin/piepmatzchor-id11730-2/2023-03-01/
LOCATION:Gemeindehaus Dölau\, Franz-Mehring-Str. 9b\, Halle\, 06120\, Deutschland
CATEGORIES:Kinder,Musik
END:VEVENT
END:VCALENDAR