BEGIN:VCALENDAR
VERSION:2.0
PRODID:-//Evangelische Kirche Dölau-Lieskau / Lettin - ECPv6.15.17.1//NONSGML v1.0//EN
CALSCALE:GREGORIAN
METHOD:PUBLISH
X-WR-CALNAME:Evangelische Kirche Dölau-Lieskau / Lettin
X-ORIGINAL-URL:https://kirche-dll.de
X-WR-CALDESC:Veranstaltungen für Evangelische Kirche Dölau-Lieskau / Lettin
REFRESH-INTERVAL;VALUE=DURATION:PT1H
X-Robots-Tag:noindex
X-PUBLISHED-TTL:PT1H
BEGIN:VTIMEZONE
TZID:Europe/Berlin
BEGIN:DAYLIGHT
TZOFFSETFROM:+0100
TZOFFSETTO:+0200
TZNAME:CEST
DTSTART:20220327T010000
END:DAYLIGHT
BEGIN:STANDARD
TZOFFSETFROM:+0200
TZOFFSETTO:+0100
TZNAME:CET
DTSTART:20221030T010000
END:STANDARD
BEGIN:DAYLIGHT
TZOFFSETFROM:+0100
TZOFFSETTO:+0200
TZNAME:CEST
DTSTART:20230326T010000
END:DAYLIGHT
BEGIN:STANDARD
TZOFFSETFROM:+0200
TZOFFSETTO:+0100
TZNAME:CET
DTSTART:20231029T010000
END:STANDARD
BEGIN:DAYLIGHT
TZOFFSETFROM:+0100
TZOFFSETTO:+0200
TZNAME:CEST
DTSTART:20240331T010000
END:DAYLIGHT
BEGIN:STANDARD
TZOFFSETFROM:+0200
TZOFFSETTO:+0100
TZNAME:CET
DTSTART:20241027T010000
END:STANDARD
BEGIN:DAYLIGHT
TZOFFSETFROM:+0100
TZOFFSETTO:+0200
TZNAME:CEST
DTSTART:20250330T010000
END:DAYLIGHT
BEGIN:STANDARD
TZOFFSETFROM:+0200
TZOFFSETTO:+0100
TZNAME:CET
DTSTART:20251026T010000
END:STANDARD
END:VTIMEZONE
BEGIN:VEVENT
DTSTART;TZID=Europe/Berlin:20240401T110000
DTEND;TZID=Europe/Berlin:20240401T130000
DTSTAMP:20260419T154105
CREATED:20240215T130123Z
LAST-MODIFIED:20240215T130123Z
UID:10008674-1711969200-1711976400@kirche-dll.de
SUMMARY:Familiengottesdienst am Ostermontag
DESCRIPTION:mit Ostereiersuchen und Beisammensein.\nWir teilen\, was wir mitbringen.
URL:https://kirche-dll.de/termin/familiengottesdienst-am-ostermontag/
LOCATION:Gemeindehaus Dölau\, Franz-Mehring-Str. 9b\, Halle\, 06120\, Deutschland
CATEGORIES:Erwachsene,Familien,Gottesdienste,Jugendliche,Kinder,Musik,Ökumene
END:VEVENT
BEGIN:VEVENT
DTSTART;TZID=Europe/Berlin:20240324T100000
DTEND;TZID=Europe/Berlin:20240324T120000
DTSTAMP:20260419T154105
CREATED:20240214T122730Z
LAST-MODIFIED:20240214T122730Z
UID:10008664-1711274400-1711281600@kirche-dll.de
SUMMARY:Ökumenischer Gottesdienst am Palmsonntag
DESCRIPTION:Gemeinsam laufen wir zur Palmsonntagsprozession vom evangelischen Gemeindehaus in die katholische Kirche.\nanschließend Beisammensein mit mitgebrachten Speisen und Getränken.
URL:https://kirche-dll.de/termin/oekumenischer-gottesdienst-am-palmsonntag/
LOCATION:Gemeindehaus Dölau\, Franz-Mehring-Str. 9b\, Halle\, 06120\, Deutschland
CATEGORIES:Familien,Gottesdienste,Kinder,Ökumene
END:VEVENT
BEGIN:VEVENT
DTSTART;TZID=Europe/Berlin:20240321T080000
DTEND;TZID=Europe/Berlin:20240321T170000
DTSTAMP:20260419T154105
CREATED:20240201T152406Z
LAST-MODIFIED:20240201T152406Z
UID:10008636-1711008000-1711040400@kirche-dll.de
SUMMARY:Seniorenfrühstück Dölau
DESCRIPTION:
URL:https://kirche-dll.de/termin/seniorenfruehstueck-doelau-3/2024-03-21/
LOCATION:Gemeindehaus Dölau\, Franz-Mehring-Str. 9b\, Halle\, 06120\, Deutschland
CATEGORIES:Senioren
END:VEVENT
BEGIN:VEVENT
DTSTART;TZID=Europe/Berlin:20240318T190000
DTEND;TZID=Europe/Berlin:20240318T210000
DTSTAMP:20260419T154105
CREATED:20240201T153635Z
LAST-MODIFIED:20240201T153635Z
UID:10008645-1710788400-1710795600@kirche-dll.de
SUMMARY:Regionaler Frauenkreis Dölau
DESCRIPTION:26. Februar: Biblisches Kochen\n18. März: Kreativabend\n8. April: Nun will der Lenz uns grüßen&#8230; \nInfos und Informationen bei ulrike.simm@kirche-dll.de
URL:https://kirche-dll.de/termin/regionaler-frauenkreis-doelau-2/2024-03-18/
LOCATION:Gemeindehaus Dölau\, Franz-Mehring-Str. 9b\, Halle\, 06120\, Deutschland
CATEGORIES:Frauen,Ökumene
END:VEVENT
BEGIN:VEVENT
DTSTART;TZID=Europe/Berlin:20240318T080000
DTEND;TZID=Europe/Berlin:20240318T170000
DTSTAMP:20260419T154105
CREATED:20240201T153223Z
LAST-MODIFIED:20240201T153223Z
UID:10008642-1710748800-1710781200@kirche-dll.de
SUMMARY:Begegnungscafé Dölau
DESCRIPTION:19. Februar: Fröhliches Beisammensein\n18. März: Vortrag des Dölauer Malers und Grafikers Hendrik Tauché\n15. April: Pfarrer Eckart Warner zur Bedeutung des Osterfestkreises
URL:https://kirche-dll.de/termin/begegnungscafe-doelau-4/2024-03-18/
LOCATION:Gemeindehaus Dölau\, Franz-Mehring-Str. 9b\, Halle\, 06120\, Deutschland
CATEGORIES:Erwachsene,Ökumene,Senioren
END:VEVENT
BEGIN:VEVENT
DTSTART;TZID=Europe/Berlin:20240317T110000
DTEND;TZID=Europe/Berlin:20240317T130000
DTSTAMP:20260419T154105
CREATED:20240214T122456Z
LAST-MODIFIED:20240214T122456Z
UID:10008663-1710673200-1710680400@kirche-dll.de
SUMMARY:Familienkirche und Gemeindeversammlung
DESCRIPTION:Wir feiern gemeinsam und sprechen über unser Gemeindeleben im Kirchspiel Dölau-Lieskau.\nAnschließend essen wir\, was wir mitbringen.
URL:https://kirche-dll.de/termin/familienkirche-und-gemeindeversammlung/
LOCATION:Gemeindehaus Dölau\, Franz-Mehring-Str. 9b\, Halle\, 06120\, Deutschland
CATEGORIES:Erwachsene,Familien,Frauen,Gottesdienste,Jugendliche,Kinder
END:VEVENT
BEGIN:VEVENT
DTSTART;TZID=Europe/Berlin:20240226T190000
DTEND;TZID=Europe/Berlin:20240226T210000
DTSTAMP:20260419T154105
CREATED:20240201T153635Z
LAST-MODIFIED:20240201T153635Z
UID:10008644-1708974000-1708981200@kirche-dll.de
SUMMARY:Regionaler Frauenkreis Dölau
DESCRIPTION:26. Februar: Biblisches Kochen\n18. März: Kreativabend\n8. April: Nun will der Lenz uns grüßen&#8230; \nInfos und Informationen bei ulrike.simm@kirche-dll.de
URL:https://kirche-dll.de/termin/regionaler-frauenkreis-doelau-2/2024-02-26/
LOCATION:Gemeindehaus Dölau\, Franz-Mehring-Str. 9b\, Halle\, 06120\, Deutschland
CATEGORIES:Frauen,Ökumene
END:VEVENT
BEGIN:VEVENT
DTSTART;TZID=Europe/Berlin:20240219T150000
DTEND;TZID=Europe/Berlin:20240219T170000
DTSTAMP:20260419T154105
CREATED:20240201T153223Z
LAST-MODIFIED:20240201T153223Z
UID:10008641-1708354800-1708362000@kirche-dll.de
SUMMARY:Begegnungscafé Dölau
DESCRIPTION:19. Februar: Fröhliches Beisammensein\n18. März: Vortrag des Dölauer Malers und Grafikers Hendrik Tauché\n15. April: Pfarrer Eckart Warner zur Bedeutung des Osterfestkreises
URL:https://kirche-dll.de/termin/begegnungscafe-doelau-4/2024-02-19/
LOCATION:Gemeindehaus Dölau\, Franz-Mehring-Str. 9b\, Halle\, 06120\, Deutschland
CATEGORIES:Erwachsene,Ökumene,Senioren
END:VEVENT
BEGIN:VEVENT
DTSTART;TZID=Europe/Berlin:20240215T100000
DTEND;TZID=Europe/Berlin:20240215T120000
DTSTAMP:20260419T154105
CREATED:20240201T152406Z
LAST-MODIFIED:20240201T152406Z
UID:10008635-1707991200-1707998400@kirche-dll.de
SUMMARY:Seniorenfrühstück Dölau
DESCRIPTION:
URL:https://kirche-dll.de/termin/seniorenfruehstueck-doelau-3/2024-02-15/2/
LOCATION:Gemeindehaus Dölau\, Franz-Mehring-Str. 9b\, Halle\, 06120\, Deutschland
CATEGORIES:Senioren
END:VEVENT
BEGIN:VEVENT
DTSTART;TZID=Europe/Berlin:20240215T080000
DTEND;TZID=Europe/Berlin:20240215T170000
DTSTAMP:20260419T154105
CREATED:20240201T152406Z
LAST-MODIFIED:20240201T152406Z
UID:10008634-1707984000-1708016400@kirche-dll.de
SUMMARY:Seniorenfrühstück Dölau
DESCRIPTION:
URL:https://kirche-dll.de/termin/seniorenfruehstueck-doelau-3/2024-02-15/1/
LOCATION:Gemeindehaus Dölau\, Franz-Mehring-Str. 9b\, Halle\, 06120\, Deutschland
CATEGORIES:Senioren
END:VEVENT
BEGIN:VEVENT
DTSTART;TZID=Europe/Berlin:20240126T160000
DTEND;TZID=Europe/Berlin:20240126T190000
DTSTAMP:20260419T154105
CREATED:20231127T112149Z
LAST-MODIFIED:20231127T112149Z
UID:10008549-1706284800-1706295600@kirche-dll.de
SUMMARY:Teenie-Treff
DESCRIPTION:
URL:https://kirche-dll.de/termin/teenie-treff-2/2024-01-26/
LOCATION:Gemeindehaus Dölau\, Franz-Mehring-Str. 9b\, Halle\, 06120\, Deutschland
CATEGORIES:Jugendliche,Kinder
END:VEVENT
BEGIN:VEVENT
DTSTART;TZID=Europe/Berlin:20240122T190000
DTEND;TZID=Europe/Berlin:20240122T210000
DTSTAMP:20260419T154105
CREATED:20231127T112006Z
LAST-MODIFIED:20231127T112006Z
UID:10008547-1705950000-1705957200@kirche-dll.de
SUMMARY:Regionaler Frauenkreis Dölau
DESCRIPTION:Ein Abend zur Jahreslosung 2024: Alles\, was ihr tut\, geschehe in Liebe.\n(1. Kor 16\,14)
URL:https://kirche-dll.de/termin/regionaler-frauenkreis-doelau/
LOCATION:Gemeindehaus Dölau\, Franz-Mehring-Str. 9b\, Halle\, 06120\, Deutschland
CATEGORIES:Frauen
END:VEVENT
BEGIN:VEVENT
DTSTART;TZID=Europe/Berlin:20240121T110000
DTEND;TZID=Europe/Berlin:20240121T130000
DTSTAMP:20260419T154105
CREATED:20231127T104649Z
LAST-MODIFIED:20231127T104649Z
UID:10008414-1705834800-1705842000@kirche-dll.de
SUMMARY:Familienkirche
DESCRIPTION:
URL:https://kirche-dll.de/termin/familienkirche-6/
LOCATION:Gemeindehaus Dölau\, Franz-Mehring-Str. 9b\, Halle\, 06120\, Deutschland
CATEGORIES:Familien,Gottesdienste,Jugendliche,Kinder
END:VEVENT
BEGIN:VEVENT
DTSTART;TZID=Europe/Berlin:20240115T150000
DTEND;TZID=Europe/Berlin:20240115T170000
DTSTAMP:20260419T154105
CREATED:20231127T111358Z
LAST-MODIFIED:20231127T111358Z
UID:10008544-1705330800-1705338000@kirche-dll.de
SUMMARY:Begegnungscafé Dölau
DESCRIPTION:mit Vortrag des Dölauer Malers und Grafikers Hendrik Tauché
URL:https://kirche-dll.de/termin/begegnungscafe-doelau-3/
LOCATION:Gemeindehaus Dölau\, Franz-Mehring-Str. 9b\, Halle\, 06120\, Deutschland
CATEGORIES:Erwachsene,Senioren,Vortrag
END:VEVENT
BEGIN:VEVENT
DTSTART;TZID=Europe/Berlin:20231218T150000
DTEND;TZID=Europe/Berlin:20231218T170000
DTSTAMP:20260419T154105
CREATED:20231127T110554Z
LAST-MODIFIED:20231127T110554Z
UID:10008429-1702911600-1702918800@kirche-dll.de
SUMMARY:Begegnungscafé Dölau: Weihnachtsfeier
DESCRIPTION:
URL:https://kirche-dll.de/termin/begegnungscafe-doelau-weihnachtsfeier/
LOCATION:Gemeindehaus Dölau\, Franz-Mehring-Str. 9b\, Halle\, 06120\, Deutschland
CATEGORIES:Erwachsene,Senioren
END:VEVENT
BEGIN:VEVENT
DTSTART;TZID=Europe/Berlin:20231215T160000
DTEND;TZID=Europe/Berlin:20231215T190000
DTSTAMP:20260419T154105
CREATED:20231127T112149Z
LAST-MODIFIED:20231127T112149Z
UID:10008548-1702656000-1702666800@kirche-dll.de
SUMMARY:Teenie-Treff
DESCRIPTION:
URL:https://kirche-dll.de/termin/teenie-treff-2/2023-12-15/
LOCATION:Gemeindehaus Dölau\, Franz-Mehring-Str. 9b\, Halle\, 06120\, Deutschland
CATEGORIES:Jugendliche,Kinder
END:VEVENT
BEGIN:VEVENT
DTSTART;TZID=Europe/Berlin:20231214T100000
DTEND;TZID=Europe/Berlin:20231214T113000
DTSTAMP:20260419T154105
CREATED:20231127T105827Z
LAST-MODIFIED:20231127T105827Z
UID:10008424-1702548000-1702553400@kirche-dll.de
SUMMARY:Seniorenfrühstück
DESCRIPTION:
URL:https://kirche-dll.de/termin/seniorenfruehstueck-5/
LOCATION:Gemeindehaus Dölau\, Franz-Mehring-Str. 9b\, Halle\, 06120\, Deutschland
CATEGORIES:Senioren
END:VEVENT
BEGIN:VEVENT
DTSTART;TZID=Europe/Berlin:20231205T160000
DTEND;TZID=Europe/Berlin:20231205T190000
DTSTAMP:20260419T154105
CREATED:20230817T112204Z
LAST-MODIFIED:20230817T112204Z
UID:10008372-1701792000-1701802800@kirche-dll.de
SUMMARY:Teenie-Treff
DESCRIPTION:NEU! NEU! NEU! \nWir haben bei unserem Treffen mehr Zeit\, dafür sehen wir uns jedoch nur noch einmal im Monat. So können wir Projekte mit einem größeren Zeitbedarf umsetzen\, z.B. Nistkasten bauen\, Umweltprojekt\, in Halle etwas unternehmen …\nEure Ideen und Wünsche dürft Ihr gerne mit einbringen.\nAuch das gemeinsame Vorbereiten des Abendbrotes und Essen steht auf dem Programm.
URL:https://kirche-dll.de/termin/teenie-treff/2023-12-05/
LOCATION:Gemeindehaus Dölau\, Franz-Mehring-Str. 9b\, Halle\, 06120\, Deutschland
CATEGORIES:Kinder
END:VEVENT
BEGIN:VEVENT
DTSTART;TZID=Europe/Berlin:20231204T190000
DTEND;TZID=Europe/Berlin:20231204T210000
DTSTAMP:20260419T154105
CREATED:20231127T105457Z
LAST-MODIFIED:20231127T105457Z
UID:10008421-1701716400-1701723600@kirche-dll.de
SUMMARY:Regionaler Frauenkreis: Weihnachtliche Basteleien und Adventsfeier
DESCRIPTION:
URL:https://kirche-dll.de/termin/regionaler-frauenkreis-weihnachtliche-basteleien-und-adventsfeier/
LOCATION:Gemeindehaus Dölau\, Franz-Mehring-Str. 9b\, Halle\, 06120\, Deutschland
CATEGORIES:Frauen
END:VEVENT
BEGIN:VEVENT
DTSTART;TZID=Europe/Berlin:20231124T160000
DTEND;TZID=Europe/Berlin:20231124T190000
DTSTAMP:20260419T154105
CREATED:20230817T112204Z
LAST-MODIFIED:20230817T112204Z
UID:10008371-1700841600-1700852400@kirche-dll.de
SUMMARY:Teenie-Treff
DESCRIPTION:NEU! NEU! NEU! \nWir haben bei unserem Treffen mehr Zeit\, dafür sehen wir uns jedoch nur noch einmal im Monat. So können wir Projekte mit einem größeren Zeitbedarf umsetzen\, z.B. Nistkasten bauen\, Umweltprojekt\, in Halle etwas unternehmen …\nEure Ideen und Wünsche dürft Ihr gerne mit einbringen.\nAuch das gemeinsame Vorbereiten des Abendbrotes und Essen steht auf dem Programm.
URL:https://kirche-dll.de/termin/teenie-treff/2023-11-24/
LOCATION:Gemeindehaus Dölau\, Franz-Mehring-Str. 9b\, Halle\, 06120\, Deutschland
CATEGORIES:Kinder
END:VEVENT
BEGIN:VEVENT
DTSTART;TZID=Europe/Berlin:20231026T100000
DTEND;TZID=Europe/Berlin:20231026T120000
DTSTAMP:20260419T154105
CREATED:20230817T111537Z
LAST-MODIFIED:20230817T111537Z
UID:10008361-1698314400-1698321600@kirche-dll.de
SUMMARY:Seniorenfrühstück Dölau
DESCRIPTION:
URL:https://kirche-dll.de/termin/seniorenfruehstueck-doelau-2/
LOCATION:Gemeindehaus Dölau\, Franz-Mehring-Str. 9b\, Halle\, 06120\, Deutschland
CATEGORIES:Senioren
END:VEVENT
BEGIN:VEVENT
DTSTART;TZID=Europe/Berlin:20231016T150000
DTEND;TZID=Europe/Berlin:20231016T170000
DTSTAMP:20260419T154105
CREATED:20230817T111123Z
LAST-MODIFIED:20230817T111123Z
UID:10008358-1697468400-1697475600@kirche-dll.de
SUMMARY:Begegnungscafé Dölau
DESCRIPTION:gemeinsamer Besuch im Dölauer Atelier des Malers und Keramikers Hendrik Tauché
URL:https://kirche-dll.de/termin/begegnungscafe-doelau-2/
LOCATION:Gemeindehaus Dölau\, Franz-Mehring-Str. 9b\, Halle\, 06120\, Deutschland
CATEGORIES:Senioren
END:VEVENT
BEGIN:VEVENT
DTSTART;TZID=Europe/Berlin:20231015T110000
DTEND;TZID=Europe/Berlin:20231015T123000
DTSTAMP:20260419T154105
CREATED:20230816T133744Z
LAST-MODIFIED:20230816T133744Z
UID:10008337-1697367600-1697373000@kirche-dll.de
SUMMARY:Familienkirche
DESCRIPTION:Nach dem Gottesdienst essen wir gemeinsam. Wir teilen\, was wir mitbringen.
URL:https://kirche-dll.de/termin/familienkirche-5/
LOCATION:Gemeindehaus Dölau\, Franz-Mehring-Str. 9b\, Halle\, 06120\, Deutschland
CATEGORIES:Erwachsene,Familien,Gottesdienste,Jugendliche,Kinder
END:VEVENT
BEGIN:VEVENT
DTSTART;TZID=Europe/Berlin:20230929T160000
DTEND;TZID=Europe/Berlin:20230929T190000
DTSTAMP:20260419T154105
CREATED:20230817T112204Z
LAST-MODIFIED:20230817T112204Z
UID:10008370-1696003200-1696014000@kirche-dll.de
SUMMARY:Teenie-Treff
DESCRIPTION:NEU! NEU! NEU! \nWir haben bei unserem Treffen mehr Zeit\, dafür sehen wir uns jedoch nur noch einmal im Monat. So können wir Projekte mit einem größeren Zeitbedarf umsetzen\, z.B. Nistkasten bauen\, Umweltprojekt\, in Halle etwas unternehmen …\nEure Ideen und Wünsche dürft Ihr gerne mit einbringen.\nAuch das gemeinsame Vorbereiten des Abendbrotes und Essen steht auf dem Programm.
URL:https://kirche-dll.de/termin/teenie-treff/2023-09-29/
LOCATION:Gemeindehaus Dölau\, Franz-Mehring-Str. 9b\, Halle\, 06120\, Deutschland
CATEGORIES:Kinder
END:VEVENT
BEGIN:VEVENT
DTSTART;TZID=Europe/Berlin:20230925T190000
DTEND;TZID=Europe/Berlin:20230925T210000
DTSTAMP:20260419T154105
CREATED:20230817T110132Z
LAST-MODIFIED:20230817T110132Z
UID:10008353-1695668400-1695675600@kirche-dll.de
SUMMARY:Regionaler Frauenkreis
DESCRIPTION:&#8222;Wenn die Wurzeln laufen lernen&#8230;&#8220;\nThemenabend mit Ulrike Simm
URL:https://kirche-dll.de/termin/regionaler-frauenkreis-8/
LOCATION:Gemeindehaus Dölau\, Franz-Mehring-Str. 9b\, Halle\, 06120\, Deutschland
CATEGORIES:Frauen
END:VEVENT
BEGIN:VEVENT
DTSTART;TZID=Europe/Berlin:20230918T150000
DTEND;TZID=Europe/Berlin:20230918T170000
DTSTAMP:20260419T154105
CREATED:20230817T064602Z
LAST-MODIFIED:20230817T064602Z
UID:10008351-1695049200-1695056400@kirche-dll.de
SUMMARY:Begegnungscafé Dölau
DESCRIPTION:Treffen der Generationen &#8211; Hortkinder aus Dölau besuchen uns
URL:https://kirche-dll.de/termin/begegnungscafe-doelau/
LOCATION:Gemeindehaus Dölau\, Franz-Mehring-Str. 9b\, Halle\, 06120\, Deutschland
CATEGORIES:Senioren
END:VEVENT
BEGIN:VEVENT
DTSTART;TZID=Europe/Berlin:20230914T100000
DTEND;TZID=Europe/Berlin:20230914T120000
DTSTAMP:20260419T154105
CREATED:20230817T064341Z
LAST-MODIFIED:20230817T064341Z
UID:10008349-1694685600-1694692800@kirche-dll.de
SUMMARY:Seniorenfrühstück Dölau
DESCRIPTION:
URL:https://kirche-dll.de/termin/seniorenfruehstueck-doelau/
LOCATION:Gemeindehaus Dölau\, Franz-Mehring-Str. 9b\, Halle\, 06120\, Deutschland
CATEGORIES:Senioren
END:VEVENT
BEGIN:VEVENT
DTSTART;TZID=Europe/Berlin:20230829T144500
DTEND;TZID=Europe/Berlin:20230829T160000
DTSTAMP:20260419T154105
CREATED:20230623T085806Z
LAST-MODIFIED:20230623T085806Z
UID:10008044-1693320300-1693324800@kirche-dll.de
SUMMARY:Kinderkirche Klasse 1-4
DESCRIPTION:
URL:https://kirche-dll.de/termin/kinderkirche-klasse-1-4-2/
LOCATION:Gemeindehaus Dölau\, Franz-Mehring-Str. 9b\, Halle\, 06120\, Deutschland
CATEGORIES:Kinder
END:VEVENT
BEGIN:VEVENT
DTSTART;TZID=Europe/Berlin:20230827T110000
DTEND;TZID=Europe/Berlin:20230827T123000
DTSTAMP:20260419T154105
CREATED:20230816T130916Z
LAST-MODIFIED:20230816T130916Z
UID:10008322-1693134000-1693139400@kirche-dll.de
SUMMARY:Familienkirche zum Schuljahresbeginn
DESCRIPTION:In diesem Gottesdienst verabschieden wir Ulrike Simm und begrüßen Nancy Liedtke als unsere neue Gemeindepädagogin. \nNach dem Gottesdienst essen wir gemeinsame\, was wir mitbringen.
URL:https://kirche-dll.de/termin/familienkirche-zum-schuljahresbeginn/
LOCATION:Gemeindehaus Dölau\, Franz-Mehring-Str. 9b\, Halle\, 06120\, Deutschland
CATEGORIES:Erwachsene,Familien,Gottesdienste,Jugendliche,Kinder
END:VEVENT
BEGIN:VEVENT
DTSTART;TZID=Europe/Berlin:20230821T190000
DTEND;TZID=Europe/Berlin:20230821T210000
DTSTAMP:20260419T154105
CREATED:20230816T135006Z
LAST-MODIFIED:20230816T135006Z
UID:10008343-1692644400-1692651600@kirche-dll.de
SUMMARY:Regionaler Frauenkreis
DESCRIPTION:Outdoor-Spiele und fröhliches Beisammensein
URL:https://kirche-dll.de/termin/regionaler-frauenkreis-7/
LOCATION:Gemeindehaus Dölau\, Franz-Mehring-Str. 9b\, Halle\, 06120\, Deutschland
CATEGORIES:Frauen
END:VEVENT
END:VCALENDAR