BEGIN:VCALENDAR
VERSION:2.0
PRODID:-//Evangelische Kirche DÃ¶lau-Lieskau / Lettin - ECPv6.15.17.1//NONSGML v1.0//EN
CALSCALE:GREGORIAN
METHOD:PUBLISH
X-ORIGINAL-URL:https://kirche-dll.de
X-WR-CALDESC:Veranstaltungen fÃ¼r Evangelische Kirche DÃ¶lau-Lieskau / Lettin
REFRESH-INTERVAL;VALUE=DURATION:PT1H
X-Robots-Tag:noindex
X-PUBLISHED-TTL:PT1H
BEGIN:VTIMEZONE
TZID:Europe/Berlin
BEGIN:DAYLIGHT
TZOFFSETFROM:+0100
TZOFFSETTO:+0200
TZNAME:CEST
DTSTART:20180325T010000
END:DAYLIGHT
BEGIN:STANDARD
TZOFFSETFROM:+0200
TZOFFSETTO:+0100
TZNAME:CET
DTSTART:20181028T010000
END:STANDARD
BEGIN:DAYLIGHT
TZOFFSETFROM:+0100
TZOFFSETTO:+0200
TZNAME:CEST
DTSTART:20190331T010000
END:DAYLIGHT
BEGIN:STANDARD
TZOFFSETFROM:+0200
TZOFFSETTO:+0100
TZNAME:CET
DTSTART:20191027T010000
END:STANDARD
BEGIN:DAYLIGHT
TZOFFSETFROM:+0100
TZOFFSETTO:+0200
TZNAME:CEST
DTSTART:20200329T010000
END:DAYLIGHT
BEGIN:STANDARD
TZOFFSETFROM:+0200
TZOFFSETTO:+0100
TZNAME:CET
DTSTART:20201025T010000
END:STANDARD
BEGIN:DAYLIGHT
TZOFFSETFROM:+0100
TZOFFSETTO:+0200
TZNAME:CEST
DTSTART:20210328T010000
END:DAYLIGHT
BEGIN:STANDARD
TZOFFSETFROM:+0200
TZOFFSETTO:+0100
TZNAME:CET
DTSTART:20211031T010000
END:STANDARD
END:VTIMEZONE
BEGIN:VEVENT
DTSTART;TZID=Europe/Berlin:20200906T100000
DTEND;TZID=Europe/Berlin:20200906T110000
DTSTAMP:20260419T145012
CREATED:20200716T142133Z
LAST-MODIFIED:20200716T142133Z
UID:10007062-1599386400-1599390000@kirche-dll.de
SUMMARY:Gottesdienst
DESCRIPTION:
URL:https://kirche-dll.de/termin/gottesdienst-id4470/
LOCATION:Bonhoeffer-Kapelle im Krankenhaus Martha-Maria\, RÃ¶ntgenstraÃŸe 1\, Halle\, 06120\, Deutschland
CATEGORIES:Gottesdienste
END:VEVENT
BEGIN:VEVENT
DTSTART;TZID=Europe/Berlin:20200802T100000
DTEND;TZID=Europe/Berlin:20200802T103000
DTSTAMP:20260419T145013
CREATED:20200529T110512Z
LAST-MODIFIED:20200529T111139Z
UID:10007055-1596362400-1596364200@kirche-dll.de
SUMMARY:Gottesdienst
DESCRIPTION:Denken Sie bitte daran\, Ihren Mundschutz mitzubringen und halten Sie die Hygieneregeln ein. Vielen Dank! \n 
URL:https://kirche-dll.de/termin/gottesdienst-id4341/
LOCATION:Bonhoeffer-Kapelle im Krankenhaus Martha-Maria\, RÃ¶ntgenstraÃŸe 1\, Halle\, 06120\, Deutschland
CATEGORIES:Gottesdienste
END:VEVENT
BEGIN:VEVENT
DTSTART;TZID=Europe/Berlin:20200607T100000
DTEND;TZID=Europe/Berlin:20200607T103000
DTSTAMP:20260419T145013
CREATED:20200529T103639Z
LAST-MODIFIED:20200529T103639Z
UID:10007044-1591524000-1591525800@kirche-dll.de
SUMMARY:Gottesdienst zum Trinitatisfest
DESCRIPTION:Denken Sie bitte daran\, Ihren Mundschutz mitzubringen und halten Sie die Hygieneregeln ein. Vielen Dank!
URL:https://kirche-dll.de/termin/gottesdienst-zum-trinitatisfest-id4315/
LOCATION:Bonhoeffer-Kapelle im Krankenhaus Martha-Maria\, RÃ¶ntgenstraÃŸe 1\, Halle\, 06120\, Deutschland
CATEGORIES:Gottesdienste
END:VEVENT
BEGIN:VEVENT
DTSTART;TZID=Europe/Berlin:20200301T100000
DTEND;TZID=Europe/Berlin:20200301T110000
DTSTAMP:20260419T145013
CREATED:20200204T121334Z
LAST-MODIFIED:20200204T121335Z
UID:10007006-1583056800-1583060400@kirche-dll.de
SUMMARY:Gottesdienst
DESCRIPTION:
URL:https://kirche-dll.de/termin/gottesdienst-id3320/
LOCATION:Bonhoeffer-Kapelle im Krankenhaus Martha-Maria\, RÃ¶ntgenstraÃŸe 1\, Halle\, 06120\, Deutschland
CATEGORIES:Gottesdienste
END:VEVENT
BEGIN:VEVENT
DTSTART;TZID=Europe/Berlin:20200202T100000
DTEND;TZID=Europe/Berlin:20200202T110000
DTSTAMP:20260419T145013
CREATED:20200128T123521Z
LAST-MODIFIED:20200128T125027Z
UID:10006988-1580637600-1580641200@kirche-dll.de
SUMMARY:Gottesdienst
DESCRIPTION:
URL:https://kirche-dll.de/termin/gottesdienst-id3278/
LOCATION:Bonhoeffer-Kapelle im Krankenhaus Martha-Maria\, RÃ¶ntgenstraÃŸe 1\, Halle\, 06120\, Deutschland
CATEGORIES:Gottesdienste
END:VEVENT
BEGIN:VEVENT
DTSTART;TZID=Europe/Berlin:20200101T110000
DTEND;TZID=Europe/Berlin:20200101T120000
DTSTAMP:20260419T145013
CREATED:20190819T201349Z
LAST-MODIFIED:20191124T154602Z
UID:10006800-1577876400-1577880000@kirche-dll.de
SUMMARY:Ã–kumenischer Gottesdienst
DESCRIPTION:Predigt zur Jahreslosung 2020\nPastorin Sabine Schober\, Pastor Stefan Gerisch\, Pastor Winfried Bolay\, Diakon Thomas WÃ¼nsch und Pfarrer Eckart Warner
URL:https://kirche-dll.de/termin/oekumenischer-gottesdienst-id448/
LOCATION:Bonhoeffer-Kapelle im Krankenhaus Martha-Maria\, RÃ¶ntgenstraÃŸe 1\, Halle\, 06120\, Deutschland
CATEGORIES:Gottesdienste
END:VEVENT
BEGIN:VEVENT
DTSTART;TZID=Europe/Berlin:20191225T100000
DTEND;TZID=Europe/Berlin:20191225T110000
DTSTAMP:20260419T145013
CREATED:20190819T201349Z
LAST-MODIFIED:20191124T154330Z
UID:10006796-1577268000-1577271600@kirche-dll.de
SUMMARY:Gottesdienst mit methodistischer Gemeinde
DESCRIPTION:Pfarrer Eckart Warner
URL:https://kirche-dll.de/termin/gottesdienst-mit-methodistischer-gemeinde-id438/
LOCATION:Bonhoeffer-Kapelle im Krankenhaus Martha-Maria\, RÃ¶ntgenstraÃŸe 1\, Halle\, 06120\, Deutschland
CATEGORIES:Gottesdienste
END:VEVENT
BEGIN:VEVENT
DTSTART;TZID=Europe/Berlin:20191201T100000
DTEND;TZID=Europe/Berlin:20191201T100000
DTSTAMP:20260419T145013
CREATED:20190819T201349Z
LAST-MODIFIED:20191124T153501Z
UID:10006778-1575194400-1575194400@kirche-dll.de
SUMMARY:Gottesdienst
DESCRIPTION:
URL:https://kirche-dll.de/termin/gottesdienst-id398/
LOCATION:Bonhoeffer-Kapelle im Krankenhaus Martha-Maria\, RÃ¶ntgenstraÃŸe 1\, Halle\, 06120\, Deutschland
CATEGORIES:Gottesdienste
END:VEVENT
END:VCALENDAR